BEGIN:VCALENDAR
VERSION:2.0
PRODID:-//European Newsroom - ECPv6.15.18//NONSGML v1.0//EN
CALSCALE:GREGORIAN
METHOD:PUBLISH
X-WR-CALNAME:European Newsroom
X-ORIGINAL-URL:https://europeannewsroom.com
X-WR-CALDESC:Events for European Newsroom
REFRESH-INTERVAL;VALUE=DURATION:PT1H
X-Robots-Tag:noindex
X-PUBLISHED-TTL:PT1H
BEGIN:VTIMEZONE
TZID:Europe/Berlin
BEGIN:DAYLIGHT
TZOFFSETFROM:+0100
TZOFFSETTO:+0200
TZNAME:CEST
DTSTART:20240331T010000
END:DAYLIGHT
BEGIN:STANDARD
TZOFFSETFROM:+0200
TZOFFSETTO:+0100
TZNAME:CET
DTSTART:20241027T010000
END:STANDARD
BEGIN:DAYLIGHT
TZOFFSETFROM:+0100
TZOFFSETTO:+0200
TZNAME:CEST
DTSTART:20250330T010000
END:DAYLIGHT
BEGIN:STANDARD
TZOFFSETFROM:+0200
TZOFFSETTO:+0100
TZNAME:CET
DTSTART:20251026T010000
END:STANDARD
BEGIN:DAYLIGHT
TZOFFSETFROM:+0100
TZOFFSETTO:+0200
TZNAME:CEST
DTSTART:20260329T010000
END:DAYLIGHT
BEGIN:STANDARD
TZOFFSETFROM:+0200
TZOFFSETTO:+0100
TZNAME:CET
DTSTART:20261025T010000
END:STANDARD
END:VTIMEZONE
BEGIN:VEVENT
DTSTART;VALUE=DATE:20250630
DTEND;VALUE=DATE:20250702
DTSTAMP:20260420T151919
CREATED:20250630T104748Z
LAST-MODIFIED:20250630T105118Z
UID:1370681-1751241600-1751414399@europeannewsroom.com
SUMMARY:EU Commission Vice-President Teresa Ribera in Spain
DESCRIPTION:holds Implementation Dialogue\, Focusing on Important Projects of Common European Interest (IPCEIs);\ndelivers a speech at the Closing Ceremony of the 2024–2025 Academic Year of FIDE (june 30\, Madrid);\nvisits the Doñana Nature Reserve (july 1\, Doñana).
URL:https://europeannewsroom.com/agenda/eu-commission-vice-president-terea-ribera-in-spain/
LOCATION:Spain\, Spain
END:VEVENT
BEGIN:VEVENT
DTSTART;TZID=Europe/Berlin:20250630T183000
DTEND;TZID=Europe/Berlin:20250702T183000
DTSTAMP:20260420T151919
CREATED:20250630T110328Z
LAST-MODIFIED:20250630T110328Z
UID:1371014-1751308200-1751481000@europeannewsroom.com
SUMMARY:European Central Bank Forum on Central Banking
DESCRIPTION:
URL:https://europeannewsroom.com/agenda/european-central-bank-forum-on-central-banking/
LOCATION:Sintra\, Portugal
END:VEVENT
BEGIN:VEVENT
DTSTART;VALUE=DATE:20250701
DTEND;VALUE=DATE:20250702
DTSTAMP:20260420T151919
CREATED:20250627T091556Z
LAST-MODIFIED:20250627T091556Z
UID:1365607-1751328000-1751414399@europeannewsroom.com
SUMMARY:Denmark takes over the Presidency of the Council of the European Union
DESCRIPTION:
URL:https://europeannewsroom.com/agenda/denmark-takes-over-the-presidency-of-the-council-of-the-european-union/
LOCATION:Copenhagen\, Denmark
END:VEVENT
BEGIN:VEVENT
DTSTART;VALUE=DATE:20250701
DTEND;VALUE=DATE:20250702
DTSTAMP:20260420T151919
CREATED:20250701T081419Z
LAST-MODIFIED:20250701T081419Z
UID:1377435-1751328000-1751414399@europeannewsroom.com
SUMMARY:EU Commission President von der Leyen exchanges views with the Bavarian Council of Ministers
DESCRIPTION:press conference live (13:45)
URL:https://europeannewsroom.com/agenda/eu-commission-president-von-der-leyen-exchanges-views-with-the-bavarian-council-of-ministers/
LOCATION:Brussels
END:VEVENT
BEGIN:VEVENT
DTSTART;VALUE=DATE:20250701
DTEND;VALUE=DATE:20250702
DTSTAMP:20260420T151919
CREATED:20250701T081728Z
LAST-MODIFIED:20250701T081728Z
UID:1377444-1751328000-1751414399@europeannewsroom.com
SUMMARY:World Economic Forum’s Inaugural Meeting of "Leaders for European Growth and Competitiveness"
DESCRIPTION:President of the European Council António Costa\, EU Commission President Ursula von der Leyen\, Vice-President Henna Virkunnen and EU Commissioners Michael McGrath and Dan Jørgensen participate;\nfurther information.
URL:https://europeannewsroom.com/agenda/world-economic-forums-inaugural-meeting-of-leaders-for-european-growth-and-competitiveness/
LOCATION:Brussels
END:VEVENT
BEGIN:VEVENT
DTSTART;TZID=Europe/Berlin:20250701T100000
DTEND;TZID=Europe/Berlin:20250701T100000
DTSTAMP:20260420T151919
CREATED:20250701T081028Z
LAST-MODIFIED:20250701T081028Z
UID:1377379-1751364000-1751364000@europeannewsroom.com
SUMMARY:Western Balkans Leaders Meeting
DESCRIPTION:opening by North Macedonian Prime Minister Hristijan Mickoswki and EU Commissioner Marta Kos;\nlivestream.
URL:https://europeannewsroom.com/agenda/western-balkans-leaders-meeting/
LOCATION:Skopje\, North Macedonia
END:VEVENT
BEGIN:VEVENT
DTSTART;TZID=Europe/Berlin:20250701T181500
DTEND;TZID=Europe/Berlin:20250701T194500
DTSTAMP:20260420T151919
CREATED:20250701T085422Z
LAST-MODIFIED:20250701T090043Z
UID:1377588-1751393700-1751399100@europeannewsroom.com
SUMMARY:Event 'Together for Europe - What new impetus must Germany\, France and Poland provide now?'
DESCRIPTION:
URL:https://europeannewsroom.com/agenda/event-what-new-impetus-should-germany-france-and-poland-provide-now/
LOCATION:Bonn\, Germany
END:VEVENT
BEGIN:VEVENT
DTSTART;VALUE=DATE:20250702
DTEND;VALUE=DATE:20250703
DTSTAMP:20260420T151919
CREATED:20250701T081944Z
LAST-MODIFIED:20250701T081944Z
UID:1377453-1751414400-1751500799@europeannewsroom.com
SUMMARY:EU Commission Vice-President Raffaele Fitto meets Slovak Minister of Investments Samuel Migaľ
DESCRIPTION:
URL:https://europeannewsroom.com/agenda/eu-commission-vice-president-raffaele-fitto-meets-slovak-minister-of-investments-samuel-migal/
LOCATION:Brussels
END:VEVENT
BEGIN:VEVENT
DTSTART;VALUE=DATE:20250702
DTEND;VALUE=DATE:20250703
DTSTAMP:20260420T151919
CREATED:20250701T082150Z
LAST-MODIFIED:20250701T082150Z
UID:1377462-1751414400-1751500799@europeannewsroom.com
SUMMARY:College of EU Commissioners
DESCRIPTION:press conference live
URL:https://europeannewsroom.com/agenda/college-of-eu-commissioners-41/
LOCATION:Brussels
END:VEVENT
BEGIN:VEVENT
DTSTART;VALUE=DATE:20250702
DTEND;VALUE=DATE:20250703
DTSTAMP:20260420T151919
CREATED:20250701T082414Z
LAST-MODIFIED:20250701T082414Z
UID:1377471-1751414400-1751500799@europeannewsroom.com
SUMMARY:EU Commission President Ursula von der Leyen meets Minister-President of the German State North Rhine-Westphalia Hendrik Wüst
DESCRIPTION:
URL:https://europeannewsroom.com/agenda/eu-commission-president-ursula-von-der-leyen-meets-minister-president-of-the-german-state-north-rhine-westphalia-hendrik-wust/
LOCATION:Brussels
END:VEVENT
BEGIN:VEVENT
DTSTART;VALUE=DATE:20250702
DTEND;VALUE=DATE:20250703
DTSTAMP:20260420T151919
CREATED:20250701T082809Z
LAST-MODIFIED:20250701T082809Z
UID:1377483-1751414400-1751500799@europeannewsroom.com
SUMMARY:Clean Industrial Stakeholder Dialogue on Circularity
DESCRIPTION:EU Commission Vice-Presidents Teresa Ribera and Stéphane Séjourné\, EU Commissioner Jessica Roswall participate;\nvideo recordings.
URL:https://europeannewsroom.com/agenda/clean-industrial-stakeholder-dialogue-on-circularity/
LOCATION:Brussels
END:VEVENT
BEGIN:VEVENT
DTSTART;VALUE=DATE:20250702
DTEND;VALUE=DATE:20250703
DTSTAMP:20260420T151919
CREATED:20250701T084927Z
LAST-MODIFIED:20250701T084927Z
UID:1377579-1751414400-1751500799@europeannewsroom.com
SUMMARY:Eurostat publishes unemployment data for May 2025
DESCRIPTION:
URL:https://europeannewsroom.com/agenda/eurostat-publishes-unemployment-data-for-may-2025/
LOCATION:ONLINE
END:VEVENT
BEGIN:VEVENT
DTSTART;TZID=Europe/Berlin:20250702T091500
DTEND;TZID=Europe/Berlin:20250702T153000
DTSTAMP:20260420T151919
CREATED:20250627T092101Z
LAST-MODIFIED:20250627T092101Z
UID:1365611-1751447700-1751470200@europeannewsroom.com
SUMMARY:Conference 'Building green and inclusive – Making our communities future-proof'
DESCRIPTION:
URL:https://europeannewsroom.com/agenda/conference-building-green-and-inclusive-making-our-communities-future-proof/
LOCATION:Copenhagen\, Denmark
END:VEVENT
BEGIN:VEVENT
DTSTART;TZID=Europe/Berlin:20250702T150000
DTEND;TZID=Europe/Berlin:20250703T130000
DTSTAMP:20260420T151919
CREATED:20250627T091805Z
LAST-MODIFIED:20250627T093848Z
UID:1365609-1751468400-1751547600@europeannewsroom.com
SUMMARY:European Committee of the Regions plenary session
DESCRIPTION:
URL:https://europeannewsroom.com/agenda/european-committee-of-the-regions-plenary-session-9/
LOCATION:Brussels
END:VEVENT
BEGIN:VEVENT
DTSTART;VALUE=DATE:20250703
DTEND;VALUE=DATE:20250705
DTSTAMP:20260420T151919
CREATED:20250701T083123Z
LAST-MODIFIED:20250701T083123Z
UID:1377537-1751500800-1751673599@europeannewsroom.com
SUMMARY:College of EU Commissioners visit to Denmark
DESCRIPTION:on the occasion of the Danish Presidency of the Council of the European Union
URL:https://europeannewsroom.com/agenda/college-of-eu-commissioners-visit-to-denmark/
LOCATION:Denmark
END:VEVENT
BEGIN:VEVENT
DTSTART;VALUE=DATE:20250703
DTEND;VALUE=DATE:20250704
DTSTAMP:20260420T151919
CREATED:20250701T084614Z
LAST-MODIFIED:20250701T084614Z
UID:1377568-1751500800-1751587199@europeannewsroom.com
SUMMARY:Eurostat shares initial release of household and business accounts and balance of payments for the first quarter of the year
DESCRIPTION:
URL:https://europeannewsroom.com/agenda/eurostat-shares-initial-release-of-household-and-business-accounts-and-balance-of-payments-for-the-first-quarter-of-the-year/
LOCATION:ONLINE
END:VEVENT
BEGIN:VEVENT
DTSTART;VALUE=DATE:20250704
DTEND;VALUE=DATE:20250705
DTSTAMP:20260420T151919
CREATED:20250627T093646Z
LAST-MODIFIED:20250627T094009Z
UID:1365614-1751587200-1751673599@europeannewsroom.com
SUMMARY:EU-Moldova summit
DESCRIPTION:
URL:https://europeannewsroom.com/agenda/eu-moldova-summit/
LOCATION:Chișinău\, Moldova\, Republic of
END:VEVENT
BEGIN:VEVENT
DTSTART;VALUE=DATE:20250704
DTEND;VALUE=DATE:20250705
DTSTAMP:20260420T151919
CREATED:20250701T083352Z
LAST-MODIFIED:20250701T083449Z
UID:1377545-1751587200-1751673599@europeannewsroom.com
SUMMARY:EU Commissioner Dan Jørgensen in Denmark
DESCRIPTION:delivers a presentation at Innargi’s geothermal heating facility in Aarhus.
URL:https://europeannewsroom.com/agenda/eu-commissioner-dan-jorgensen-in-aarhus/
LOCATION:Aarhus\, Denmark
END:VEVENT
BEGIN:VEVENT
DTSTART;VALUE=DATE:20250704
DTEND;VALUE=DATE:20250705
DTSTAMP:20260420T151919
CREATED:20250701T084323Z
LAST-MODIFIED:20250701T084323Z
UID:1377561-1751587200-1751673599@europeannewsroom.com
SUMMARY:Eurostat releases industrial producer prices for the domestic market in May 2025
DESCRIPTION:and the house price index for the first quarter of this year.
URL:https://europeannewsroom.com/agenda/eurostat-releases-industrial-producer-prices-for-the-domestic-market-in-may-2025/
LOCATION:ONLINE
END:VEVENT
BEGIN:VEVENT
DTSTART;VALUE=DATE:20250707
DTEND;VALUE=DATE:20250708
DTSTAMP:20260420T151919
CREATED:20250704T112442Z
LAST-MODIFIED:20250704T120901Z
UID:1396155-1751846400-1751932799@europeannewsroom.com
SUMMARY:MEPs mark the 30th anniversary of the Srebrenica genocide
DESCRIPTION:
URL:https://europeannewsroom.com/agenda/30th-anniversary-of-the-srebrenica-genocide/
LOCATION:European Parliament Strasbourg\, Belgien
END:VEVENT
BEGIN:VEVENT
DTSTART;VALUE=DATE:20250707
DTEND;VALUE=DATE:20250708
DTSTAMP:20260420T151919
CREATED:20250707T091656Z
LAST-MODIFIED:20250707T091656Z
UID:1402209-1751846400-1751932799@europeannewsroom.com
SUMMARY:EU Commissioner Dan Jørgensen in France
DESCRIPTION:visits a nuclear power plant.
URL:https://europeannewsroom.com/agenda/eu-commissioner-dan-jorgensen-in-france/
LOCATION:Cattenom\, France
END:VEVENT
BEGIN:VEVENT
DTSTART;VALUE=DATE:20250707
DTEND;VALUE=DATE:20250708
DTSTAMP:20260420T151919
CREATED:20250707T091744Z
LAST-MODIFIED:20250707T091744Z
UID:1402212-1751846400-1751932799@europeannewsroom.com
SUMMARY:EU Commission Vice-President Henna Virkunnen in Germany
DESCRIPTION:visits High Performance Computing Centre Stuttgart and HammerHAI AI Factory;\nvisits Test Area Autonomous Driving Baden-Württemberg (TAF BW);\nmeets Winfried Hermann\, Minister of Transport of Baden-Württemberg and Dr Frank Mentrup\, Lord Mayor of the City of Karlsruhe.
URL:https://europeannewsroom.com/agenda/eu-commission-vice-president-henna-virkunnen-in-germany/
LOCATION:Stuttgart\, Germany
END:VEVENT
BEGIN:VEVENT
DTSTART;VALUE=DATE:20250707
DTEND;VALUE=DATE:20250708
DTSTAMP:20260420T151919
CREATED:20250707T092004Z
LAST-MODIFIED:20250707T092004Z
UID:1402216-1751846400-1751932799@europeannewsroom.com
SUMMARY:EU Commission President Ursula von der Leyen meets EU Parliament President Roberta Metsola
DESCRIPTION:
URL:https://europeannewsroom.com/agenda/eu-commission-president-ursula-von-der-leyen-meets-eu-parliament-president-roberta-metsola-3/
LOCATION:Strasbourg\, France
END:VEVENT
BEGIN:VEVENT
DTSTART;VALUE=DATE:20250707
DTEND;VALUE=DATE:20250708
DTSTAMP:20260420T151919
CREATED:20250707T092141Z
LAST-MODIFIED:20250707T092141Z
UID:1402218-1751846400-1751932799@europeannewsroom.com
SUMMARY:EU Commission President Ursula von der Leyen receives several EU Parliament Political Group Chairs
DESCRIPTION:
URL:https://europeannewsroom.com/agenda/eu-commission-president-ursula-von-der-leyen-receives-several-eu-parliament-political-group-chairs/
LOCATION:Strasbourg\, France
END:VEVENT
BEGIN:VEVENT
DTSTART;TZID=Europe/Berlin:20250707T132000
DTEND;TZID=Europe/Berlin:20250708T143000
DTSTAMP:20260420T151919
CREATED:20250704T112736Z
LAST-MODIFIED:20250704T112736Z
UID:1396158-1751894400-1751985000@europeannewsroom.com
SUMMARY:Informal meeting of EU employment ministers
DESCRIPTION:livestream
URL:https://europeannewsroom.com/agenda/informal-meeting-of-eu-employment-ministers/
LOCATION:Aalborg\, Denmark
END:VEVENT
BEGIN:VEVENT
DTSTART;TZID=Europe/Berlin:20250707T150000
DTEND;TZID=Europe/Berlin:20250707T150000
DTSTAMP:20260420T151919
CREATED:20250707T092627Z
LAST-MODIFIED:20250707T092627Z
UID:1402222-1751900400-1751900400@europeannewsroom.com
SUMMARY:Eurogroup
DESCRIPTION:agenda\nlivestream
URL:https://europeannewsroom.com/agenda/eurogroup-14/
LOCATION:Brussels
END:VEVENT
BEGIN:VEVENT
DTSTART;TZID=Europe/Berlin:20250707T170000
DTEND;TZID=Europe/Berlin:20250710T160000
DTSTAMP:20260420T151919
CREATED:20250704T114559Z
LAST-MODIFIED:20250704T114559Z
UID:1396229-1751907600-1752163200@europeannewsroom.com
SUMMARY:EU Parliament plenary session
DESCRIPTION:agenda\nlivestream\n\njuly 7\, 17:00 – 22:00\njuly 8\, 09:00 – 22:00\njuly 9\, 09:00 – 22:00\njuly 10\, 09:00 – 16:00
URL:https://europeannewsroom.com/agenda/eu-parliament-plenary-session-19/
LOCATION:European Parliament Strasbourg\, Belgien
END:VEVENT
BEGIN:VEVENT
DTSTART;VALUE=DATE:20250708
DTEND;VALUE=DATE:20250710
DTSTAMP:20260420T151919
CREATED:20250707T093646Z
LAST-MODIFIED:20250707T093646Z
UID:1402258-1751932800-1752105599@europeannewsroom.com
SUMMARY:Meeting of Directors General for European Affairs
DESCRIPTION:
URL:https://europeannewsroom.com/agenda/meeting-of-directors-general-for-european-affairs/
LOCATION:Aalborg\, Denmark
END:VEVENT
BEGIN:VEVENT
DTSTART;VALUE=DATE:20250708
DTEND;VALUE=DATE:20250709
DTSTAMP:20260420T151919
CREATED:20250710T083851Z
LAST-MODIFIED:20250710T083851Z
UID:1418848-1751932800-1752019199@europeannewsroom.com
SUMMARY:College of EU Commissioners
DESCRIPTION:press conference live
URL:https://europeannewsroom.com/agenda/college-of-eu-commissioners-42/
LOCATION:Strasbourg\, France
END:VEVENT
BEGIN:VEVENT
DTSTART;TZID=Europe/Berlin:20250708T093000
DTEND;TZID=Europe/Berlin:20250708T150000
DTSTAMP:20260420T151919
CREATED:20250707T092406Z
LAST-MODIFIED:20250707T092422Z
UID:1402220-1751967000-1751986800@europeannewsroom.com
SUMMARY:EU Parliament Political Groups press briefings
DESCRIPTION:livestream
URL:https://europeannewsroom.com/agenda/eu-parliament-political-groups-press-briefings-5/
LOCATION:Strasbourg\, France
END:VEVENT
END:VCALENDAR