BEGIN:VCALENDAR
VERSION:2.0
PRODID:-//European Newsroom - ECPv6.15.18//NONSGML v1.0//EN
CALSCALE:GREGORIAN
METHOD:PUBLISH
X-WR-CALNAME:European Newsroom
X-ORIGINAL-URL:https://europeannewsroom.com
X-WR-CALDESC:Events for European Newsroom
REFRESH-INTERVAL;VALUE=DURATION:PT1H
X-Robots-Tag:noindex
X-PUBLISHED-TTL:PT1H
BEGIN:VTIMEZONE
TZID:Europe/Berlin
BEGIN:DAYLIGHT
TZOFFSETFROM:+0100
TZOFFSETTO:+0200
TZNAME:CEST
DTSTART:20240331T010000
END:DAYLIGHT
BEGIN:STANDARD
TZOFFSETFROM:+0200
TZOFFSETTO:+0100
TZNAME:CET
DTSTART:20241027T010000
END:STANDARD
BEGIN:DAYLIGHT
TZOFFSETFROM:+0100
TZOFFSETTO:+0200
TZNAME:CEST
DTSTART:20250330T010000
END:DAYLIGHT
BEGIN:STANDARD
TZOFFSETFROM:+0200
TZOFFSETTO:+0100
TZNAME:CET
DTSTART:20251026T010000
END:STANDARD
BEGIN:DAYLIGHT
TZOFFSETFROM:+0100
TZOFFSETTO:+0200
TZNAME:CEST
DTSTART:20260329T010000
END:DAYLIGHT
BEGIN:STANDARD
TZOFFSETFROM:+0200
TZOFFSETTO:+0100
TZNAME:CET
DTSTART:20261025T010000
END:STANDARD
END:VTIMEZONE
BEGIN:VEVENT
DTSTART;VALUE=DATE:20250926
DTEND;VALUE=DATE:20250927
DTSTAMP:20260421T061555
CREATED:20250918T175142Z
LAST-MODIFIED:20250918T175142Z
UID:1628895-1758844800-1758931199@europeannewsroom.com
SUMMARY:European Day of Languages
DESCRIPTION:
URL:https://europeannewsroom.com/agenda/european-day-of-languages/
LOCATION:European Union
END:VEVENT
BEGIN:VEVENT
DTSTART;VALUE=DATE:20250928
DTEND;VALUE=DATE:20251001
DTSTAMP:20260421T061555
CREATED:20250926T081503Z
LAST-MODIFIED:20250926T081503Z
UID:1651907-1759017600-1759276799@europeannewsroom.com
SUMMARY:Salzburg Europe Summit
DESCRIPTION:EU Commissioners Johannes Hahn and Magnus Brunner participate;\nlivestream available;\nprogramme.
URL:https://europeannewsroom.com/agenda/salzburg-europe-summit/
LOCATION:Salzburg\, Austria
END:VEVENT
BEGIN:VEVENT
DTSTART;VALUE=DATE:20250928
DTEND;VALUE=DATE:20251001
DTSTAMP:20260421T061555
CREATED:20250929T192356Z
LAST-MODIFIED:20250929T192356Z
UID:1659294-1759017600-1759276799@europeannewsroom.com
SUMMARY:Interparliamentery conference on stability\, economic coordination and Governance in the EU
DESCRIPTION:
URL:https://europeannewsroom.com/agenda/interparliamentery-conference-on-stability-economic-coordination-and-governance-in-the-eu/
LOCATION:Billund\, Denmark
END:VEVENT
BEGIN:VEVENT
DTSTART;VALUE=DATE:20250929
DTEND;VALUE=DATE:20251001
DTSTAMP:20260421T061555
CREATED:20250819T080930Z
LAST-MODIFIED:20250819T081607Z
UID:1544197-1759104000-1759276799@europeannewsroom.com
SUMMARY:EU Competitiveness Council
DESCRIPTION:Internal Market and Industry Council (September 29);\nResearch Council (September 30);\nlivestream
URL:https://europeannewsroom.com/agenda/eu-competitiveness-council-internal-market-and-industry-6/
LOCATION:Brussels
END:VEVENT
BEGIN:VEVENT
DTSTART;VALUE=DATE:20250929
DTEND;VALUE=DATE:20251001
DTSTAMP:20260421T061555
CREATED:20250819T082335Z
LAST-MODIFIED:20250819T082335Z
UID:1544214-1759104000-1759276799@europeannewsroom.com
SUMMARY:Informal meeting of EU ministers for development
DESCRIPTION:
URL:https://europeannewsroom.com/agenda/informal-meeting-of-eu-ministers-for-development-3/
LOCATION:Copenhagen\, Denmark
END:VEVENT
BEGIN:VEVENT
DTSTART;VALUE=DATE:20250929
DTEND;VALUE=DATE:20251001
DTSTAMP:20260421T061555
CREATED:20250926T081555Z
LAST-MODIFIED:20250926T081555Z
UID:1651910-1759104000-1759276799@europeannewsroom.com
SUMMARY:High-level conference on affordable and sustainable housing
DESCRIPTION:
URL:https://europeannewsroom.com/agenda/high-level-conference-on-affordable-and-sustainable-housing/
LOCATION:Copenhagen\, Denmark
END:VEVENT
BEGIN:VEVENT
DTSTART;VALUE=DATE:20250929
DTEND;VALUE=DATE:20250930
DTSTAMP:20260421T061555
CREATED:20250929T184234Z
LAST-MODIFIED:20250929T184234Z
UID:1658903-1759104000-1759190399@europeannewsroom.com
SUMMARY:EU Commissioner Andrius Kubilius meets several European ministers
DESCRIPTION:meets Władysław Kosiniak-Kamysz\, Minister for National Defence of Poland;\nmeets Troels Lund Poulsen\, Minister for Defence of Denmark;\nmeets Radosław Sikorski\, Minister for Foreign Affairs of Poland;\nmeets Ruben Brekelmans\, Minister for Defence of the Netherlands.
URL:https://europeannewsroom.com/agenda/eu-commissioner-andrius-kubilius-meets-several-european-ministers/
LOCATION:Warsaw\, Poland
END:VEVENT
BEGIN:VEVENT
DTSTART;VALUE=DATE:20250929
DTEND;VALUE=DATE:20250930
DTSTAMP:20260421T061555
CREATED:20250929T184451Z
LAST-MODIFIED:20250929T184451Z
UID:1658931-1759104000-1759190399@europeannewsroom.com
SUMMARY:EU Commissioner Dan Jørgensen meets German Minister for Housing Verena Hubertz
DESCRIPTION:
URL:https://europeannewsroom.com/agenda/eu-commissioner-dan-jorgensen-meets-german-minister-for-housing-verena-hubertz/
LOCATION:Copenhagen\, Denmark
END:VEVENT
BEGIN:VEVENT
DTSTART;VALUE=DATE:20250929
DTEND;VALUE=DATE:20250930
DTSTAMP:20260421T061555
CREATED:20250929T184612Z
LAST-MODIFIED:20250929T184612Z
UID:1658941-1759104000-1759190399@europeannewsroom.com
SUMMARY:EU Commission Vice-President Stéphane Séjourné meets several European Ministers
DESCRIPTION:meets German Minister for Economic Affairs Katherina Reiche;\nmeets Italian Minister of Enterprise Adolfo Urso;\nmeets Polish Minister of Finance Andrzej Domański.
URL:https://europeannewsroom.com/agenda/eu-commission-vice-president-stephane-sejourne-meets-several-european-ministers/
LOCATION:Brussels
END:VEVENT
BEGIN:VEVENT
DTSTART;VALUE=DATE:20250929
DTEND;VALUE=DATE:20250930
DTSTAMP:20260421T061555
CREATED:20250929T185026Z
LAST-MODIFIED:20250929T185026Z
UID:1659021-1759104000-1759190399@europeannewsroom.com
SUMMARY:EU Commissioner Glenn Micallef in Spain
DESCRIPTION:meets Ernest Urtasun\, Minister of Culture of Spain;\nhosts the side event ‘Elevating culture\, enhancing well-being’ in the margins of Mondiacult 2025.
URL:https://europeannewsroom.com/agenda/eu-commissioner-glenn-micallef-in-spain/
LOCATION:Barcelona\, Spain
END:VEVENT
BEGIN:VEVENT
DTSTART;TZID=Europe/Berlin:20250929T100000
DTEND;TZID=Europe/Berlin:20250930T183000
DTSTAMP:20260421T061555
CREATED:20250929T182552Z
LAST-MODIFIED:20250929T182552Z
UID:1658413-1759140000-1759257000@europeannewsroom.com
SUMMARY:Warsaw Security Forum
DESCRIPTION:EU Commissioners Andrius Kubilius and Michael McGrath participate.
URL:https://europeannewsroom.com/agenda/warsaw-security-forum-3/
LOCATION:Warsaw\, Poland
END:VEVENT
BEGIN:VEVENT
DTSTART;VALUE=DATE:20250930
DTEND;VALUE=DATE:20251001
DTSTAMP:20260421T061555
CREATED:20250929T185625Z
LAST-MODIFIED:20250929T185625Z
UID:1659079-1759190400-1759276799@europeannewsroom.com
SUMMARY:College of EU Commissioners
DESCRIPTION:press conference live
URL:https://europeannewsroom.com/agenda/college-of-eu-commissioners-44/
LOCATION:Brussels
END:VEVENT
BEGIN:VEVENT
DTSTART;VALUE=DATE:20250930
DTEND;VALUE=DATE:20251001
DTSTAMP:20260421T061555
CREATED:20250929T185854Z
LAST-MODIFIED:20250929T185854Z
UID:1659137-1759190400-1759276799@europeannewsroom.com
SUMMARY:EU Commissioner Michael McGrath meets Deutsche Presse-Agentur CEO Peter Kropsch
DESCRIPTION:
URL:https://europeannewsroom.com/agenda/eu-commissioner-michael-mcgrath-meets-deutsche-presse-agentur-ceo-peter-kropsch/
LOCATION:Brussels
END:VEVENT
BEGIN:VEVENT
DTSTART;TZID=Europe/Berlin:20250930T080000
DTEND;TZID=Europe/Berlin:20250930T170000
DTSTAMP:20260421T061555
CREATED:20250926T081729Z
LAST-MODIFIED:20250926T081729Z
UID:1651912-1759219200-1759251600@europeannewsroom.com
SUMMARY:Our Baltic Ministerial Conference
DESCRIPTION:
URL:https://europeannewsroom.com/agenda/our-baltic-ministerial-conference/
LOCATION:Stockholm\, Sweden
END:VEVENT
BEGIN:VEVENT
DTSTART;TZID=Europe/Berlin:20250930T080000
DTEND;TZID=Europe/Berlin:20250930T170000
DTSTAMP:20260421T061555
CREATED:20250929T190124Z
LAST-MODIFIED:20250929T190124Z
UID:1659165-1759219200-1759251600@europeannewsroom.com
SUMMARY:Transatlantic Forum on GeoEconomics
DESCRIPTION:EU Commission Vice-President Teresa Ribera and EU Commissioners Valdis Dombrovskis and Maroš Šefčovič participate;\nprogramme.
URL:https://europeannewsroom.com/agenda/transatlantic-forum-on-geoeconomics/
LOCATION:Brussels
END:VEVENT
BEGIN:VEVENT
DTSTART;TZID=Europe/Berlin:20250930T170000
DTEND;TZID=Europe/Berlin:20250930T170000
DTSTAMP:20260421T061555
CREATED:20250929T185249Z
LAST-MODIFIED:20250929T185249Z
UID:1659049-1759251600-1759251600@europeannewsroom.com
SUMMARY:The New European Bauhaus Prizes 2025 Award Ceremony
DESCRIPTION:EU Commission Vice-President Henna Virkunnen and EU Commissioner Dan Jørgensen participate.
URL:https://europeannewsroom.com/agenda/the-new-european-bauhaus-prizes-2025-award-ceremony/
LOCATION:European Parliament Brussels\, Belgium
END:VEVENT
BEGIN:VEVENT
DTSTART;VALUE=DATE:20251001
DTEND;VALUE=DATE:20251002
DTSTAMP:20260421T061555
CREATED:20250819T083453Z
LAST-MODIFIED:20250926T072429Z
UID:1544219-1759276800-1759363199@europeannewsroom.com
SUMMARY:Informal meeting of EU heads of state or government
DESCRIPTION:livestream
URL:https://europeannewsroom.com/agenda/informal-meeting-of-eu-heads-of-state-or-government-2/
LOCATION:Copenhagen\, Denmark
END:VEVENT
BEGIN:VEVENT
DTSTART;VALUE=DATE:20251001
DTEND;VALUE=DATE:20251002
DTSTAMP:20260421T061555
CREATED:20250929T190950Z
LAST-MODIFIED:20250929T190950Z
UID:1659251-1759276800-1759363199@europeannewsroom.com
SUMMARY:EU Commissioner Stéphane Séjourné in Madrid
DESCRIPTION:participates in hearing before the Joint Committee for the European Union of the Spanish Parliament;\nmeets Carlos Cuerpo Caballero Minister of Economy\, Trade and Enterprise of Spain;\nmeets Mr Jordi Hereu i Boher\, Minister of Industry and Tourism of Spain;\nparticipates in New Economy Forum.
URL:https://europeannewsroom.com/agenda/eu-commissioner-stephane-sejourne-in-madrid/
LOCATION:Madrid\, Spain
END:VEVENT
BEGIN:VEVENT
DTSTART;VALUE=DATE:20251001
DTEND;VALUE=DATE:20251002
DTSTAMP:20260421T061555
CREATED:20250929T191205Z
LAST-MODIFIED:20250929T191205Z
UID:1659262-1759276800-1759363199@europeannewsroom.com
SUMMARY:EU Commissioner Glenn Micallef meets Montenegrin Minister of Social Welfare Damir Gutic
DESCRIPTION:
URL:https://europeannewsroom.com/agenda/eu-commissioner-glenn-micallef-meets-montenegrin-minister-of-social-welfare-damir-gutic/
LOCATION:Brussels
END:VEVENT
BEGIN:VEVENT
DTSTART;VALUE=DATE:20251001
DTEND;VALUE=DATE:20251003
DTSTAMP:20260421T061555
CREATED:20250929T192708Z
LAST-MODIFIED:20250929T192708Z
UID:1659305-1759276800-1759449599@europeannewsroom.com
SUMMARY:Conference 'Green transition of road transport'
DESCRIPTION:programme
URL:https://europeannewsroom.com/agenda/conference-green-transition-of-road-transport/
LOCATION:Copenhagen\, Denmark
END:VEVENT
BEGIN:VEVENT
DTSTART;TZID=Europe/Berlin:20251001T133000
DTEND;TZID=Europe/Berlin:20251002T140000
DTSTAMP:20260421T061555
CREATED:20250929T190626Z
LAST-MODIFIED:20250929T190626Z
UID:1659221-1759325400-1759413600@europeannewsroom.com
SUMMARY:Annual EC-EIC-ESM Capital Markets Seminar
DESCRIPTION:EU Commissioner Piotr Serafin participates.
URL:https://europeannewsroom.com/agenda/annual-ec-eic-esm-capital-markets-seminar/
LOCATION:Luxembourg\, Luxembourg
END:VEVENT
BEGIN:VEVENT
DTSTART;VALUE=DATE:20251002
DTEND;VALUE=DATE:20251003
DTSTAMP:20260421T061555
CREATED:20250819T084303Z
LAST-MODIFIED:20250926T072557Z
UID:1544228-1759363200-1759449599@europeannewsroom.com
SUMMARY:Meeting of the European Political Community
DESCRIPTION:livestream
URL:https://europeannewsroom.com/agenda/meeting-of-the-european-political-community-5/
LOCATION:Copenhagen\, Denmark
END:VEVENT
BEGIN:VEVENT
DTSTART;VALUE=DATE:20251002
DTEND;VALUE=DATE:20251004
DTSTAMP:20260421T061555
CREATED:20250929T191405Z
LAST-MODIFIED:20250929T191405Z
UID:1659270-1759363200-1759535999@europeannewsroom.com
SUMMARY:EU Commission Vice-President Henna Virkunnen in Athens
DESCRIPTION:meets Dimitrios Papastergiou\, Minister of Digital Governance of Greece;\nvisits ENISA; meets with Juhan Lepassaar\, Executive Director of ENISA (october 2);\nmeets Kyriakos Mitsotakis\, Prime Minister of Greece;\nparticipates in the Athens Democracy Forum (october 3).
URL:https://europeannewsroom.com/agenda/eu-commission-vice-president-henna-virkunnen-in-athens/
LOCATION:Athens\, Greece
END:VEVENT
BEGIN:VEVENT
DTSTART;VALUE=DATE:20251002
DTEND;VALUE=DATE:20251003
DTSTAMP:20260421T061555
CREATED:20250929T191602Z
LAST-MODIFIED:20250929T191602Z
UID:1659278-1759363200-1759449599@europeannewsroom.com
SUMMARY:EU Commissioner Dan Jørgensen meets Romanian Minister for Development Attila Cseke
DESCRIPTION:
URL:https://europeannewsroom.com/agenda/eu-commissioner-dan-jorgensen-meets-romanian-minister-for-development-attila-cseke/
LOCATION:Brussels
END:VEVENT
BEGIN:VEVENT
DTSTART;VALUE=DATE:20251003
DTEND;VALUE=DATE:20251004
DTSTAMP:20260421T061555
CREATED:20250929T192034Z
LAST-MODIFIED:20250929T192034Z
UID:1659285-1759449600-1759535999@europeannewsroom.com
SUMMARY:EU Commissioner Dan Jørgensen in Copenhagen
DESCRIPTION:meets Jacob Jensen\, Minister for Food\, Agriculture and Fisheries of Denmark;\nmeets with representatives of the Danish energy and industry sectors.
URL:https://europeannewsroom.com/agenda/eu-commissioner-dan-jorgensen-in-copenhagen-4/
LOCATION:Copenhagen\, Denmark
END:VEVENT
BEGIN:VEVENT
DTSTART;VALUE=DATE:20251004
DTEND;VALUE=DATE:20251005
DTSTAMP:20260421T061555
CREATED:20251002T072150Z
LAST-MODIFIED:20251002T072150Z
UID:1667940-1759536000-1759622399@europeannewsroom.com
SUMMARY:Munich Meeting on Migration
DESCRIPTION:
URL:https://europeannewsroom.com/agenda/munich-meeting-on-migration/
LOCATION:Munich\, Germany
END:VEVENT
BEGIN:VEVENT
DTSTART;TZID=Europe/Berlin:20251006T100000
DTEND;TZID=Europe/Berlin:20251006T153000
DTSTAMP:20260421T061555
CREATED:20251002T072312Z
LAST-MODIFIED:20251002T072312Z
UID:1667943-1759744800-1759764600@europeannewsroom.com
SUMMARY:Expert meeting 'Methane emissions from the energy sector: progress and challenges'
DESCRIPTION:
URL:https://europeannewsroom.com/agenda/expert-meeting-methane-emissions-from-the-energy-sector-progress-and-challenges/
LOCATION:Madrid\, Spain
END:VEVENT
BEGIN:VEVENT
DTSTART;TZID=Europe/Berlin:20251006T170000
DTEND;TZID=Europe/Berlin:20251009T160000
DTSTAMP:20260421T061555
CREATED:20250901T150055Z
LAST-MODIFIED:20251002T070932Z
UID:1584993-1759770000-1760025600@europeannewsroom.com
SUMMARY:EU Parliament plenary session
DESCRIPTION:livestream
URL:https://europeannewsroom.com/agenda/eu-parliament-plenary-session-21/
LOCATION:European Parliament Strasbourg\, Belgien
END:VEVENT
BEGIN:VEVENT
DTSTART;TZID=Europe/Berlin:20251007T180000
DTEND;TZID=Europe/Berlin:20251007T180000
DTSTAMP:20260421T061555
CREATED:20251002T072407Z
LAST-MODIFIED:20251002T072407Z
UID:1667945-1759860000-1759860000@europeannewsroom.com
SUMMARY:LUX Audience Award 2026 launch
DESCRIPTION:
URL:https://europeannewsroom.com/agenda/lux-audience-award-2026-launch/
LOCATION:Strasbourg\, France
END:VEVENT
BEGIN:VEVENT
DTSTART;VALUE=DATE:20251008
DTEND;VALUE=DATE:20251010
DTSTAMP:20260421T061555
CREATED:20251002T071539Z
LAST-MODIFIED:20251002T071539Z
UID:1667937-1759881600-1760054399@europeannewsroom.com
SUMMARY:Copenhagen Life Science Summit
DESCRIPTION:
URL:https://europeannewsroom.com/agenda/copenhagen-life-science-summit/
LOCATION:Copenhagen\, Denmark
END:VEVENT
END:VCALENDAR