BEGIN:VCALENDAR
VERSION:2.0
PRODID:-//European Newsroom - ECPv6.15.18//NONSGML v1.0//EN
CALSCALE:GREGORIAN
METHOD:PUBLISH
X-WR-CALNAME:European Newsroom
X-ORIGINAL-URL:https://europeannewsroom.com
X-WR-CALDESC:Events for European Newsroom
REFRESH-INTERVAL;VALUE=DURATION:PT1H
X-Robots-Tag:noindex
X-PUBLISHED-TTL:PT1H
BEGIN:VTIMEZONE
TZID:Europe/Berlin
BEGIN:DAYLIGHT
TZOFFSETFROM:+0100
TZOFFSETTO:+0200
TZNAME:CEST
DTSTART:20220327T010000
END:DAYLIGHT
BEGIN:STANDARD
TZOFFSETFROM:+0200
TZOFFSETTO:+0100
TZNAME:CET
DTSTART:20221030T010000
END:STANDARD
BEGIN:DAYLIGHT
TZOFFSETFROM:+0100
TZOFFSETTO:+0200
TZNAME:CEST
DTSTART:20230326T010000
END:DAYLIGHT
BEGIN:STANDARD
TZOFFSETFROM:+0200
TZOFFSETTO:+0100
TZNAME:CET
DTSTART:20231029T010000
END:STANDARD
BEGIN:DAYLIGHT
TZOFFSETFROM:+0100
TZOFFSETTO:+0200
TZNAME:CEST
DTSTART:20240331T010000
END:DAYLIGHT
BEGIN:STANDARD
TZOFFSETFROM:+0200
TZOFFSETTO:+0100
TZNAME:CET
DTSTART:20241027T010000
END:STANDARD
END:VTIMEZONE
BEGIN:VEVENT
DTSTART;VALUE=DATE:20231130
DTEND;VALUE=DATE:20231202
DTSTAMP:20260423T145150
CREATED:20231125T114838Z
LAST-MODIFIED:20231125T114838Z
UID:181129-1701302400-1701475199@europeannewsroom.com
SUMMARY:EU Commissioner Paolo Gentiloni in Sofia
DESCRIPTION:november 30 \n\nmeets Prime Minister Nikolai Denkov\, Chairpersons and Deputies of relevant Parliamentary committees\,\nworking lunch with Minister of Finance Assen Vassilev\,\nround table meeting with the business\, organised by the Ministry of Finance\n\ndecember 1 \n\nmeets Deputy Prime Minister Mariya Gabriel and Governor of Bulgarian National Bank Dimitar Radev\,\nmeeting with the Economic Analysis Council
URL:https://europeannewsroom.com/agenda/eu-commissioner-paolo-gentiloni-in-sofia/
LOCATION:Sofia\, Bulgaria
END:VEVENT
BEGIN:VEVENT
DTSTART;VALUE=DATE:20231130
DTEND;VALUE=DATE:20231201
DTSTAMP:20260423T145150
CREATED:20231125T114012Z
LAST-MODIFIED:20231125T114012Z
UID:181114-1701302400-1701388799@europeannewsroom.com
SUMMARY:EU Commissioner Stelly Kyriakides receives Italian Minister for Health Orazio Schillaci
DESCRIPTION:
URL:https://europeannewsroom.com/agenda/eu-commissioner-stelly-kyriakides-receives-italian-minister-for-health-orazio-schillaci/
LOCATION:Brussels
END:VEVENT
BEGIN:VEVENT
DTSTART;VALUE=DATE:20231130
DTEND;VALUE=DATE:20231201
DTSTAMP:20260423T145150
CREATED:20231125T113942Z
LAST-MODIFIED:20231125T113942Z
UID:181112-1701302400-1701388799@europeannewsroom.com
SUMMARY:EU-Turkiye High-Level Dialogue on agriculture
DESCRIPTION:EU Commissioner Janusz Wojciechowski participates
URL:https://europeannewsroom.com/agenda/eu-turkiye-high-level-dialogue-on-agriculture/
LOCATION:Brussels
END:VEVENT
BEGIN:VEVENT
DTSTART;VALUE=DATE:20231130
DTEND;VALUE=DATE:20231201
DTSTAMP:20260423T145150
CREATED:20231125T113853Z
LAST-MODIFIED:20231125T113853Z
UID:181110-1701302400-1701388799@europeannewsroom.com
SUMMARY:EU Commission President Ursula von der Leyen opens the Clean Transition Dialogue with energy-intensive industries
DESCRIPTION:with EU Commission Vice-President Maroš Šefčovič
URL:https://europeannewsroom.com/agenda/eu-commission-president-ursula-von-der-leyen-opens-the-clean-transition-dialogue-with-energy-intensive-industries/
LOCATION:Brussels
END:VEVENT
BEGIN:VEVENT
DTSTART;TZID=Europe/Berlin:20231129T150000
DTEND;TZID=Europe/Berlin:20231130T123500
DTSTAMP:20260423T145150
CREATED:20231125T125826Z
LAST-MODIFIED:20231125T125826Z
UID:181149-1701270000-1701347700@europeannewsroom.com
SUMMARY:European Committee of the Regions Plenary Session
DESCRIPTION:speeches by EU Commissioners Elisa Ferreira (november 29\, 16:40) and Jutta Urpilainen (november 30\, 11:30)\nlivestream available
URL:https://europeannewsroom.com/agenda/european-committee-of-the-regions-plenary-session-2/
LOCATION:Brussels
END:VEVENT
BEGIN:VEVENT
DTSTART;TZID=Europe/Berlin:20231129T143000
DTEND;TZID=Europe/Berlin:20231130T123000
DTSTAMP:20260423T145150
CREATED:20230823T080648Z
LAST-MODIFIED:20231128T080444Z
UID:153683-1701268200-1701347400@europeannewsroom.com
SUMMARY:EU Parliament Committee on Employment and Social Affairs
DESCRIPTION:draft agenda\nlivestream\, november 29\n\n14:30 – 16:00 (jointly with Committee on Women’s Rights and Gender Equality\, draft agenda)\n16:15 – 18:30\n\n\nlivestream\, november 30\n\n10:00 – 12:30
URL:https://europeannewsroom.com/agenda/eu-parliament-committee-on-employment-and-social-affairs-8/
LOCATION:European Parliament Brussels\, Belgium
END:VEVENT
BEGIN:VEVENT
DTSTART;VALUE=DATE:20231129
DTEND;VALUE=DATE:20231130
DTSTAMP:20260423T145150
CREATED:20231125T114635Z
LAST-MODIFIED:20231125T114635Z
UID:181127-1701216000-1701302399@europeannewsroom.com
SUMMARY:EU Commissioner Johannes Hahn receives Austrian Minister of Social Affairs Johannes Rauch
DESCRIPTION:
URL:https://europeannewsroom.com/agenda/eu-commissioner-johannes-hahn-receives-austrian-minister-of-social-affairs-johannes-rauch/
LOCATION:Brussels
END:VEVENT
BEGIN:VEVENT
DTSTART;VALUE=DATE:20231129
DTEND;VALUE=DATE:20231201
DTSTAMP:20260423T145150
CREATED:20231125T113820Z
LAST-MODIFIED:20231125T113820Z
UID:181108-1701216000-1701388799@europeannewsroom.com
SUMMARY:EU Commissioner Olivér Várhelyi in Vienna
DESCRIPTION:holds a lecture\,\nparticipates in discussion with Mr Wolfgang Schüssel in ÖGAVN event series ‘International Club’
URL:https://europeannewsroom.com/agenda/eu-commissioner-oliver-varhelyi-in-vienna/
LOCATION:Vienna\, Austria
END:VEVENT
BEGIN:VEVENT
DTSTART;VALUE=DATE:20231129
DTEND;VALUE=DATE:20231130
DTSTAMP:20260423T145150
CREATED:20231125T113610Z
LAST-MODIFIED:20231128T081152Z
UID:181104-1701216000-1701302399@europeannewsroom.com
SUMMARY:College of EU Commissioners
DESCRIPTION:press conference live (12:30)
URL:https://europeannewsroom.com/agenda/college-of-eu-commissioners-8/
LOCATION:Brussels
END:VEVENT
BEGIN:VEVENT
DTSTART;VALUE=DATE:20231129
DTEND;VALUE=DATE:20231130
DTSTAMP:20260423T145150
CREATED:20230823T081032Z
LAST-MODIFIED:20230823T081032Z
UID:153691-1701216000-1701302399@europeannewsroom.com
SUMMARY:European Central Bank Governing Council
DESCRIPTION:
URL:https://europeannewsroom.com/agenda/european-central-bank-governing-council-7/
LOCATION:Frankfurt\, Germany
END:VEVENT
BEGIN:VEVENT
DTSTART;TZID=Europe/Berlin:20231128T113000
DTEND;TZID=Europe/Berlin:20231129T123000
DTSTAMP:20260423T145150
CREATED:20230814T080740Z
LAST-MODIFIED:20231128T080025Z
UID:152043-1701171000-1701261000@europeannewsroom.com
SUMMARY:EU Parliament Committee on the Environment\, Public Health and Food Safety
DESCRIPTION:draft agenda\nlivestream\, november 28\n\n11:30 – 12:30 (jointly with Committee on Civil Liberties\, Justice and Home Affairs\, draft agenda)\n\n\nlivestream\, november 29\n\n09:00 – 12:30
URL:https://europeannewsroom.com/agenda/eu-parliament-committee-on-the-environment-public-health-and-food-safety-9/
LOCATION:European Parliament Brussels\, Belgium
END:VEVENT
BEGIN:VEVENT
DTSTART;TZID=Europe/Berlin:20231128T092500
DTEND;TZID=Europe/Berlin:20231129T181500
DTSTAMP:20260423T145150
CREATED:20231125T113742Z
LAST-MODIFIED:20231128T082231Z
UID:181106-1701163500-1701281700@europeannewsroom.com
SUMMARY:European Business Summit
DESCRIPTION:EU Commission Vice-Presidents Maroš Šefčovič and Vera Jourová participate\nEU Commissioners Olivér Várhelyi\, Virginijus Sinkevičius\, Janusz Wojciechowski and Valdis Dombrovskis participate\nprogramme\nlivestream available
URL:https://europeannewsroom.com/agenda/european-business-summit/
LOCATION:Brussels
END:VEVENT
BEGIN:VEVENT
DTSTART;VALUE=DATE:20231128
DTEND;VALUE=DATE:20231129
DTSTAMP:20260423T145150
CREATED:20231125T113511Z
LAST-MODIFIED:20231125T113511Z
UID:181102-1701129600-1701215999@europeannewsroom.com
SUMMARY:EU Commissioner Olivér Várhelyi receives interior ministers from Albania and from Montenegro
DESCRIPTION:
URL:https://europeannewsroom.com/agenda/eu-commissioner-oliver-varhelyi-receives-interior-ministers-from-albania-and-from-montenegro/
LOCATION:Brussels
END:VEVENT
BEGIN:VEVENT
DTSTART;VALUE=DATE:20231128
DTEND;VALUE=DATE:20231129
DTSTAMP:20260423T145150
CREATED:20231125T113423Z
LAST-MODIFIED:20231125T113423Z
UID:181100-1701129600-1701215999@europeannewsroom.com
SUMMARY:EU Commissioner Thierry Breton delivers keynote speech at the World Nuclear Forum in Paris
DESCRIPTION:
URL:https://europeannewsroom.com/agenda/eu-commissioner-thierry-breton-delivers-keynote-speech-at-the-world-nuclear-forum-in-paris/
LOCATION:Paris\, France
END:VEVENT
BEGIN:VEVENT
DTSTART;VALUE=DATE:20231128
DTEND;VALUE=DATE:20231129
DTSTAMP:20260423T145150
CREATED:20231125T113358Z
LAST-MODIFIED:20231125T113358Z
UID:181098-1701129600-1701215999@europeannewsroom.com
SUMMARY:EU Commissioner Elisa Ferreira meets Romanian Prime Minister Marcel Ciolacu
DESCRIPTION:also delivers speech in the Conference on The future of Cohesion Policy: ‘Green and Digital Transformation Supported by EU Funds’
URL:https://europeannewsroom.com/agenda/eu-commissioner-elisa-ferreira-meets-romanian-prime-minister-marcel-ciolacu/
LOCATION:Bucharest\, Romania
END:VEVENT
BEGIN:VEVENT
DTSTART;VALUE=DATE:20231128
DTEND;VALUE=DATE:20231129
DTSTAMP:20260423T145150
CREATED:20231125T113318Z
LAST-MODIFIED:20231125T113318Z
UID:181096-1701129600-1701215999@europeannewsroom.com
SUMMARY:EU Commissioner Janusz Wojciechowski in Poznan
DESCRIPTION:participates in the Farmers and Agribusiness Forum organised by “top agrar Polska”
URL:https://europeannewsroom.com/agenda/eu-commissioner-janusz-wojciechowski-in-poznan/
LOCATION:Poznan\, Pologne
END:VEVENT
BEGIN:VEVENT
DTSTART;TZID=Europe/Berlin:20231127T180000
DTEND;TZID=Europe/Berlin:20231127T180000
DTSTAMP:20260423T145150
CREATED:20231125T114542Z
LAST-MODIFIED:20231125T114542Z
UID:181123-1701108000-1701108000@europeannewsroom.com
SUMMARY:EU Commissioner Paolo Gentiloni in Rome
DESCRIPTION:participates in the book presentation event “Leader per forza”
URL:https://europeannewsroom.com/agenda/eu-commissioner-paolo-gentiloni-in-rome/
LOCATION:Rome\, Italy
END:VEVENT
BEGIN:VEVENT
DTSTART;TZID=Europe/Berlin:20231127T100000
DTEND;TZID=Europe/Berlin:20231128T124500
DTSTAMP:20260423T145150
CREATED:20230823T081327Z
LAST-MODIFIED:20231125T124314Z
UID:153697-1701079200-1701175500@europeannewsroom.com
SUMMARY:EU Employment\, Social Policy\, Health and Consumer Affairs Council (Employment and social policy)
DESCRIPTION:provisional agenda\nlivestream\, november 27\n\npublic session (10:10)\npublic session (14:15)\npress conference\n\n\nlivestream\, november 28\n\npublic session (10:05)\npress conference (12:45)
URL:https://europeannewsroom.com/agenda/eu-employment-social-policy-health-and-consumer-affairs-council-employment-and-social-policy/
LOCATION:Brussels
END:VEVENT
BEGIN:VEVENT
DTSTART;TZID=Europe/Berlin:20231127T093000
DTEND;TZID=Europe/Berlin:20231127T093000
DTSTAMP:20260423T145150
CREATED:20231125T123941Z
LAST-MODIFIED:20231126T224541Z
UID:181138-1701077400-1701077400@europeannewsroom.com
SUMMARY:Foreign Affairs Council (Trade)
DESCRIPTION:provisional agenda\npress conference live (14:45)
URL:https://europeannewsroom.com/agenda/foreign-affairs-council-trade/
LOCATION:Brussels
END:VEVENT
BEGIN:VEVENT
DTSTART;TZID=Europe/Berlin:20231127T093000
DTEND;TZID=Europe/Berlin:20231127T093000
DTSTAMP:20260423T145150
CREATED:20230814T073148Z
LAST-MODIFIED:20231125T123337Z
UID:151995-1701077400-1701077400@europeannewsroom.com
SUMMARY:8th Union for the Mediterranean Regional Forum
DESCRIPTION:opening remarks by EU High Representative Josep Borrell (09:30)\npress conference live (13:00)
URL:https://europeannewsroom.com/agenda/8th-union-for-the-mediterranean-regional-forum/
LOCATION:Barcelona\, Spain
END:VEVENT
BEGIN:VEVENT
DTSTART;VALUE=DATE:20231127
DTEND;VALUE=DATE:20231129
DTSTAMP:20260423T145150
CREATED:20231125T121054Z
LAST-MODIFIED:20231126T213716Z
UID:181131-1701043200-1701215999@europeannewsroom.com
SUMMARY:EU Parliament Committees
DESCRIPTION:Committee on Foreign Affairs\n\ndraft agenda\nlivestream\, november 27\n\n16:00 – 17:30\n17:30 – 18:30 (in association with the Euro-Latin American Parliamentary Assembly)\n\n\nlivestream\, november 28\n\n10:15 – 12:00\n12:00 – 12:30 (jointly with Committee on Constitutional Affairs)\n17:30 – 18:15\n\n\n\n\nCommittee on Economic and Monetary Affairs\n\ndraft agenda\nlivestream\, november 27\n\n15:00 – 18:00\n\n\nlivestream\, novemer 28\n\n09:00 – 11:00\n14:00 – 17:30\n\n\n\n\nCommittee on International Trade\n\ndraft agenda\nlivestream\, november 27\n\n15:00 – 18:30\n\n\nlivestream\, november 28\n\n09:00 – 11:50\n14:30 – 18:30\n\n\n\n\nCommittee on Industry\, Research and Energy\n\ndraft agenda\nlivestream\, november 28\n\n10:00 – 12:30\n15:00 – 18:30\n\n\n\n\nCommittee on the Internal Market and Consumer Protection\n\ndraft agenda\nlivestream\, november 28\n\n09:00 – 11:30
URL:https://europeannewsroom.com/agenda/eu-parliament-committees/
LOCATION:European Parliament Brussels\, Belgium
END:VEVENT
BEGIN:VEVENT
DTSTART;VALUE=DATE:20231127
DTEND;VALUE=DATE:20231128
DTSTAMP:20260423T145150
CREATED:20231125T114607Z
LAST-MODIFIED:20231125T114607Z
UID:181125-1701043200-1701129599@europeannewsroom.com
SUMMARY:EU Commission Vice-President Maroš Šefčovič receives Slovak Minister of Justice Boris Susko
DESCRIPTION:
URL:https://europeannewsroom.com/agenda/eu-commission-vice-president-maros-sefcovic-receives-slovak-minister-of-justice-boris-susko/
LOCATION:Brussels
END:VEVENT
BEGIN:VEVENT
DTSTART;VALUE=DATE:20231127
DTEND;VALUE=DATE:20231128
DTSTAMP:20260423T145150
CREATED:20231125T114306Z
LAST-MODIFIED:20231125T114306Z
UID:181121-1701043200-1701129599@europeannewsroom.com
SUMMARY:EU Commissioner Wopke Hoekstra receives Ukrainian Minister for Environmental Protection Ruslan Strilets
DESCRIPTION:
URL:https://europeannewsroom.com/agenda/eu-commissioner-wopke-hoekstra-receives-ukrainian-minister-for-environmental-protection-ruslan-strilets/
LOCATION:Brussels
END:VEVENT
BEGIN:VEVENT
DTSTART;VALUE=DATE:20231127
DTEND;VALUE=DATE:20231128
DTSTAMP:20260423T145150
CREATED:20231125T113153Z
LAST-MODIFIED:20231125T113153Z
UID:181094-1701043200-1701129599@europeannewsroom.com
SUMMARY:EU Commissioner Iliana Ivanova in Marseille
DESCRIPTION:attends the iCapital Awards 2023 ceremony\nfurther information
URL:https://europeannewsroom.com/agenda/eu-commissioner-iliana-ivanova-in-marseille/
LOCATION:Marseille\, France
END:VEVENT
BEGIN:VEVENT
DTSTART;VALUE=DATE:20231127
DTEND;VALUE=DATE:20231128
DTSTAMP:20260423T145150
CREATED:20231125T112951Z
LAST-MODIFIED:20231125T112951Z
UID:181091-1701043200-1701129599@europeannewsroom.com
SUMMARY:EU Commissioner Kadri Simson in Denmark
DESCRIPTION:meets with Lars Aagaard\, Minister for Climate\, Energy and Utilities;\ndelivers a keynote speech at the opening of the CCUS Forum;\nvisits Aalborg Portland and attends the inauguration ceremony of the ConsenCus pilot plant
URL:https://europeannewsroom.com/agenda/eu-commissioner-kadri-simson-in-denmark-2/
LOCATION:Aalborg\, Denmark
END:VEVENT
BEGIN:VEVENT
DTSTART;VALUE=DATE:20231127
DTEND;VALUE=DATE:20231128
DTSTAMP:20260423T145150
CREATED:20231125T112812Z
LAST-MODIFIED:20231125T112812Z
UID:181088-1701043200-1701129599@europeannewsroom.com
SUMMARY:EU Commissioner Elisa Ferreira in Romania
DESCRIPTION:visits the REXDAN research vessel\nhosts a Citizens’s Dialogue with Representatives of local and national civil society organisations\, students representatives and associations and experts\, at the University of Dunarea de Jos
URL:https://europeannewsroom.com/agenda/eu-commissioner-elisa-ferreira-in-romania/
LOCATION:Galati\, Romania
END:VEVENT
BEGIN:VEVENT
DTSTART;TZID=Europe/Berlin:20231124T083000
DTEND;TZID=Europe/Berlin:20231125T124000
DTSTAMP:20260423T145150
CREATED:20230814T072757Z
LAST-MODIFIED:20231119T152420Z
UID:151990-1700814600-1700916000@europeannewsroom.com
SUMMARY:Informal meeting of EU equality ministers
DESCRIPTION:programme\nvideos and press conference live (12:40)
URL:https://europeannewsroom.com/agenda/informal-meeting-of-eu-equality-ministers/
LOCATION:Pamplona\, Spain
END:VEVENT
BEGIN:VEVENT
DTSTART;VALUE=DATE:20231124
DTEND;VALUE=DATE:20231125
DTSTAMP:20260423T145150
CREATED:20231118T180437Z
LAST-MODIFIED:20231118T180437Z
UID:179068-1700784000-1700870399@europeannewsroom.com
SUMMARY:EU Commissioner Janusz Wojciechowski in Slovenia
DESCRIPTION:visits regions and communities affected by recent floods
URL:https://europeannewsroom.com/agenda/eu-commissioner-janusz-wojciechowski-in-slovenia/
LOCATION:Slovenia
END:VEVENT
BEGIN:VEVENT
DTSTART;VALUE=DATE:20231124
DTEND;VALUE=DATE:20231125
DTSTAMP:20260423T145150
CREATED:20231118T175811Z
LAST-MODIFIED:20231118T175811Z
UID:179065-1700784000-1700870399@europeannewsroom.com
SUMMARY:EU Commission Vice-President Dubravka Šuica in Croatia
DESCRIPTION:participates in a panel discussion: “Glas mladih – Zašto je moj glas bitan?” organised by the Croatian Radio
URL:https://europeannewsroom.com/agenda/eu-commission-vice-president-dubravka-suica-in-croatia/
LOCATION:Zadar\, Croatia (Local Name: Hrvatska)
END:VEVENT
BEGIN:VEVENT
DTSTART;TZID=Europe/Berlin:20231123T090000
DTEND;TZID=Europe/Berlin:20231124T170000
DTSTAMP:20260423T145150
CREATED:20231118T175504Z
LAST-MODIFIED:20231118T175504Z
UID:179060-1700730000-1700845200@europeannewsroom.com
SUMMARY:Lisbon AgriConference 2023
DESCRIPTION:EU Commissioners Elisa Ferreira (november 23) and Janusz Wojciechowski (november 24) participate
URL:https://europeannewsroom.com/agenda/lisbon-agriconference-2023/
LOCATION:Lisbon\, Portugal
END:VEVENT
END:VCALENDAR