BEGIN:VCALENDAR
VERSION:2.0
PRODID:-//European Newsroom - ECPv6.15.18//NONSGML v1.0//EN
CALSCALE:GREGORIAN
METHOD:PUBLISH
X-WR-CALNAME:European Newsroom
X-ORIGINAL-URL:https://europeannewsroom.com
X-WR-CALDESC:Events for European Newsroom
REFRESH-INTERVAL;VALUE=DURATION:PT1H
X-Robots-Tag:noindex
X-PUBLISHED-TTL:PT1H
BEGIN:VTIMEZONE
TZID:Europe/Berlin
BEGIN:DAYLIGHT
TZOFFSETFROM:+0100
TZOFFSETTO:+0200
TZNAME:CEST
DTSTART:20240331T010000
END:DAYLIGHT
BEGIN:STANDARD
TZOFFSETFROM:+0200
TZOFFSETTO:+0100
TZNAME:CET
DTSTART:20241027T010000
END:STANDARD
BEGIN:DAYLIGHT
TZOFFSETFROM:+0100
TZOFFSETTO:+0200
TZNAME:CEST
DTSTART:20250330T010000
END:DAYLIGHT
BEGIN:STANDARD
TZOFFSETFROM:+0200
TZOFFSETTO:+0100
TZNAME:CET
DTSTART:20251026T010000
END:STANDARD
BEGIN:DAYLIGHT
TZOFFSETFROM:+0100
TZOFFSETTO:+0200
TZNAME:CEST
DTSTART:20260329T010000
END:DAYLIGHT
BEGIN:STANDARD
TZOFFSETFROM:+0200
TZOFFSETTO:+0100
TZNAME:CET
DTSTART:20261025T010000
END:STANDARD
END:VTIMEZONE
BEGIN:VEVENT
DTSTART;VALUE=DATE:20250205
DTEND;VALUE=DATE:20250206
DTSTAMP:20260423T105226
CREATED:20250210T154437Z
LAST-MODIFIED:20250210T154437Z
UID:938582-1738713600-1738799999@europeannewsroom.com
SUMMARY:EU Commissioner Glenn Micallef receives Spanish Minister for Youth Sira Rego
DESCRIPTION:
URL:https://europeannewsroom.com/agenda/eu-commissioner-glenn-micallef-receives-spanish-minister-for-youth-sira-rego/
LOCATION:Brussels
END:VEVENT
BEGIN:VEVENT
DTSTART;VALUE=DATE:20250205
DTEND;VALUE=DATE:20250206
DTSTAMP:20260423T105226
CREATED:20250210T154137Z
LAST-MODIFIED:20250210T154137Z
UID:938524-1738713600-1738799999@europeannewsroom.com
SUMMARY:Financial Times International Energy Policy Forum
DESCRIPTION:keynote speech by EU Commissioner Dan Jørgensen
URL:https://europeannewsroom.com/agenda/financial-times-international-energy-policy-forum/
LOCATION:Brussels
END:VEVENT
BEGIN:VEVENT
DTSTART;VALUE=DATE:20250205
DTEND;VALUE=DATE:20250206
DTSTAMP:20260423T105226
CREATED:20250210T153209Z
LAST-MODIFIED:20250210T153209Z
UID:938478-1738713600-1738799999@europeannewsroom.com
SUMMARY:EU Commissioner Wopke Hoekstra receives Dutch Minister for Digitalisation Zsolt Szabó
DESCRIPTION:
URL:https://europeannewsroom.com/agenda/eu-commissioner-wopke-hoekstra-receives-dutch-minister-for-digitalisation-zsolt-szabo/
LOCATION:Brussels
END:VEVENT
BEGIN:VEVENT
DTSTART;VALUE=DATE:20250205
DTEND;VALUE=DATE:20250206
DTSTAMP:20260423T105226
CREATED:20250210T151603Z
LAST-MODIFIED:20250210T151603Z
UID:938418-1738713600-1738799999@europeannewsroom.com
SUMMARY:EU Commissioner Olivér Várhelyi receives High Representative for Bosnia and Herzegovina Christian Schmidt
DESCRIPTION:
URL:https://europeannewsroom.com/agenda/eu-commissioner-oliver-varhelyi-receives-high-representative-for-bosnia-and-herzegovina-christian-schmidt/
LOCATION:Brussels
END:VEVENT
BEGIN:VEVENT
DTSTART;VALUE=DATE:20250205
DTEND;VALUE=DATE:20250206
DTSTAMP:20260423T105226
CREATED:20250210T150253Z
LAST-MODIFIED:20250210T150253Z
UID:938317-1738713600-1738799999@europeannewsroom.com
SUMMARY:EU Commission Vice-President Stéphane Séjourné receives President of the Regional Council of Normandy Hervé Morin
DESCRIPTION:
URL:https://europeannewsroom.com/agenda/eu-commission-vice-president-stephane-sejourne-receives-president-of-the-regional-council-of-normandy-herve-morin/
LOCATION:Brussels
END:VEVENT
BEGIN:VEVENT
DTSTART;VALUE=DATE:20250205
DTEND;VALUE=DATE:20250206
DTSTAMP:20260423T105226
CREATED:20250210T150021Z
LAST-MODIFIED:20250210T150021Z
UID:938305-1738713600-1738799999@europeannewsroom.com
SUMMARY:EU Commission Vice-President receives Minister-President of Lower Saxony (Germany) Stephan Weil
DESCRIPTION:
URL:https://europeannewsroom.com/agenda/eu-commission-vice-president-receives-minister-president-of-lower-saxony-germany-stephan-weil/
LOCATION:Brussels
END:VEVENT
BEGIN:VEVENT
DTSTART;VALUE=DATE:20250205
DTEND;VALUE=DATE:20250206
DTSTAMP:20260423T105226
CREATED:20250210T145544Z
LAST-MODIFIED:20250210T145638Z
UID:938246-1738713600-1738799999@europeannewsroom.com
SUMMARY:College of EU Commissioners
DESCRIPTION:press conference live
URL:https://europeannewsroom.com/agenda/eu-college-of-commissioners-4/
LOCATION:Brussels
END:VEVENT
BEGIN:VEVENT
DTSTART;TZID=Europe/Berlin:20250204T150000
DTEND;TZID=Europe/Berlin:20250204T170000
DTSTAMP:20260423T105226
CREATED:20250204T150717Z
LAST-MODIFIED:20250204T150927Z
UID:912169-1738681200-1738688400@europeannewsroom.com
SUMMARY:Youth Policy Dialogue with EU Commissioner Olivér Várhelyi
DESCRIPTION:livestream available
URL:https://europeannewsroom.com/agenda/youth-policy-dialogue-with-eu-commissioner-oliver-varhelyi/
LOCATION:Brussels
END:VEVENT
BEGIN:VEVENT
DTSTART;VALUE=DATE:20250204
DTEND;VALUE=DATE:20250205
DTSTAMP:20260423T105226
CREATED:20250204T150333Z
LAST-MODIFIED:20250204T150333Z
UID:912134-1738627200-1738713599@europeannewsroom.com
SUMMARY:EU Commissioner Wopke Hoekstra meets Minister-President of Baden-Württemberg (Germany) Winfried Kretschmann
DESCRIPTION:
URL:https://europeannewsroom.com/agenda/eu-commissioner-wopke-hoekstra-meets-minister-president-of-baden-wurttemberg-germany-winfried-kretschmann/
LOCATION:Brussels
END:VEVENT
BEGIN:VEVENT
DTSTART;VALUE=DATE:20250204
DTEND;VALUE=DATE:20250205
DTSTAMP:20260423T105226
CREATED:20250204T150015Z
LAST-MODIFIED:20250204T150015Z
UID:912124-1738627200-1738713599@europeannewsroom.com
SUMMARY:EU Commissioner Dan Jørgensen receives Romanian Minister for Energy Sebastian Burduja
DESCRIPTION:
URL:https://europeannewsroom.com/agenda/eu-commissioner-dan-jorgensen-receives-romanian-minister-for-energy-sebastian-burduja/
LOCATION:Brussels
END:VEVENT
BEGIN:VEVENT
DTSTART;VALUE=DATE:20250204
DTEND;VALUE=DATE:20250205
DTSTAMP:20260423T105226
CREATED:20250204T145548Z
LAST-MODIFIED:20250204T145944Z
UID:912112-1738627200-1738713599@europeannewsroom.com
SUMMARY:EU Commissioner Jessika Roswall receives State Secretary to Swedish Prime Minister Christian Danielsson
DESCRIPTION:
URL:https://europeannewsroom.com/agenda/eu-commissioner-jessika-roswall-receives-swedish-state-secretary-to-the-prime-minister-christian-danielsson/
LOCATION:Brussels
END:VEVENT
BEGIN:VEVENT
DTSTART;TZID=Europe/Berlin:20250203T093000
DTEND;TZID=Europe/Berlin:20250203T190000
DTSTAMP:20260423T105226
CREATED:20250131T092704Z
LAST-MODIFIED:20250131T093023Z
UID:893581-1738575000-1738609200@europeannewsroom.com
SUMMARY:Informal EU leaders' retreat
DESCRIPTION:further information\nlivestream
URL:https://europeannewsroom.com/agenda/informal-eu-leaders-retreat/
LOCATION:Brussels
END:VEVENT
BEGIN:VEVENT
DTSTART;VALUE=DATE:20250203
DTEND;VALUE=DATE:20250205
DTSTAMP:20260423T105226
CREATED:20250210T162103Z
LAST-MODIFIED:20250210T162103Z
UID:938887-1738540800-1738713599@europeannewsroom.com
SUMMARY:EU Commission Vice-President Roxana Mînzatu visits Bucharest
DESCRIPTION:
URL:https://europeannewsroom.com/agenda/eu-commission-vice-president-roxana-minzatu-visits-bucharest/
LOCATION:Bucharest\, Romania
END:VEVENT
BEGIN:VEVENT
DTSTART;VALUE=DATE:20250203
DTEND;VALUE=DATE:20250208
DTSTAMP:20260423T105226
CREATED:20250203T203242Z
LAST-MODIFIED:20250203T203242Z
UID:906480-1738540800-1738972799@europeannewsroom.com
SUMMARY:EU Ambassadors’ Conference 2025
DESCRIPTION:speeches by EU High Representative Kaja Kallas (february 3\, 09:00)\, EU Parliament President Roberta Metsola (february 4\, 09:30)\, EU Commission President Ursula von der Leyen (february 4\, 11:30) and President of the European Council António Costa (february 4\, 14:00)\nlive broadcast of the speeches\nfurther information
URL:https://europeannewsroom.com/agenda/eu-ambassadors-conference-2025/
LOCATION:Brussels
END:VEVENT
BEGIN:VEVENT
DTSTART;VALUE=DATE:20250203
DTEND;VALUE=DATE:20250204
DTSTAMP:20260423T105226
CREATED:20250203T202737Z
LAST-MODIFIED:20250203T202953Z
UID:906468-1738540800-1738627199@europeannewsroom.com
SUMMARY:EU Commissioner Michael McGrath meets Deputy Head of the Ukrainian Presidential office Iryna Mudra
DESCRIPTION:
URL:https://europeannewsroom.com/agenda/eu-commissioner-michael-mcgrath-meets-ukrainian-deputy-head-of-the-presidential-office-iryna-mudra/
LOCATION:Brussels
END:VEVENT
BEGIN:VEVENT
DTSTART;VALUE=DATE:20250203
DTEND;VALUE=DATE:20250204
DTSTAMP:20260423T105226
CREATED:20250203T202404Z
LAST-MODIFIED:20250203T202404Z
UID:906458-1738540800-1738627199@europeannewsroom.com
SUMMARY:EU Commissioner Dan Jørgensen receives Slovak Prime Minister Robert Fico
DESCRIPTION:
URL:https://europeannewsroom.com/agenda/eu-commissioner-dan-jorgensen-receives-slovak-prime-minister-robert-fico/
LOCATION:Brussels
END:VEVENT
BEGIN:VEVENT
DTSTART;VALUE=DATE:20250203
DTEND;VALUE=DATE:20250204
DTSTAMP:20260423T105226
CREATED:20250203T202005Z
LAST-MODIFIED:20250203T202005Z
UID:906424-1738540800-1738627199@europeannewsroom.com
SUMMARY:EU Commissioner Wopke Hoekstra receives French Minister for Ecological Transition Agnès Pannier-Runacher
DESCRIPTION:
URL:https://europeannewsroom.com/agenda/eu-commissioner-wopke-hoekstra-receives-french-minister-for-ecological-transition-agnes-pannier-runacher/
LOCATION:Brussels
END:VEVENT
BEGIN:VEVENT
DTSTART;VALUE=DATE:20250203
DTEND;VALUE=DATE:20250205
DTSTAMP:20260423T105226
CREATED:20250131T093034Z
LAST-MODIFIED:20250210T110117Z
UID:893584-1738540800-1738713599@europeannewsroom.com
SUMMARY:Joint meeting of the COMPET (Industry and Internal Market) and the FAC
DESCRIPTION:further information\nlivestream and press conference (13:00)
URL:https://europeannewsroom.com/agenda/informal-meeting-of-eu-competitiveness-ministers-3/
LOCATION:Warsaw\, Poland
END:VEVENT
BEGIN:VEVENT
DTSTART;TZID=Europe/Berlin:20250130T093000
DTEND;TZID=Europe/Berlin:20250131T160000
DTSTAMP:20260423T105226
CREATED:20250128T121434Z
LAST-MODIFIED:20250128T121434Z
UID:878075-1738229400-1738339200@europeannewsroom.com
SUMMARY:Panel discussion "The European way of growth: A growth policy for a secure\, resilient and globally competitive EU"
DESCRIPTION:EU Commission Vice-President Raffaele Fitto and EU Commissioner Roxana Mînzatu participate.\nprogramme
URL:https://europeannewsroom.com/agenda/panel-discussion-the-european-way-of-growth-a-growth-policy-for-a-secure-resilient-and-globally-competitive-eu/
LOCATION:Krakow\, Poland
END:VEVENT
BEGIN:VEVENT
DTSTART;VALUE=DATE:20250130
DTEND;VALUE=DATE:20250131
DTSTAMP:20260423T105226
CREATED:20250128T165007Z
LAST-MODIFIED:20250128T165007Z
UID:879365-1738195200-1738281599@europeannewsroom.com
SUMMARY:EU Commissioner Olivér Várhelyi receives Polish Minister of Health Izabela Leszczyna
DESCRIPTION:
URL:https://europeannewsroom.com/agenda/eu-commissioner-oliver-varhelyi-receives-polish-minister-of-health-izabela-leszczyna/
LOCATION:Brussels
END:VEVENT
BEGIN:VEVENT
DTSTART;VALUE=DATE:20250130
DTEND;VALUE=DATE:20250131
DTSTAMP:20260423T105226
CREATED:20250128T120505Z
LAST-MODIFIED:20250128T120505Z
UID:878042-1738195200-1738281599@europeannewsroom.com
SUMMARY:EU High Representative Kaja Kallas receives Moldovan Deputy Prime Minister Oleg Serebrian
DESCRIPTION:
URL:https://europeannewsroom.com/agenda/eu-high-representative-kaja-kallas-receives-moldovan-deputy-prime-minister-oleg-serebrian/
LOCATION:Brussels
END:VEVENT
BEGIN:VEVENT
DTSTART;VALUE=DATE:20250130
DTEND;VALUE=DATE:20250131
DTSTAMP:20260423T105226
CREATED:20250128T120105Z
LAST-MODIFIED:20250128T120105Z
UID:877986-1738195200-1738281599@europeannewsroom.com
SUMMARY:EU Commission Vice-President Henna Virkunnen receives French Minister for Industry and Energy Marc Ferracci
DESCRIPTION:
URL:https://europeannewsroom.com/agenda/eu-commission-vice-president-henna-virkunnen-receives-french-minister-for-industry-and-energy-marc-ferracci/
LOCATION:Brussels
END:VEVENT
BEGIN:VEVENT
DTSTART;VALUE=DATE:20250130
DTEND;VALUE=DATE:20250131
DTSTAMP:20260423T105226
CREATED:20250128T115704Z
LAST-MODIFIED:20250128T115704Z
UID:877930-1738195200-1738281599@europeannewsroom.com
SUMMARY:Strategic Dialogue on the Future of the European Automotive Industry
DESCRIPTION:further information
URL:https://europeannewsroom.com/agenda/strategic-dialogue-on-the-future-of-the-european-automotive-industry/
LOCATION:Brussels
END:VEVENT
BEGIN:VEVENT
DTSTART;VALUE=DATE:20250130
DTEND;VALUE=DATE:20250201
DTSTAMP:20260423T105226
CREATED:20250124T080549Z
LAST-MODIFIED:20250124T080549Z
UID:866903-1738195200-1738367999@europeannewsroom.com
SUMMARY:Informal meeting of EU justice and home affairs ministers
DESCRIPTION:livestream
URL:https://europeannewsroom.com/agenda/informal-meeting-of-eu-justice-and-home-affairs-ministers-3/
LOCATION:Warsaw\, Poland
END:VEVENT
BEGIN:VEVENT
DTSTART;VALUE=DATE:20250129
DTEND;VALUE=DATE:20250130
DTSTAMP:20260423T105226
CREATED:20250128T165252Z
LAST-MODIFIED:20250128T165252Z
UID:879376-1738108800-1738195199@europeannewsroom.com
SUMMARY:President of the European Council Antónia Costa meets NATO Secretary-General Mark Rutte
DESCRIPTION:
URL:https://europeannewsroom.com/agenda/president-of-the-european-council-antonia-costa-meets-nato-secretary-general-mark-rutte/
LOCATION:Brussels
END:VEVENT
BEGIN:VEVENT
DTSTART;VALUE=DATE:20250129
DTEND;VALUE=DATE:20250130
DTSTAMP:20260423T105226
CREATED:20250128T115050Z
LAST-MODIFIED:20250128T115050Z
UID:877897-1738108800-1738195199@europeannewsroom.com
SUMMARY:EU Commissioner Piotr Serafin receives Italian Minister for European Affairs Tommaso Foti
DESCRIPTION:
URL:https://europeannewsroom.com/agenda/eu-commissioner-piotr-serafin-receives-italian-minister-for-european-affairs-tommaso-foti/
LOCATION:Brussels
END:VEVENT
BEGIN:VEVENT
DTSTART;VALUE=DATE:20250129
DTEND;VALUE=DATE:20250130
DTSTAMP:20260423T105226
CREATED:20250128T114821Z
LAST-MODIFIED:20250128T114821Z
UID:877887-1738108800-1738195199@europeannewsroom.com
SUMMARY:EU Commissioner Wopke Hoekstra receives Italian Minister for Enterprises and Made in Italy Adolfo Urso
DESCRIPTION:
URL:https://europeannewsroom.com/agenda/eu-commissioner-wopke-hoekstra-receives-italian-minister-for-enterprises-and-made-in-italy-adolfo-urso/
LOCATION:Brussels
END:VEVENT
BEGIN:VEVENT
DTSTART;VALUE=DATE:20250129
DTEND;VALUE=DATE:20250130
DTSTAMP:20260423T105226
CREATED:20250128T114500Z
LAST-MODIFIED:20250128T114500Z
UID:877807-1738108800-1738195199@europeannewsroom.com
SUMMARY:International Holocaust Remembrance Day Ceremony at the EU Parliament
DESCRIPTION:EU Commissioners Olivér Várhelyi\, Magnus Brunner and Jessika Roswall participate.
URL:https://europeannewsroom.com/agenda/international-holocaust-remembrance-day-ceremony-at-the-eu-parliament/
LOCATION:Brussels
END:VEVENT
BEGIN:VEVENT
DTSTART;VALUE=DATE:20250129
DTEND;VALUE=DATE:20250130
DTSTAMP:20260423T105226
CREATED:20250128T113405Z
LAST-MODIFIED:20250128T113905Z
UID:877750-1738108800-1738195199@europeannewsroom.com
SUMMARY:College of EU Commissioners
DESCRIPTION:press conference live
URL:https://europeannewsroom.com/agenda/college-of-eu-commissioners-34/
LOCATION:Brussels
END:VEVENT
BEGIN:VEVENT
DTSTART;VALUE=DATE:20250129
DTEND;VALUE=DATE:20250131
DTSTAMP:20260423T105226
CREATED:20250124T080349Z
LAST-MODIFIED:20250124T080349Z
UID:866901-1738108800-1738281599@europeannewsroom.com
SUMMARY:European Central Bank Governing Council
DESCRIPTION:press conference live (january 30\, 14:45)
URL:https://europeannewsroom.com/agenda/european-central-bank-governing-council-14/
LOCATION:Frankfurt\, Germany
END:VEVENT
END:VCALENDAR