BEGIN:VCALENDAR
VERSION:2.0
PRODID:-//European Newsroom - ECPv6.15.18//NONSGML v1.0//EN
CALSCALE:GREGORIAN
METHOD:PUBLISH
X-ORIGINAL-URL:https://europeannewsroom.com
X-WR-CALDESC:Events for European Newsroom
REFRESH-INTERVAL;VALUE=DURATION:PT1H
X-Robots-Tag:noindex
X-PUBLISHED-TTL:PT1H
BEGIN:VTIMEZONE
TZID:Europe/Berlin
BEGIN:DAYLIGHT
TZOFFSETFROM:+0100
TZOFFSETTO:+0200
TZNAME:CEST
DTSTART:20240331T010000
END:DAYLIGHT
BEGIN:STANDARD
TZOFFSETFROM:+0200
TZOFFSETTO:+0100
TZNAME:CET
DTSTART:20241027T010000
END:STANDARD
BEGIN:DAYLIGHT
TZOFFSETFROM:+0100
TZOFFSETTO:+0200
TZNAME:CEST
DTSTART:20250330T010000
END:DAYLIGHT
BEGIN:STANDARD
TZOFFSETFROM:+0200
TZOFFSETTO:+0100
TZNAME:CET
DTSTART:20251026T010000
END:STANDARD
BEGIN:DAYLIGHT
TZOFFSETFROM:+0100
TZOFFSETTO:+0200
TZNAME:CEST
DTSTART:20260329T010000
END:DAYLIGHT
BEGIN:STANDARD
TZOFFSETFROM:+0200
TZOFFSETTO:+0100
TZNAME:CET
DTSTART:20261025T010000
END:STANDARD
END:VTIMEZONE
BEGIN:VEVENT
DTSTART;VALUE=DATE:20250210
DTEND;VALUE=DATE:20250212
DTSTAMP:20260421T215921
CREATED:20250211T095622Z
LAST-MODIFIED:20250211T095622Z
UID:943468-1739145600-1739318399@europeannewsroom.com
SUMMARY:EU Commission Vice-President Henna Virkunnen in Paris
DESCRIPTION:meets with Mr Emmanuel Macron\, President of France\, and with Leaders and CEOs;\nmeets with Mr Jean-Noël Barrot\, Minister for Europe and Foreign Affairs of France;\nmeets with Mr Luc Frieden\, Prime Minister of Luxembourg and with Ms Stéphanie Obertin\, Minister for Digitalisation of Luxembourg (february 11)\nmeets with Mr François Bayrou\, Prime Minister of France (february 12).
URL:https://europeannewsroom.com/agenda/eu-commission-vice-president-henna-virkunnen-in-paris/
LOCATION:Paris\, France
END:VEVENT
BEGIN:VEVENT
DTSTART;VALUE=DATE:20250210
DTEND;VALUE=DATE:20250211
DTSTAMP:20260421T215921
CREATED:20250211T100229Z
LAST-MODIFIED:20250211T100229Z
UID:943569-1739145600-1739231999@europeannewsroom.com
SUMMARY:Ministerial Meeting on the Western Balkans
DESCRIPTION:EU High Representative Kaja Kallas participates.\nfurther information
URL:https://europeannewsroom.com/agenda/ministerial-meeting-on-the-western-balkans/
LOCATION:Rome\, Italy
END:VEVENT
BEGIN:VEVENT
DTSTART;VALUE=DATE:20250210
DTEND;VALUE=DATE:20250211
DTSTAMP:20260421T215921
CREATED:20250211T101015Z
LAST-MODIFIED:20250211T101015Z
UID:943771-1739145600-1739231999@europeannewsroom.com
SUMMARY:EU Commission Vice-President Dubravka Šuica in Madrid
DESCRIPTION:has an audience with King Felipe VI of Spain;\nmeets with Ms Elma Saiz\, Minister for Inclusion\, Social Security and Migration;\nmeets with Mr José Manuel Albares\, Minister for Foreign Affairs\, European Union and Cooperation;\nmeets with Mr. Nasser Kamel\, Secretary General of the Union for the Mediterranean.
URL:https://europeannewsroom.com/agenda/eu-commission-vice-president-dubravka-suica-in-madrid-2/
LOCATION:Madrid\, Spain
END:VEVENT
BEGIN:VEVENT
DTSTART;VALUE=DATE:20250210
DTEND;VALUE=DATE:20250211
DTSTAMP:20260421T215921
CREATED:20250211T101808Z
LAST-MODIFIED:20250211T101808Z
UID:943791-1739145600-1739231999@europeannewsroom.com
SUMMARY:EU Commissioner Marta Kos in Rome
DESCRIPTION:attends the Ministerial Meeting on the Western Balkans\,\nmeets with Mr Elmedin Konaković\, Minister of Foreign Affairs of Bosnia and Herzegovina;\nmeets with Mr Antonio Tajani\, Minister for Foreign Affairs and International Cooperation of Italy;\nmeets with Mr Marko Djurić\, Minister for Foreign Affairs of Serbia.
URL:https://europeannewsroom.com/agenda/eu-commissioner-marta-kos-in-rome/
LOCATION:Rome\, Italy
END:VEVENT
BEGIN:VEVENT
DTSTART;VALUE=DATE:20250210
DTEND;VALUE=DATE:20250212
DTSTAMP:20260421T215921
CREATED:20250211T102146Z
LAST-MODIFIED:20250211T102146Z
UID:943801-1739145600-1739318399@europeannewsroom.com
SUMMARY:Informal meeting of EU ministers for development
DESCRIPTION:livestream
URL:https://europeannewsroom.com/agenda/informal-meeting-of-eu-ministers-for-development-2/
LOCATION:Warsaw\, Poland
END:VEVENT
BEGIN:VEVENT
DTSTART;TZID=Europe/Berlin:20250210T080000
DTEND;TZID=Europe/Berlin:20250210T170000
DTSTAMP:20260421T215921
CREATED:20250211T101404Z
LAST-MODIFIED:20250211T101404Z
UID:943781-1739174400-1739206800@europeannewsroom.com
SUMMARY:EU Commissioner Andrius Kubilius in Berlin
DESCRIPTION:meets with Mr Tobias Lindner\, Minister of State at the Federal Foreign Office of Germany;\nmeets with Mr Boris Pistorius\, Minister for Defence of Germany.
URL:https://europeannewsroom.com/agenda/eu-commissioner-andrius-kubilius-in-berlin/
LOCATION:Berlin
END:VEVENT
BEGIN:VEVENT
DTSTART;TZID=Europe/Berlin:20250210T170000
DTEND;TZID=Europe/Berlin:20250213T160000
DTSTAMP:20260421T215921
CREATED:20250207T104731Z
LAST-MODIFIED:20250210T110337Z
UID:923332-1739206800-1739462400@europeannewsroom.com
SUMMARY:EU Parliament Plenary session
DESCRIPTION:agenda\nlivestream\n\nfebruary 10\, 17:00 – 22:00\nfebruary 11\, 09:00 – 22:00\nfebruary 12\, 09:00 – 22:00\nfebruary 13\, 09:00 – 16:00\n\n\n\n 
URL:https://europeannewsroom.com/agenda/eu-parliament-plenary-session-15/
LOCATION:European Parliament Strasbourg\, Belgien
END:VEVENT
BEGIN:VEVENT
DTSTART;VALUE=DATE:20250211
DTEND;VALUE=DATE:20250212
DTSTAMP:20260421T215921
CREATED:20250211T102534Z
LAST-MODIFIED:20250211T102534Z
UID:943834-1739232000-1739318399@europeannewsroom.com
SUMMARY:College of EU Commissioners
DESCRIPTION:press conference live (february 12)
URL:https://europeannewsroom.com/agenda/college-of-eu-commissioners-35/
LOCATION:Strasbourg\, France
END:VEVENT
BEGIN:VEVENT
DTSTART;VALUE=DATE:20250211
DTEND;VALUE=DATE:20250212
DTSTAMP:20260421T215921
CREATED:20250211T102855Z
LAST-MODIFIED:20250211T102855Z
UID:943844-1739232000-1739318399@europeannewsroom.com
SUMMARY:EU Commissioner Olivér Várhelyi in Paris
DESCRIPTION:meets with Ms Agnès Pannier-Runacher\, Minister of Ecological Transition\, Biodiversity\, Forest\, Sea and Fishing of France;\nmeets with Ms Catherine Vautrin\, Minister of Labour\, Health\, Solidarities and Families of France.
URL:https://europeannewsroom.com/agenda/eu-commissioner-oliver-varhelyi-in-paris-2/
LOCATION:Paris\, France
END:VEVENT
BEGIN:VEVENT
DTSTART;VALUE=DATE:20250211
DTEND;VALUE=DATE:20250212
DTSTAMP:20260421T215921
CREATED:20250211T103141Z
LAST-MODIFIED:20250211T103141Z
UID:943854-1739232000-1739318399@europeannewsroom.com
SUMMARY:EU Commissioner Jozef Síkela meets Slovenian Secretary of State for Multilateral Affairs Melita Gabrič
DESCRIPTION:
URL:https://europeannewsroom.com/agenda/eu-commissioner-jozef-sikela-meets-slovenian-secretary-of-state-for-multilateral-affairs-melita-gabric/
LOCATION:Warsaw\, Poland
END:VEVENT
BEGIN:VEVENT
DTSTART;VALUE=DATE:20250211
DTEND;VALUE=DATE:20250212
DTSTAMP:20260421T215921
CREATED:20250211T103416Z
LAST-MODIFIED:20250211T103416Z
UID:943863-1739232000-1739318399@europeannewsroom.com
SUMMARY:EU Commissioner Christophe Hansen in France
DESCRIPTION:meets Mr Sven Schulze\, Minister of Agriculture of Sachsen-Anhalt\, Germany;\nmeets Mr Till Backhaus\, Minister of Agriculture of Mecklenburg-Vorpommern\, Germany.
URL:https://europeannewsroom.com/agenda/eu-commissioner-christophe-hansen-in-france/
LOCATION:Strasbourg\, France
END:VEVENT
BEGIN:VEVENT
DTSTART;VALUE=DATE:20250212
DTEND;VALUE=DATE:20250213
DTSTAMP:20260421T215921
CREATED:20250211T103712Z
LAST-MODIFIED:20250211T103739Z
UID:943896-1739318400-1739404799@europeannewsroom.com
SUMMARY:EU Commission President Ursula von der Leyen meet Canadian Prime Minister Justin Trudeau
DESCRIPTION:together with President of the European Council António Costa.
URL:https://europeannewsroom.com/agenda/eu-commission-president-ursula-von-der-leyen-meet-canadian-prime-minister-justin-trudeau/
LOCATION:Brussels
END:VEVENT
BEGIN:VEVENT
DTSTART;VALUE=DATE:20250212
DTEND;VALUE=DATE:20250213
DTSTAMP:20260421T215921
CREATED:20250211T104130Z
LAST-MODIFIED:20250211T104130Z
UID:943999-1739318400-1739404799@europeannewsroom.com
SUMMARY:EU Commissioner Olivér Várhelyi in the Netherlands
DESCRIPTION:visits the European Medicines Agency premises in Amsterdam;\nmeets with Mr Jean Rummenie\, Minister for Fishery\, Food Security\, Horticulture and Nature Conservation of the Netherlands\, in The Hague;\nmeets with Ms Fleur Agema\, Minister of Health\, Welfare and Sport\, in The Hague.
URL:https://europeannewsroom.com/agenda/eu-commissioner-oliver-varhelyi-in-the-netherlands/
LOCATION:Netherlands
END:VEVENT
BEGIN:VEVENT
DTSTART;TZID=Europe/Berlin:20250212T100000
DTEND;TZID=Europe/Berlin:20250212T130000
DTSTAMP:20260421T215921
CREATED:20250207T104956Z
LAST-MODIFIED:20250207T104956Z
UID:923334-1739354400-1739365200@europeannewsroom.com
SUMMARY:Round Table 'The European Union at a Crossroads: Main Challenges and Impact on Croatia'
DESCRIPTION:event in Croatian\nprogramme
URL:https://europeannewsroom.com/agenda/round-table-the-european-union-at-a-crossroads-main-challenges-and-impact-on-croatia/
LOCATION:Zagreb\, Croatie (Nom local : Hrvatska)
END:VEVENT
BEGIN:VEVENT
DTSTART;VALUE=DATE:20250213
DTEND;VALUE=DATE:20250214
DTSTAMP:20260421T215921
CREATED:20250207T105155Z
LAST-MODIFIED:20250207T105155Z
UID:923336-1739404800-1739491199@europeannewsroom.com
SUMMARY:NATO defence ministers meet
DESCRIPTION:livestream available
URL:https://europeannewsroom.com/agenda/nato-defence-ministers-meet-2/
LOCATION:Brussels
END:VEVENT
BEGIN:VEVENT
DTSTART;VALUE=DATE:20250213
DTEND;VALUE=DATE:20250214
DTSTAMP:20260421T215921
CREATED:20250211T104558Z
LAST-MODIFIED:20250211T104558Z
UID:944010-1739404800-1739491199@europeannewsroom.com
SUMMARY:EU Commission Vice-President Stéphane Séjourné in France
DESCRIPTION:visits the Centre Nucléaire de Production d’Électricite (CNPE) de Flamanville.
URL:https://europeannewsroom.com/agenda/eu-commission-vice-president-stephane-sejourne-in-france/
LOCATION:Flamanville\, France
END:VEVENT
BEGIN:VEVENT
DTSTART;VALUE=DATE:20250213
DTEND;VALUE=DATE:20250215
DTSTAMP:20260421T215921
CREATED:20250211T104910Z
LAST-MODIFIED:20250211T104910Z
UID:944022-1739404800-1739577599@europeannewsroom.com
SUMMARY:EU Commission Vice-President Raffaele Fitto in Athens
DESCRIPTION:meets with Μr Kyriakos Mitsotakis\, Prime Minister of Greece;\nmeets with Mr Nikos Papathanasis: Alternate Minister of Economy and Finance of Greece (february 13);\nmeets with Mr Christos Stylianides\, Minister of Maritime Affairs and Insular Policy of Greece (february 14).
URL:https://europeannewsroom.com/agenda/eu-commission-vice-president-raffaele-fitto-in-athens/
LOCATION:Athens\, Greece
END:VEVENT
BEGIN:VEVENT
DTSTART;VALUE=DATE:20250213
DTEND;VALUE=DATE:20250215
DTSTAMP:20260421T215921
CREATED:20250211T105735Z
LAST-MODIFIED:20250211T105735Z
UID:944043-1739404800-1739577599@europeannewsroom.com
SUMMARY:OECD Ministerial and High-Level Policy Forum
DESCRIPTION:EU Commission Vice-President Roxana Mînzatu participates.
URL:https://europeannewsroom.com/agenda/oecd-ministerial-and-high-level-policy-forum/
LOCATION:Paris\, France
END:VEVENT
BEGIN:VEVENT
DTSTART;TZID=Europe/Berlin:20250213T090000
DTEND;TZID=Europe/Berlin:20250213T120000
DTSTAMP:20260421T215921
CREATED:20250211T110413Z
LAST-MODIFIED:20250211T110413Z
UID:944053-1739437200-1739448000@europeannewsroom.com
SUMMARY:Event '30 years of EU membership - Staying competitive and ahead of the curve'
DESCRIPTION:
URL:https://europeannewsroom.com/agenda/event-30-years-of-eu-membership-staying-competitive-and-ahead-of-the-curve/
LOCATION:Vienna\, Austria
END:VEVENT
BEGIN:VEVENT
DTSTART;TZID=Europe/Berlin:20250213T090000
DTEND;TZID=Europe/Berlin:20250213T173000
DTSTAMP:20260421T215921
CREATED:20250207T105517Z
LAST-MODIFIED:20250210T110640Z
UID:923339-1739437200-1739467800@europeannewsroom.com
SUMMARY:International Conference 'A new era of European Transport'
DESCRIPTION:opening keynote speeches by Polish Deputy Prime Minister Władysław Kosiniak-Kamysz\, Polish Minister of Infrastructure Dariusz Klimczak and EU Commissioner Apostolos Tzitzikostas\nagenda
URL:https://europeannewsroom.com/agenda/international-conference-a-new-era-of-european-transport/
LOCATION:Łódź\, Poland
END:VEVENT
BEGIN:VEVENT
DTSTART;TZID=Europe/Berlin:20250213T183000
DTEND;TZID=Europe/Berlin:20250213T183000
DTSTAMP:20260421T215921
CREATED:20250211T105415Z
LAST-MODIFIED:20250211T105415Z
UID:944033-1739471400-1739471400@europeannewsroom.com
SUMMARY:Munich European Conference
DESCRIPTION:EU Commissioner Wopke Hoekstra participates.
URL:https://europeannewsroom.com/agenda/munich-european-conference/
LOCATION:Munich\, Germany
END:VEVENT
BEGIN:VEVENT
DTSTART;VALUE=DATE:20250214
DTEND;VALUE=DATE:20250217
DTSTAMP:20260421T215921
CREATED:20250207T110014Z
LAST-MODIFIED:20250207T110014Z
UID:923364-1739491200-1739750399@europeannewsroom.com
SUMMARY:Munich Security Conference
DESCRIPTION:EU Commission President Ursula von der Leyen\, Vice-Presidents Henna Virkunnen\, Maroš Šefčovič\, EU High Representative Kaja Kallas and EU Commissioners Dubravka Šuica\, Andrius Kubillius\, Hadja Lahbib\, Ekaterina Zaharieva and Magnus Brunner participate.\nlivestream available
URL:https://europeannewsroom.com/agenda/munich-security-conference-2/
LOCATION:Munich\, Germany
END:VEVENT
BEGIN:VEVENT
DTSTART;VALUE=DATE:20250217
DTEND;VALUE=DATE:20250219
DTSTAMP:20260421T215921
CREATED:20250214T070818Z
LAST-MODIFIED:20250214T070818Z
UID:954664-1739750400-1739923199@europeannewsroom.com
SUMMARY:Informal meeting of the EU General Affairs Council
DESCRIPTION:livestream
URL:https://europeannewsroom.com/agenda/informal-meeting-of-the-eu-general-affairs-council-2/
LOCATION:Warsaw\, Poland
END:VEVENT
BEGIN:VEVENT
DTSTART;VALUE=DATE:20250217
DTEND;VALUE=DATE:20250218
DTSTAMP:20260421T215921
CREATED:20250217T183449Z
LAST-MODIFIED:20250217T183449Z
UID:967177-1739750400-1739836799@europeannewsroom.com
SUMMARY:Informal meeting on Ukraine and security in Europe
DESCRIPTION:hosted by French President Emmanuel Macron;\nEU Commission President Ursula von der Leyen and President of the European Council António Costa participate.
URL:https://europeannewsroom.com/agenda/informal-meeting-on-ukraine-and-security-in-europe/
LOCATION:Paris\, France
END:VEVENT
BEGIN:VEVENT
DTSTART;VALUE=DATE:20250217
DTEND;VALUE=DATE:20250218
DTSTAMP:20260421T215921
CREATED:20250217T183734Z
LAST-MODIFIED:20250217T183734Z
UID:967187-1739750400-1739836799@europeannewsroom.com
SUMMARY:EU Commission Vice-President Stéphane Séjourné receives Danish Economic Affairs Minister Stephanie Lose
DESCRIPTION:
URL:https://europeannewsroom.com/agenda/eu-commission-vice-president-stephane-sejourne-receives-danish-economic-affairs-minister-stephanie-lose/
LOCATION:Brussels
END:VEVENT
BEGIN:VEVENT
DTSTART;VALUE=DATE:20250217
DTEND;VALUE=DATE:20250218
DTSTAMP:20260421T215921
CREATED:20250217T183929Z
LAST-MODIFIED:20250217T183929Z
UID:967197-1739750400-1739836799@europeannewsroom.com
SUMMARY:EU Commission Vice-President Raffaele Fitto receives Minister-President of Flanders Matthias Diependaele
DESCRIPTION:
URL:https://europeannewsroom.com/agenda/eu-commission-vice-president-raffaele-fitto-receives-minister-president-of-flanders-matthias-diependaele/
LOCATION:Brussels
END:VEVENT
BEGIN:VEVENT
DTSTART;VALUE=DATE:20250217
DTEND;VALUE=DATE:20250218
DTSTAMP:20260421T215921
CREATED:20250217T184401Z
LAST-MODIFIED:20250217T184401Z
UID:967210-1739750400-1739836799@europeannewsroom.com
SUMMARY:EU Commissioner Magnus Brunner in Madrid
DESCRIPTION:meets Fernando Grande-Marlaska Gómez\, Minister of Interior of Spain;\nmeets Elma Saiz Delgado\, Minister for Inclusion\, Social Security and Migration of Spain;\nmeets José Manuel Albares Bueno\, Minister of Foreign Affairs\, European Union and Cooperation of Spain.
URL:https://europeannewsroom.com/agenda/eu-commissioner-magnus-brunner-in-madrid/
LOCATION:Madrid\, Spain
END:VEVENT
BEGIN:VEVENT
DTSTART;VALUE=DATE:20250217
DTEND;VALUE=DATE:20250218
DTSTAMP:20260421T215921
CREATED:20250217T185722Z
LAST-MODIFIED:20250217T185722Z
UID:967220-1739750400-1739836799@europeannewsroom.com
SUMMARY:EU Commissioner Maria Luís Albuquerque receives German Minister of Finances Jörg Kukies
DESCRIPTION:
URL:https://europeannewsroom.com/agenda/eu-commissioner-maria-luis-albuquerque-receives-german-minister-of-finances-jorg-kukies/
LOCATION:Brussels
END:VEVENT
BEGIN:VEVENT
DTSTART;TZID=Europe/Berlin:20250217T090000
DTEND;TZID=Europe/Berlin:20250217T090000
DTSTAMP:20260421T215921
CREATED:20250214T065814Z
LAST-MODIFIED:20250214T065814Z
UID:954635-1739782800-1739782800@europeannewsroom.com
SUMMARY:New Economy Forum
DESCRIPTION:EU Commissioner Magnus Brunner participates.
URL:https://europeannewsroom.com/agenda/new-economy-forum/
LOCATION:Madrid\, Spain
END:VEVENT
BEGIN:VEVENT
DTSTART;TZID=Europe/Berlin:20250217T143500
DTEND;TZID=Europe/Berlin:20250218T144500
DTSTAMP:20260421T215921
CREATED:20250214T070217Z
LAST-MODIFIED:20250214T070217Z
UID:954637-1739802900-1739889900@europeannewsroom.com
SUMMARY:European Parliamentary Week
DESCRIPTION:opening by EU Parliament President Roberta Metsola and President of the European Council António Costa.\nagenda\nlivestream available
URL:https://europeannewsroom.com/agenda/european-parliamentary-week/
LOCATION:European Parliament Brussels\, Belgium
END:VEVENT
END:VCALENDAR