BEGIN:VCALENDAR
VERSION:2.0
PRODID:-//European Newsroom - ECPv6.15.18//NONSGML v1.0//EN
CALSCALE:GREGORIAN
METHOD:PUBLISH
X-WR-CALNAME:European Newsroom
X-ORIGINAL-URL:https://europeannewsroom.com
X-WR-CALDESC:Events for European Newsroom
REFRESH-INTERVAL;VALUE=DURATION:PT1H
X-Robots-Tag:noindex
X-PUBLISHED-TTL:PT1H
BEGIN:VTIMEZONE
TZID:Europe/Berlin
BEGIN:DAYLIGHT
TZOFFSETFROM:+0100
TZOFFSETTO:+0200
TZNAME:CEST
DTSTART:20240331T010000
END:DAYLIGHT
BEGIN:STANDARD
TZOFFSETFROM:+0200
TZOFFSETTO:+0100
TZNAME:CET
DTSTART:20241027T010000
END:STANDARD
BEGIN:DAYLIGHT
TZOFFSETFROM:+0100
TZOFFSETTO:+0200
TZNAME:CEST
DTSTART:20250330T010000
END:DAYLIGHT
BEGIN:STANDARD
TZOFFSETFROM:+0200
TZOFFSETTO:+0100
TZNAME:CET
DTSTART:20251026T010000
END:STANDARD
BEGIN:DAYLIGHT
TZOFFSETFROM:+0100
TZOFFSETTO:+0200
TZNAME:CEST
DTSTART:20260329T010000
END:DAYLIGHT
BEGIN:STANDARD
TZOFFSETFROM:+0200
TZOFFSETTO:+0100
TZNAME:CET
DTSTART:20261025T010000
END:STANDARD
END:VTIMEZONE
BEGIN:VEVENT
DTSTART;VALUE=DATE:20250424
DTEND;VALUE=DATE:20250426
DTSTAMP:20260420T182044
CREATED:20250418T024141Z
LAST-MODIFIED:20250418T024141Z
UID:1161415-1745452800-1745625599@europeannewsroom.com
SUMMARY:EU Directors General Meeting for Urban Matters
DESCRIPTION:
URL:https://europeannewsroom.com/agenda/eu-directors-general-meeting-for-urban-matters/
LOCATION:Warsaw\, Poland
END:VEVENT
BEGIN:VEVENT
DTSTART;VALUE=DATE:20250424
DTEND;VALUE=DATE:20250425
DTSTAMP:20260420T182044
CREATED:20250418T023948Z
LAST-MODIFIED:20250418T023948Z
UID:1161413-1745452800-1745539199@europeannewsroom.com
SUMMARY:Meeting of EU Directors-General responsible for Territorial Cohesion
DESCRIPTION:
URL:https://europeannewsroom.com/agenda/meeting-of-eu-directors-general-responsible-for-territorial-cohesion/
LOCATION:Warsaw\, Poland
END:VEVENT
BEGIN:VEVENT
DTSTART;TZID=Europe/Berlin:20250423T090000
DTEND;TZID=Europe/Berlin:20250423T180000
DTSTAMP:20260420T182044
CREATED:20250418T023822Z
LAST-MODIFIED:20250418T023822Z
UID:1161411-1745398800-1745431200@europeannewsroom.com
SUMMARY:Conference 'Energy Security and the Transformation of the Region'
DESCRIPTION:livestream
URL:https://europeannewsroom.com/agenda/conference-energy-security-and-the-transformation-of-the-region/
LOCATION:Katowice\, Poland
END:VEVENT
BEGIN:VEVENT
DTSTART;VALUE=DATE:20250423
DTEND;VALUE=DATE:20250425
DTSTAMP:20260420T182044
CREATED:20250504T133444Z
LAST-MODIFIED:20250504T133444Z
UID:1217473-1745366400-1745539199@europeannewsroom.com
SUMMARY:EU Commissioner Wopke Hoekstra in Sofia
DESCRIPTION:meets with Temenuzhka Petkova\, Minister of Finance of Bulgaria (april 23);\nmeets with Tomislav Donchev\, Deputy Prime Minister of Bulgaria;\nmeets with Manol Genov\, Minister of Environment and Water of Bulgaria (april 24).
URL:https://europeannewsroom.com/agenda/eu-commissioner-wopke-hoekstra-in-sofia/
LOCATION:Sofia\, Bulgaria
END:VEVENT
BEGIN:VEVENT
DTSTART;TZID=Europe/Berlin:20250422T143000
DTEND;TZID=Europe/Berlin:20250424T130000
DTSTAMP:20260420T182044
CREATED:20250418T023545Z
LAST-MODIFIED:20250418T025020Z
UID:1161409-1745332200-1745499600@europeannewsroom.com
SUMMARY:EU Parliament Committees meet
DESCRIPTION:Special Committee on the European Democracy Shield (april 22\, 14:30)\n\nagenda\nlivestream\n\n\nCommittee on Budgets (april 23\, 09:00)\n\nagenda\nlivestream\n\n\nCommittee on International Trade (april 23\, 09:30)\n\nagenda\nlivestream\n\n\nCommittee on Foreign Affairs (april 23\, 11:30 & april 24\, 09:30eu )\n\nagenda\nlivestream (april 23)\nlivestream (april 24)\n\n\nSee the calendar for information on other committee meetings.
URL:https://europeannewsroom.com/agenda/eu-parliament-committees-meet-4/
LOCATION:European Parliament Brussels\, Belgium
END:VEVENT
BEGIN:VEVENT
DTSTART;VALUE=DATE:20250416
DTEND;VALUE=DATE:20250418
DTSTAMP:20260420T182044
CREATED:20250411T083213Z
LAST-MODIFIED:20250411T083213Z
UID:1137568-1744761600-1744934399@europeannewsroom.com
SUMMARY:European Central Bank Governing Council
DESCRIPTION:press conference live (april 17\, 14:45)
URL:https://europeannewsroom.com/agenda/european-central-bank-governing-council-17/
LOCATION:Frankfurt\, Germany
END:VEVENT
BEGIN:VEVENT
DTSTART;VALUE=DATE:20250416
DTEND;VALUE=DATE:20250417
DTSTAMP:20260420T182044
CREATED:20250411T082950Z
LAST-MODIFIED:20250411T083229Z
UID:1137565-1744761600-1744847999@europeannewsroom.com
SUMMARY:Informal meeting of EU gender equality ministers
DESCRIPTION:livestream
URL:https://europeannewsroom.com/agenda/informal-meeting-of-eu-gender-equality-ministers-2/
LOCATION:Warsaw\, Poland
END:VEVENT
BEGIN:VEVENT
DTSTART;VALUE=DATE:20250415
DTEND;VALUE=DATE:20250416
DTSTAMP:20260420T182044
CREATED:20250411T082857Z
LAST-MODIFIED:20250411T082857Z
UID:1137563-1744675200-1744761599@europeannewsroom.com
SUMMARY:Meeting of Special Envoys\, Ambassadors\, Directors for the Eastern Partnership
DESCRIPTION:
URL:https://europeannewsroom.com/agenda/meeting-of-special-envoys-ambassadors-directors-for-the-eastern-partnership/
LOCATION:Warsaw\, Poland
END:VEVENT
BEGIN:VEVENT
DTSTART;TZID=Europe/Berlin:20250414T080000
DTEND;TZID=Europe/Berlin:20250414T080000
DTSTAMP:20260420T182044
CREATED:20250411T082300Z
LAST-MODIFIED:20250411T082300Z
UID:1137536-1744617600-1744617600@europeannewsroom.com
SUMMARY:EU Foreign Affairs Council
DESCRIPTION:agenda\nlivestream
URL:https://europeannewsroom.com/agenda/eu-foreign-affairs-council-18/
LOCATION:Luxembourg\, Luxembourg
END:VEVENT
BEGIN:VEVENT
DTSTART;VALUE=DATE:20250414
DTEND;VALUE=DATE:20250415
DTSTAMP:20260420T182044
CREATED:20250411T082745Z
LAST-MODIFIED:20250411T082745Z
UID:1137538-1744588800-1744675199@europeannewsroom.com
SUMMARY:EU-Palestine High-Level Political Dialogue
DESCRIPTION:livestream
URL:https://europeannewsroom.com/agenda/eu-palestine-high-level-political-dialogue/
LOCATION:Luxembourg\, Luxembourg
END:VEVENT
BEGIN:VEVENT
DTSTART;TZID=Europe/Berlin:20250411T090000
DTEND;TZID=Europe/Berlin:20250411T090000
DTSTAMP:20260420T182044
CREATED:20250403T194415Z
LAST-MODIFIED:20250403T194415Z
UID:1104074-1744362000-1744362000@europeannewsroom.com
SUMMARY:Eurogroup
DESCRIPTION:agenda\nlivestream
URL:https://europeannewsroom.com/agenda/eurogroup-12/
LOCATION:Warsaw\, Poland
END:VEVENT
BEGIN:VEVENT
DTSTART;VALUE=DATE:20250411
DTEND;VALUE=DATE:20250413
DTSTAMP:20260420T182044
CREATED:20250403T194945Z
LAST-MODIFIED:20250403T194945Z
UID:1104084-1744329600-1744502399@europeannewsroom.com
SUMMARY:Informal meeting of EU economic and financial affairs ministers
DESCRIPTION:livestream
URL:https://europeannewsroom.com/agenda/informal-meeting-of-eu-economic-and-financial-affairs-ministers-3/
LOCATION:Warsaw\, Poland
END:VEVENT
BEGIN:VEVENT
DTSTART;TZID=Europe/Berlin:20250409T134500
DTEND;TZID=Europe/Berlin:20250409T134500
DTSTAMP:20260420T182044
CREATED:20250403T194037Z
LAST-MODIFIED:20250403T194037Z
UID:1104066-1744206300-1744206300@europeannewsroom.com
SUMMARY:EU-Ukraine Association Council
DESCRIPTION:
URL:https://europeannewsroom.com/agenda/eu-ukraine-association-council/
LOCATION:Brussels
END:VEVENT
BEGIN:VEVENT
DTSTART;TZID=Europe/Berlin:20250407T110000
DTEND;TZID=Europe/Berlin:20250407T110000
DTSTAMP:20260420T182044
CREATED:20250403T193328Z
LAST-MODIFIED:20250403T195252Z
UID:1104026-1744023600-1744023600@europeannewsroom.com
SUMMARY:EU Foreign Affairs Council (Trade)
DESCRIPTION:agenda\nlivestream
URL:https://europeannewsroom.com/agenda/eu-foreign-affairs-council-trade-2/
LOCATION:Luxembourg\, Luxembourg
END:VEVENT
BEGIN:VEVENT
DTSTART;VALUE=DATE:20250407
DTEND;VALUE=DATE:20250408
DTSTAMP:20260420T182044
CREATED:20250403T193809Z
LAST-MODIFIED:20250403T193809Z
UID:1104057-1743984000-1744070399@europeannewsroom.com
SUMMARY:National Coordination Centres Networking Day
DESCRIPTION:
URL:https://europeannewsroom.com/agenda/national-coordination-centres-networking-day/
LOCATION:Warsaw\, Poland
END:VEVENT
BEGIN:VEVENT
DTSTART;TZID=Europe/Berlin:20250404T091500
DTEND;TZID=Europe/Berlin:20250404T091500
DTSTAMP:20260420T182044
CREATED:20250328T113016Z
LAST-MODIFIED:20250328T113016Z
UID:1087921-1743758100-1743758100@europeannewsroom.com
SUMMARY:EU-Central Asia summit
DESCRIPTION:
URL:https://europeannewsroom.com/agenda/eu-central-asia-summit/
LOCATION:Samarkand\, Uzbekistan
END:VEVENT
BEGIN:VEVENT
DTSTART;TZID=Europe/Berlin:20250402T150000
DTEND;TZID=Europe/Berlin:20250403T130000
DTSTAMP:20260420T182044
CREATED:20250328T112743Z
LAST-MODIFIED:20250328T112743Z
UID:1087917-1743606000-1743685200@europeannewsroom.com
SUMMARY:European Committee of the Regions plenary session
DESCRIPTION:livestream available
URL:https://europeannewsroom.com/agenda/european-committee-of-the-regions-plenary-session-7/
LOCATION:Brussels
END:VEVENT
BEGIN:VEVENT
DTSTART;VALUE=DATE:20250402
DTEND;VALUE=DATE:20250404
DTSTAMP:20260420T182044
CREATED:20250328T112426Z
LAST-MODIFIED:20250328T112542Z
UID:1087913-1743552000-1743724799@europeannewsroom.com
SUMMARY:Informal meeting of EU defence ministers
DESCRIPTION:livestream
URL:https://europeannewsroom.com/agenda/informal-meeting-of-eu-defence-ministers-3/
LOCATION:Warsaw\, Poland
END:VEVENT
BEGIN:VEVENT
DTSTART;TZID=Europe/Berlin:20250331T170000
DTEND;TZID=Europe/Berlin:20250403T160000
DTSTAMP:20260420T182044
CREATED:20250328T111830Z
LAST-MODIFIED:20250328T111830Z
UID:1087904-1743440400-1743696000@europeannewsroom.com
SUMMARY:EU Parliament plenary session
DESCRIPTION:agenda\nlivestream\n\nmarch 31\, 17:00 – 22:00\napril 1\, 09:00 – 22:00\napril 2\, 09:00 – 22:00\napril 3\, 09:00 – 16:00
URL:https://europeannewsroom.com/agenda/eu-parliament-plenary-session-16/
LOCATION:European Parliament Strasbourg\, Belgien
END:VEVENT
BEGIN:VEVENT
DTSTART;VALUE=DATE:20250331
DTEND;VALUE=DATE:20250402
DTSTAMP:20260420T182044
CREATED:20250328T112103Z
LAST-MODIFIED:20250328T112232Z
UID:1087908-1743379200-1743551999@europeannewsroom.com
SUMMARY:EU-US senior officials meeting on justice and home affairs
DESCRIPTION:
URL:https://europeannewsroom.com/agenda/eu-us-senior-officials-meeting-on-justice-and-home-affairs/
LOCATION:Warsaw\, Poland
END:VEVENT
BEGIN:VEVENT
DTSTART;TZID=Europe/Berlin:20250328T100000
DTEND;TZID=Europe/Berlin:20250328T100000
DTSTAMP:20260420T182044
CREATED:20250321T120148Z
LAST-MODIFIED:20250321T120148Z
UID:1063143-1743156000-1743156000@europeannewsroom.com
SUMMARY:EU General Affairs Council (Cohesion)
DESCRIPTION:agenda\nlivestream
URL:https://europeannewsroom.com/agenda/eu-general-affairs-council-cohesion-2/
LOCATION:Brussels
END:VEVENT
BEGIN:VEVENT
DTSTART;TZID=Europe/Berlin:20250327T100000
DTEND;TZID=Europe/Berlin:20250327T100000
DTSTAMP:20260420T182044
CREATED:20250321T115910Z
LAST-MODIFIED:20250321T115910Z
UID:1063141-1743069600-1743069600@europeannewsroom.com
SUMMARY:EU Environment Council
DESCRIPTION:agenda\nlivestream
URL:https://europeannewsroom.com/agenda/eu-environment-council-6/
LOCATION:Brussels
END:VEVENT
BEGIN:VEVENT
DTSTART;TZID=Europe/Berlin:20250326T143000
DTEND;TZID=Europe/Berlin:20250327T130000
DTSTAMP:20260420T182044
CREATED:20250321T115743Z
LAST-MODIFIED:20250321T115743Z
UID:1063139-1742999400-1743080400@europeannewsroom.com
SUMMARY:European Economic and Social Committee Plenary Session
DESCRIPTION:agenda\nlivestream
URL:https://europeannewsroom.com/agenda/european-economic-and-social-committee-plenary-session-9/
LOCATION:Brussels
END:VEVENT
BEGIN:VEVENT
DTSTART;VALUE=DATE:20250325
DTEND;VALUE=DATE:20250326
DTSTAMP:20260420T182044
CREATED:20250324T194548Z
LAST-MODIFIED:20250324T194651Z
UID:1072532-1742860800-1742947199@europeannewsroom.com
SUMMARY:EU Commissioner Christophe Hansen in Rome
DESCRIPTION:meets with Francesco Lollobrigida\, Minister for Agriculture\, Food Sovereignty and Forests of Italy;\nparticipates in the Conference “L’agricoltura è”;\nvisits Villaggio agricolo;\nmeets with Mr Antonio Tajani\, Minister for Foreign Affairs and International Cooperation of Italy.
URL:https://europeannewsroom.com/agenda/eu-commissioner-christophe-hansen-in-rome/
LOCATION:Rome\, Italy
END:VEVENT
BEGIN:VEVENT
DTSTART;VALUE=DATE:20250325
DTEND;VALUE=DATE:20250326
DTSTAMP:20260420T182044
CREATED:20250324T194217Z
LAST-MODIFIED:20250324T194217Z
UID:1072523-1742860800-1742947199@europeannewsroom.com
SUMMARY:EU Commissioner Piotr Serafin in Zagreb
DESCRIPTION:meets Mr Andrej Plenković\, Prime Minister of Croatia;\nmeets with the European Affairs and Finance and Central Budget Committees of the national Parliament;\nvisits the Croatian Natural History Museum.
URL:https://europeannewsroom.com/agenda/eu-commissioner-piotr-serafin-in-zagreb/
LOCATION:Zagreb\, Croatie (Nom local : Hrvatska)
END:VEVENT
BEGIN:VEVENT
DTSTART;VALUE=DATE:20250325
DTEND;VALUE=DATE:20250326
DTSTAMP:20260420T182044
CREATED:20250324T194035Z
LAST-MODIFIED:20250324T194035Z
UID:1072514-1742860800-1742947199@europeannewsroom.com
SUMMARY:EU Commissioner Marta Kos meets Slovenian National Council
DESCRIPTION:
URL:https://europeannewsroom.com/agenda/eu-commissioner-marta-kos-meets-slovenian-national-council/
LOCATION:Ljubljana\, Slovenia
END:VEVENT
BEGIN:VEVENT
DTSTART;VALUE=DATE:20250325
DTEND;VALUE=DATE:20250326
DTSTAMP:20260420T182044
CREATED:20250324T193639Z
LAST-MODIFIED:20250324T193639Z
UID:1072458-1742860800-1742947199@europeannewsroom.com
SUMMARY:EU Commission Vice-President Roxana Mînzatu receives French Minister for Housing Valérie Létard
DESCRIPTION:
URL:https://europeannewsroom.com/agenda/eu-commission-vice-president-roxana-minzatu-receives-french-minister-for-housing-valerie-letard/
LOCATION:Brussels
END:VEVENT
BEGIN:VEVENT
DTSTART;VALUE=DATE:20250325
DTEND;VALUE=DATE:20250326
DTSTAMP:20260420T182044
CREATED:20250324T192951Z
LAST-MODIFIED:20250324T192951Z
UID:1072441-1742860800-1742947199@europeannewsroom.com
SUMMARY:EU Commission President Ursula von der Leyen meets Serbian President Aleksandar Vučić
DESCRIPTION:together with President of the European Council António Costa.
URL:https://europeannewsroom.com/agenda/eu-commission-president-ursula-von-der-leyen-meets-serbian-president-aleksandar-vucic/
LOCATION:Brussels
END:VEVENT
BEGIN:VEVENT
DTSTART;TZID=Europe/Berlin:20250324T100000
DTEND;TZID=Europe/Berlin:20250324T100000
DTSTAMP:20260420T182044
CREATED:20250321T115101Z
LAST-MODIFIED:20250321T115101Z
UID:1063112-1742810400-1742810400@europeannewsroom.com
SUMMARY:EU Agriculture and Fisheries Council
DESCRIPTION:agenda\nlivestream
URL:https://europeannewsroom.com/agenda/eu-agriculture-and-fisheries-council-16/
LOCATION:Brussels
END:VEVENT
BEGIN:VEVENT
DTSTART;TZID=Europe/Berlin:20250324T093000
DTEND;TZID=Europe/Berlin:20250327T130000
DTSTAMP:20260420T182044
CREATED:20250321T115521Z
LAST-MODIFIED:20250321T115521Z
UID:1063137-1742808600-1743080400@europeannewsroom.com
SUMMARY:Congress of Local and Regional Authorities
DESCRIPTION:agenda
URL:https://europeannewsroom.com/agenda/congress-of-local-and-regional-authorities/
LOCATION:Strasbourg\, France
END:VEVENT
END:VCALENDAR