BEGIN:VCALENDAR
VERSION:2.0
PRODID:-//European Newsroom - ECPv6.15.18//NONSGML v1.0//EN
CALSCALE:GREGORIAN
METHOD:PUBLISH
X-WR-CALNAME:European Newsroom
X-ORIGINAL-URL:https://europeannewsroom.com
X-WR-CALDESC:Events for European Newsroom
REFRESH-INTERVAL;VALUE=DURATION:PT1H
X-Robots-Tag:noindex
X-PUBLISHED-TTL:PT1H
BEGIN:VTIMEZONE
TZID:Europe/Berlin
BEGIN:DAYLIGHT
TZOFFSETFROM:+0100
TZOFFSETTO:+0200
TZNAME:CEST
DTSTART:20240331T010000
END:DAYLIGHT
BEGIN:STANDARD
TZOFFSETFROM:+0200
TZOFFSETTO:+0100
TZNAME:CET
DTSTART:20241027T010000
END:STANDARD
BEGIN:DAYLIGHT
TZOFFSETFROM:+0100
TZOFFSETTO:+0200
TZNAME:CEST
DTSTART:20250330T010000
END:DAYLIGHT
BEGIN:STANDARD
TZOFFSETFROM:+0200
TZOFFSETTO:+0100
TZNAME:CET
DTSTART:20251026T010000
END:STANDARD
BEGIN:DAYLIGHT
TZOFFSETFROM:+0100
TZOFFSETTO:+0200
TZNAME:CEST
DTSTART:20260329T010000
END:DAYLIGHT
BEGIN:STANDARD
TZOFFSETFROM:+0200
TZOFFSETTO:+0100
TZNAME:CET
DTSTART:20261025T010000
END:STANDARD
END:VTIMEZONE
BEGIN:VEVENT
DTSTART;VALUE=DATE:20250624
DTEND;VALUE=DATE:20250626
DTSTAMP:20260420T194050
CREATED:20250620T102319Z
LAST-MODIFIED:20250620T102319Z
UID:1350798-1750723200-1750895999@europeannewsroom.com
SUMMARY:NATO summit
DESCRIPTION:
URL:https://europeannewsroom.com/agenda/nato-summit/
LOCATION:The Hague\, Netherlands
END:VEVENT
BEGIN:VEVENT
DTSTART;TZID=Europe/Berlin:20250623T170000
DTEND;TZID=Europe/Berlin:20250623T170000
DTSTAMP:20260420T194050
CREATED:20250620T102115Z
LAST-MODIFIED:20250620T102115Z
UID:1350770-1750698000-1750698000@europeannewsroom.com
SUMMARY:EU-Canada Summit
DESCRIPTION:followed by a press conference by President of the European Counil António Costa\, EU Commission President Ursula von der Leyen and Canadian President Mark Carney (19:20);\nlivestream.
URL:https://europeannewsroom.com/agenda/eu-canada-summit-2/
LOCATION:Brussels
END:VEVENT
BEGIN:VEVENT
DTSTART;TZID=Europe/Berlin:20250623T093000
DTEND;TZID=Europe/Berlin:20250624T153000
DTSTAMP:20260420T194050
CREATED:20250623T162215Z
LAST-MODIFIED:20250623T162215Z
UID:1357714-1750671000-1750779000@europeannewsroom.com
SUMMARY:European Forum on the rights of the child
DESCRIPTION:EU Commissioner Glenn Micallef participates;\nlivestream available.
URL:https://europeannewsroom.com/agenda/european-forum-on-the-rights-of-the-child/
LOCATION:Brussels
END:VEVENT
BEGIN:VEVENT
DTSTART;TZID=Europe/Berlin:20250623T090000
DTEND;TZID=Europe/Berlin:20250623T160000
DTSTAMP:20260420T194050
CREATED:20250623T151455Z
LAST-MODIFIED:20250623T151455Z
UID:1357499-1750669200-1750694400@europeannewsroom.com
SUMMARY:Conference 'Equality\, Europe!'
DESCRIPTION:
URL:https://europeannewsroom.com/agenda/conference-equality-europe/
LOCATION:Poznan\, Pologne
END:VEVENT
BEGIN:VEVENT
DTSTART;TZID=Europe/Berlin:20250623T090000
DTEND;TZID=Europe/Berlin:20250623T090000
DTSTAMP:20260420T194050
CREATED:20250620T101659Z
LAST-MODIFIED:20250620T101659Z
UID:1350768-1750669200-1750669200@europeannewsroom.com
SUMMARY:EU Foreign Affairs Council
DESCRIPTION:agenda\nlivestream
URL:https://europeannewsroom.com/agenda/eu-foreign-affairs-council-20/
LOCATION:Brussels
END:VEVENT
BEGIN:VEVENT
DTSTART;TZID=Europe/Berlin:20250623T083000
DTEND;TZID=Europe/Berlin:20250623T120000
DTSTAMP:20260420T194050
CREATED:20250620T102205Z
LAST-MODIFIED:20250620T102205Z
UID:1350773-1750667400-1750680000@europeannewsroom.com
SUMMARY:Conference on Protection of Children and Adolescents in the Digital Environment
DESCRIPTION:
URL:https://europeannewsroom.com/agenda/conference-on-protection-of-children-and-adolescents-in-the-digital-environment/
LOCATION:Prague\, Czech Republic
END:VEVENT
BEGIN:VEVENT
DTSTART;VALUE=DATE:20250623
DTEND;VALUE=DATE:20250624
DTSTAMP:20260420T194050
CREATED:20250623T162540Z
LAST-MODIFIED:20250623T162540Z
UID:1357748-1750636800-1750723199@europeannewsroom.com
SUMMARY:EU Commission Vice-President Henna Virkunnen in Berlin
DESCRIPTION:meets German Minister of Defence Boris Pistorius;\nmeets German Minister for Digitalisation Karsten Wildberger.
URL:https://europeannewsroom.com/agenda/eu-commission-vice-president-henna-virkunnen-in-berlin/
LOCATION:Berlin
END:VEVENT
BEGIN:VEVENT
DTSTART;VALUE=DATE:20250623
DTEND;VALUE=DATE:20250624
DTSTAMP:20260420T194050
CREATED:20250623T162309Z
LAST-MODIFIED:20250623T162309Z
UID:1357746-1750636800-1750723199@europeannewsroom.com
SUMMARY:EU Commissioner Maroš Šefčovič in Berlin
DESCRIPTION:meets German Vice-Chancellor Lars Klingbeil;\nmeets German Minister for Economic Affairs Katherina Reiche.
URL:https://europeannewsroom.com/agenda/eu-commissioner-maros-sefcovic-in-berlin/
LOCATION:Berlin
END:VEVENT
BEGIN:VEVENT
DTSTART;VALUE=DATE:20250623
DTEND;VALUE=DATE:20250625
DTSTAMP:20260420T194050
CREATED:20250623T154447Z
LAST-MODIFIED:20250623T154447Z
UID:1357567-1750636800-1750809599@europeannewsroom.com
SUMMARY:Informal meeting of EU tourism ministers
DESCRIPTION:livestream (june 24)
URL:https://europeannewsroom.com/agenda/informal-meeting-of-eu-tourism-ministers-3/
LOCATION:Warsaw\, Poland
END:VEVENT
BEGIN:VEVENT
DTSTART;VALUE=DATE:20250623
DTEND;VALUE=DATE:20250625
DTSTAMP:20260420T194050
CREATED:20250623T153755Z
LAST-MODIFIED:20250623T153755Z
UID:1357557-1750636800-1750809599@europeannewsroom.com
SUMMARY:EU Agriculture and Fisheries Council
DESCRIPTION:agenda\nlivestream
URL:https://europeannewsroom.com/agenda/eu-agriculture-and-fisheries-council-18/
LOCATION:Luxembourg\, Luxembourg
END:VEVENT
BEGIN:VEVENT
DTSTART;TZID=Europe/Berlin:20250619T083000
DTEND;TZID=Europe/Berlin:20250619T140000
DTSTAMP:20260420T194050
CREATED:20250613T111754Z
LAST-MODIFIED:20250613T111754Z
UID:1330502-1750321800-1750341600@europeannewsroom.com
SUMMARY:Conference 'EU Financial Days 2025: Finance Competitiveness'
DESCRIPTION:
URL:https://europeannewsroom.com/agenda/conference-eu-financial-days-2025-finance-competitiveness/
LOCATION:Rome\, Italy
END:VEVENT
BEGIN:VEVENT
DTSTART;VALUE=DATE:20250618
DTEND;VALUE=DATE:20250620
DTSTAMP:20260420T194050
CREATED:20250613T111640Z
LAST-MODIFIED:20250613T111707Z
UID:1330498-1750204800-1750377599@europeannewsroom.com
SUMMARY:European Economic and Social Committee plenary session
DESCRIPTION:livestream available
URL:https://europeannewsroom.com/agenda/european-social-and-economic-committee-plenary-session/
LOCATION:Brussels
END:VEVENT
BEGIN:VEVENT
DTSTART;TZID=Europe/Berlin:20250617T093000
DTEND;TZID=Europe/Berlin:20250617T093000
DTSTAMP:20260420T194050
CREATED:20250613T111455Z
LAST-MODIFIED:20250613T111455Z
UID:1330496-1750152600-1750152600@europeannewsroom.com
SUMMARY:EU Environment Council
DESCRIPTION:agenda\nlivestream
URL:https://europeannewsroom.com/agenda/eu-environment-council-7/
LOCATION:Luxembourg\, Luxembourg
END:VEVENT
BEGIN:VEVENT
DTSTART;TZID=Europe/Berlin:20250616T170000
DTEND;TZID=Europe/Berlin:20250619T160000
DTSTAMP:20260420T194050
CREATED:20250613T111309Z
LAST-MODIFIED:20250613T111309Z
UID:1330494-1750093200-1750348800@europeannewsroom.com
SUMMARY:EU Parliament plenary session
DESCRIPTION:agenda\nlivestream\n\njune 16\, 17:00 – 22:00\njune 17\, 09:00 – 22:00\njune 18\, 09:00 – 22:00\njune 19\, 09:00 – 16:00
URL:https://europeannewsroom.com/agenda/eu-parliament-plenary-session-18/
LOCATION:European Parliament Strasbourg\, Belgien
END:VEVENT
BEGIN:VEVENT
DTSTART;TZID=Europe/Berlin:20250616T093000
DTEND;TZID=Europe/Berlin:20250616T093000
DTSTAMP:20260420T194050
CREATED:20250613T111050Z
LAST-MODIFIED:20250613T111050Z
UID:1330492-1750066200-1750066200@europeannewsroom.com
SUMMARY:EU Energy Council
DESCRIPTION:agenda\nlivestream
URL:https://europeannewsroom.com/agenda/eu-energy-council-4/
LOCATION:Luxembourg\, Luxembourg
END:VEVENT
BEGIN:VEVENT
DTSTART;VALUE=DATE:20250616
DTEND;VALUE=DATE:20250618
DTSTAMP:20260420T194050
CREATED:20250701T092658Z
LAST-MODIFIED:20250701T092658Z
UID:1377617-1750032000-1750204799@europeannewsroom.com
SUMMARY:EU Commission Vice-President Roxana Mînzatu visits Bulgaria
DESCRIPTION:
URL:https://europeannewsroom.com/agenda/eu-commission-vice-president-roxana-minzatu-visits-bulgaria/
LOCATION:Sofia\, Bulgaria
END:VEVENT
BEGIN:VEVENT
DTSTART;VALUE=DATE:20250614
DTEND;VALUE=DATE:20250615
DTSTAMP:20260420T194050
CREATED:20250606T092212Z
LAST-MODIFIED:20250606T092212Z
UID:1312755-1749859200-1749945599@europeannewsroom.com
SUMMARY:40th anniversary of Schengen Agreement
DESCRIPTION:
URL:https://europeannewsroom.com/agenda/40th-anniversary-of-schengen-agreement/
LOCATION:Europe
END:VEVENT
BEGIN:VEVENT
DTSTART;TZID=Europe/Berlin:20250613T100000
DTEND;TZID=Europe/Berlin:20250614T181500
DTSTAMP:20260420T194050
CREATED:20250606T092006Z
LAST-MODIFIED:20250606T092006Z
UID:1312753-1749808800-1749924900@europeannewsroom.com
SUMMARY:European Youth Event 2025
DESCRIPTION:programme
URL:https://europeannewsroom.com/agenda/european-youth-event-2025/
LOCATION:Strasbourg\, France
END:VEVENT
BEGIN:VEVENT
DTSTART;TZID=Europe/Berlin:20250612T120000
DTEND;TZID=Europe/Berlin:20250612T120000
DTSTAMP:20260420T194050
CREATED:20250612T203836Z
LAST-MODIFIED:20250612T203836Z
UID:1327530-1749729600-1749729600@europeannewsroom.com
SUMMARY:Weimer+ Ministerial meeting
DESCRIPTION:EU High Representative Kaja Kallas participates.\nfurther information
URL:https://europeannewsroom.com/agenda/weimer-ministerial-meeting/
LOCATION:Rome\, Italy
END:VEVENT
BEGIN:VEVENT
DTSTART;VALUE=DATE:20250612
DTEND;VALUE=DATE:20250614
DTSTAMP:20260420T194050
CREATED:20250612T204217Z
LAST-MODIFIED:20250612T204250Z
UID:1327584-1749686400-1749859199@europeannewsroom.com
SUMMARY:EU Commissioner Andrius Kubilius in Prague
DESCRIPTION:meets Czech Prime Minister Petr Fiala;\nmeets Czech President Petr Pavel (june 12);\nvisits the European Union Agency for the Space Programme (june 13);\nvideo recordings
URL:https://europeannewsroom.com/agenda/eu-commissioner-andrius-kubilius-in-prague/
END:VEVENT
BEGIN:VEVENT
DTSTART;VALUE=DATE:20250612
DTEND;VALUE=DATE:20250614
DTSTAMP:20260420T194050
CREATED:20250606T091801Z
LAST-MODIFIED:20250606T091801Z
UID:1312751-1749686400-1749859199@europeannewsroom.com
SUMMARY:Forum of European University Alliances
DESCRIPTION:
URL:https://europeannewsroom.com/agenda/forum-of-european-university-alliances/
LOCATION:Wrocław\, Poland
END:VEVENT
BEGIN:VEVENT
DTSTART;VALUE=DATE:20250612
DTEND;VALUE=DATE:20250614
DTSTAMP:20260420T194050
CREATED:20250606T091646Z
LAST-MODIFIED:20250606T091646Z
UID:1312748-1749686400-1749859199@europeannewsroom.com
SUMMARY:EU Justice and Home Affairs Council
DESCRIPTION:EU Justice Council (june 12\, 10:00)\nEU Home Affairs Council (june 13\, 08:00)\nagenda\nlivestream
URL:https://europeannewsroom.com/agenda/eu-justice-and-home-affairs-council-8/
LOCATION:Luxembourg\, Luxembourg
END:VEVENT
BEGIN:VEVENT
DTSTART;TZID=Europe/Berlin:20250611T190000
DTEND;TZID=Europe/Berlin:20250611T200000
DTSTAMP:20260420T194050
CREATED:20250606T091334Z
LAST-MODIFIED:20250606T091334Z
UID:1312723-1749668400-1749672000@europeannewsroom.com
SUMMARY:Conference '40 Years of Portugal Conference in the European Union'
DESCRIPTION:
URL:https://europeannewsroom.com/agenda/conference-40-years-of-portugal-conference-in-the-european-union/
LOCATION:Lisbon\, Portugal
END:VEVENT
BEGIN:VEVENT
DTSTART;VALUE=DATE:20250609
DTEND;VALUE=DATE:20250614
DTSTAMP:20260420T194050
CREATED:20250612T203444Z
LAST-MODIFIED:20250612T203444Z
UID:1327402-1749427200-1749859199@europeannewsroom.com
SUMMARY:2025 UN Ocean Conference
DESCRIPTION:EU Commission President Ursula von der Leyen and EU Commissioners Costas Kadis\, Jessica Roswall\, Apostolos Tzitzikostas\, and Dubravka Šuica participate.
URL:https://europeannewsroom.com/agenda/2025-un-ocean-conference/
LOCATION:Nice\, France
END:VEVENT
BEGIN:VEVENT
DTSTART;VALUE=DATE:20250609
DTEND;VALUE=DATE:20250611
DTSTAMP:20260420T194050
CREATED:20250612T203151Z
LAST-MODIFIED:20250612T203151Z
UID:1327392-1749427200-1749599999@europeannewsroom.com
SUMMARY:EU Commission Vice-President Roxana Mînzatu in the Republic of Moldova
DESCRIPTION:meets Moldovan Prime Minister Dorin Recean;\nmeets Moldovan President Maia Sandu (june 9);\nmeets Moldovan Minister for Economic Development Doina Nistor (june 9-10).
URL:https://europeannewsroom.com/agenda/eu-commission-vice-president-roxana-minzatu-in-the-republic-of-moldova/
LOCATION:Chișinău\, Moldova\, Republic of
END:VEVENT
BEGIN:VEVENT
DTSTART;TZID=Europe/Berlin:20250606T080000
DTEND;TZID=Europe/Berlin:20250608T160000
DTSTAMP:20260420T194050
CREATED:20250602T160149Z
LAST-MODIFIED:20250602T160149Z
UID:1301109-1749196800-1749398400@europeannewsroom.com
SUMMARY:European Congress of Youth Councils
DESCRIPTION:video adress by EU Commissioner Glenn Micallef
URL:https://europeannewsroom.com/agenda/european-congress-of-youth-councils/
LOCATION:Chęciny\, Poland
END:VEVENT
BEGIN:VEVENT
DTSTART;TZID=Europe/Berlin:20250605T090000
DTEND;TZID=Europe/Berlin:20250606T131500
DTSTAMP:20260420T194050
CREATED:20250602T154807Z
LAST-MODIFIED:20250602T154807Z
UID:1301078-1749114000-1749215700@europeannewsroom.com
SUMMARY:EU Industry Days
DESCRIPTION:keynote speeches by EU Commission Vice-President Stéphane Séjourné and EU Commissioner Andrius Kubilius\nprogramme
URL:https://europeannewsroom.com/agenda/eu-industry-days-2/
LOCATION:Rzeszów\, Poland
END:VEVENT
BEGIN:VEVENT
DTSTART;VALUE=DATE:20250605
DTEND;VALUE=DATE:20250607
DTSTAMP:20260420T194050
CREATED:20250602T153804Z
LAST-MODIFIED:20250602T153804Z
UID:1301044-1749081600-1749254399@europeannewsroom.com
SUMMARY:EU Transport\, Telecommunications and Energy Council
DESCRIPTION:EU Transport Council (june 5\, 10:00)\nEU Telecommunications Councl (june 6\, 10:00)\nagenda\nlivestream
URL:https://europeannewsroom.com/agenda/eu-transport-telecommunications-and-energy-council-2/
LOCATION:Luxembourg\, Luxembourg
END:VEVENT
BEGIN:VEVENT
DTSTART;VALUE=DATE:20250605
DTEND;VALUE=DATE:20250606
DTSTAMP:20260420T194050
CREATED:20250602T153340Z
LAST-MODIFIED:20250602T153340Z
UID:1301036-1749081600-1749167999@europeannewsroom.com
SUMMARY:NATO defence ministers meet
DESCRIPTION:
URL:https://europeannewsroom.com/agenda/nato-defence-ministers-meet-3/
LOCATION:Brussels
END:VEVENT
BEGIN:VEVENT
DTSTART;TZID=Europe/Berlin:20250604T093000
DTEND;TZID=Europe/Berlin:20250606T153000
DTSTAMP:20260420T194050
CREATED:20250602T152746Z
LAST-MODIFIED:20250602T152746Z
UID:1301026-1749029400-1749223800@europeannewsroom.com
SUMMARY:Conference 'Europe and mobilities: challenges and opportunities for socio-economic transformations'
DESCRIPTION:
URL:https://europeannewsroom.com/agenda/conference-europe-and-mobilities-challenges-and-opportunities-for-socio-economic-transformations/
LOCATION:Warsaw\, Poland
END:VEVENT
END:VCALENDAR