BEGIN:VCALENDAR
VERSION:2.0
PRODID:-//European Newsroom - ECPv6.15.18//NONSGML v1.0//EN
CALSCALE:GREGORIAN
METHOD:PUBLISH
X-WR-CALNAME:European Newsroom
X-ORIGINAL-URL:https://europeannewsroom.com
X-WR-CALDESC:Events for European Newsroom
REFRESH-INTERVAL;VALUE=DURATION:PT1H
X-Robots-Tag:noindex
X-PUBLISHED-TTL:PT1H
BEGIN:VTIMEZONE
TZID:Europe/Berlin
BEGIN:DAYLIGHT
TZOFFSETFROM:+0100
TZOFFSETTO:+0200
TZNAME:CEST
DTSTART:20220327T010000
END:DAYLIGHT
BEGIN:STANDARD
TZOFFSETFROM:+0200
TZOFFSETTO:+0100
TZNAME:CET
DTSTART:20221030T010000
END:STANDARD
BEGIN:DAYLIGHT
TZOFFSETFROM:+0100
TZOFFSETTO:+0200
TZNAME:CEST
DTSTART:20230326T010000
END:DAYLIGHT
BEGIN:STANDARD
TZOFFSETFROM:+0200
TZOFFSETTO:+0100
TZNAME:CET
DTSTART:20231029T010000
END:STANDARD
BEGIN:DAYLIGHT
TZOFFSETFROM:+0100
TZOFFSETTO:+0200
TZNAME:CEST
DTSTART:20240331T010000
END:DAYLIGHT
BEGIN:STANDARD
TZOFFSETFROM:+0200
TZOFFSETTO:+0100
TZNAME:CET
DTSTART:20241027T010000
END:STANDARD
END:VTIMEZONE
BEGIN:VEVENT
DTSTART;VALUE=DATE:20231006
DTEND;VALUE=DATE:20231008
DTSTAMP:20260420T134306
CREATED:20231002T143841Z
LAST-MODIFIED:20231002T143841Z
UID:164127-1696550400-1696723199@europeannewsroom.com
SUMMARY:EU Commission Vice-President Valdis Dombrovskis in Slovakia
DESCRIPTION:participates in the site visit of Dobrá Terminal with Pavol Lančaričat\, Minister of Transport of Slovakia\, and the border of Slovakia with Ukraine at the Čierna nad Tisou transhipment station;\nparticipates in the 2023 Tatra Summit\, in Šrbské Pleso
URL:https://europeannewsroom.com/agenda/eu-commission-vice-president-valdis-dombrovskis-in-slovakia/
LOCATION:Slovakia
END:VEVENT
BEGIN:VEVENT
DTSTART;VALUE=DATE:20231006
DTEND;VALUE=DATE:20231007
DTSTAMP:20260420T134306
CREATED:20230730T130751Z
LAST-MODIFIED:20231002T145447Z
UID:147601-1696550400-1696636799@europeannewsroom.com
SUMMARY:Informal meeting of EU heads of state or government
DESCRIPTION:videos and press conference live (14:45)
URL:https://europeannewsroom.com/agenda/informal-meeting-of-eu-heads-of-state-or-government/
LOCATION:Granada\, Spain
END:VEVENT
BEGIN:VEVENT
DTSTART;TZID=Europe/Berlin:20231005T113000
DTEND;TZID=Europe/Berlin:20231005T200000
DTSTAMP:20260420T134306
CREATED:20231002T143337Z
LAST-MODIFIED:20231002T143337Z
UID:164120-1696505400-1696536000@europeannewsroom.com
SUMMARY:Meeting of the European Political Community
DESCRIPTION:programme\nopening plenary session (12:30) and press conference (15:00) live\nEU Commission President Ursula von der Leyen and EU Parliament President Roberta Metsola participate
URL:https://europeannewsroom.com/agenda/meeting-of-the-european-political-community-3/
LOCATION:Granada\, Spain
END:VEVENT
BEGIN:VEVENT
DTSTART;VALUE=DATE:20231005
DTEND;VALUE=DATE:20231006
DTSTAMP:20260420T134306
CREATED:20231002T143508Z
LAST-MODIFIED:20231002T143508Z
UID:164124-1696464000-1696550399@europeannewsroom.com
SUMMARY:EU Commissioner Elisa Ferreira in Palermo
DESCRIPTION:visits the Ismett – Mediterraneo Transplant Institute Project;\nmeets with Mr Renato Schifani\, President of the Sicilia Region;\nvisits the Capela Palatinaand the Politeama ring railway site with Mr Renato Schifani\, President of the Sicilia Region
URL:https://europeannewsroom.com/agenda/eu-commissioner-elisa-ferreira-in-palermo/
LOCATION:Palermo\, Italy
END:VEVENT
BEGIN:VEVENT
DTSTART;VALUE=DATE:20231005
DTEND;VALUE=DATE:20231006
DTSTAMP:20260420T134306
CREATED:20231002T143428Z
LAST-MODIFIED:20231002T143428Z
UID:164122-1696464000-1696550399@europeannewsroom.com
SUMMARY:EU Commissioner Thierry Breton meets French Prime Minister Elisabeth Borne
DESCRIPTION:
URL:https://europeannewsroom.com/agenda/eu-commissioner-thierry-breton-meets-french-prime-minister-elisabeth-borne/
LOCATION:Granada\, Spain
END:VEVENT
BEGIN:VEVENT
DTSTART;TZID=Europe/Berlin:20231004T083000
DTEND;TZID=Europe/Berlin:20231006T122000
DTSTAMP:20260420T134306
CREATED:20230925T071218Z
LAST-MODIFIED:20230925T071218Z
UID:161829-1696408200-1696594800@europeannewsroom.com
SUMMARY:EU Industry Days
DESCRIPTION:programme\nEU Commissioners Thierry Breton and Nicolas Schmit participate
URL:https://europeannewsroom.com/agenda/eu-industry-days/
LOCATION:Málaga\, Espagne
END:VEVENT
BEGIN:VEVENT
DTSTART;VALUE=DATE:20231004
DTEND;VALUE=DATE:20231005
DTSTAMP:20260420T134306
CREATED:20231004T140243Z
LAST-MODIFIED:20231004T140327Z
UID:164801-1696377600-1696463999@europeannewsroom.com
SUMMARY:Bulgarian Prime Minister Nikolay Denkov visits Germany
DESCRIPTION:Meets German Chancellor Olaf Scholz
URL:https://europeannewsroom.com/agenda/bulgarias-prime-minister-nikolay-denkov-visits-germany/
LOCATION:Berlin
END:VEVENT
BEGIN:VEVENT
DTSTART;VALUE=DATE:20231004
DTEND;VALUE=DATE:20231005
DTSTAMP:20260420T134306
CREATED:20231002T141510Z
LAST-MODIFIED:20231002T141510Z
UID:164116-1696377600-1696463999@europeannewsroom.com
SUMMARY:EU Commissioner Didier Reynders participates in the 65th anniversary of the French Constitution
DESCRIPTION:
URL:https://europeannewsroom.com/agenda/eu-commissioner-didier-reynders-participates-in-the-65th-anniversary-of-the-french-constitution/
LOCATION:Paris\, France
END:VEVENT
BEGIN:VEVENT
DTSTART;VALUE=DATE:20231004
DTEND;VALUE=DATE:20231005
DTSTAMP:20260420T134306
CREATED:20231002T141441Z
LAST-MODIFIED:20231003T150036Z
UID:164113-1696377600-1696463999@europeannewsroom.com
SUMMARY:EU Commissioner Elisa Ferreira in Naples
DESCRIPTION:meets Italian Minister for Culture Gennaro Sangiuliano\nmeets President of Campania Region Vincenzo de Luca
URL:https://europeannewsroom.com/agenda/eu-commissioner-elisa-ferreira-in-naples/
LOCATION:Naples\, Italy
END:VEVENT
BEGIN:VEVENT
DTSTART;TZID=Europe/Berlin:20231003T090000
DTEND;TZID=Europe/Berlin:20231004T190000
DTSTAMP:20260420T134306
CREATED:20231002T142812Z
LAST-MODIFIED:20231002T142812Z
UID:164118-1696323600-1696446000@europeannewsroom.com
SUMMARY:Warsaw Security Forum
DESCRIPTION:programme\nlivestream available
URL:https://europeannewsroom.com/agenda/warsaw-security-forum/
LOCATION:Warsaw\, Poland
END:VEVENT
BEGIN:VEVENT
DTSTART;TZID=Europe/Berlin:20231003T090000
DTEND;TZID=Europe/Berlin:20231004T173000
DTSTAMP:20260420T134306
CREATED:20231002T141302Z
LAST-MODIFIED:20231002T141302Z
UID:164109-1696323600-1696440600@europeannewsroom.com
SUMMARY:Cybertech Europe 2023
DESCRIPTION:programme\nspecial remarks by Italian Minister of Defence Guido Crosetto (09:20 – 09:35) and EU Commission Vice-President Margaritis Schinas (09:35 – 09:50)
URL:https://europeannewsroom.com/agenda/cybertech-europe-2023/
LOCATION:Rome\, Italy
END:VEVENT
BEGIN:VEVENT
DTSTART;TZID=Europe/Berlin:20231003T090000
DTEND;TZID=Europe/Berlin:20231003T150000
DTSTAMP:20260420T134306
CREATED:20230808T125540Z
LAST-MODIFIED:20230808T125540Z
UID:150472-1696323600-1696345200@europeannewsroom.com
SUMMARY:Conference “Madrid. Time to act: Spain as a driving force in building renovation”
DESCRIPTION:Event will be held in Spanish.
URL:https://europeannewsroom.com/agenda/conference-madrid-time-to-act-spain-as-a-driving-force-in-building-renovation/
LOCATION:Madrid\, Spain
END:VEVENT
BEGIN:VEVENT
DTSTART;VALUE=DATE:20231003
DTEND;VALUE=DATE:20231004
DTSTAMP:20260420T134306
CREATED:20231002T141333Z
LAST-MODIFIED:20231002T141333Z
UID:164111-1696291200-1696377599@europeannewsroom.com
SUMMARY:EU Commissioner Johannes Hahn meets Italian Minister for European Affairs Raffaele Fitto
DESCRIPTION:
URL:https://europeannewsroom.com/agenda/eu-commissioner-johannes-hahn-meets-italian-minister-for-european-affairs-raffaele-fitto-2/
LOCATION:Strasbourg\, France
END:VEVENT
BEGIN:VEVENT
DTSTART;VALUE=DATE:20231003
DTEND;VALUE=DATE:20231004
DTSTAMP:20260420T134306
CREATED:20231002T140645Z
LAST-MODIFIED:20231002T141051Z
UID:164106-1696291200-1696377599@europeannewsroom.com
SUMMARY:EU Commission President Ursula von der Leyen receives EU Parliament Political Group Chairs
DESCRIPTION:receives Ms Terry Reintke and Mr Philippe Lamberts\, Co-Chairs of the Greens/EFA Group in the European Parliament; receives Ms Manon Aubry and Mr Martin Schirdewan\, Co-Chairs of The Left in the European Parliament – GUE/NG
URL:https://europeannewsroom.com/agenda/eu-commission-president-ursula-von-der-leyen-receives-eu-parliament-political-group-chairs/
LOCATION:Straßburg\, Frankreich
END:VEVENT
BEGIN:VEVENT
DTSTART;VALUE=DATE:20231003
DTEND;VALUE=DATE:20231004
DTSTAMP:20260420T134306
CREATED:20231002T134316Z
LAST-MODIFIED:20231002T134316Z
UID:164072-1696291200-1696377599@europeannewsroom.com
SUMMARY:College of EU Commissioners
DESCRIPTION:press conference (14:30)
URL:https://europeannewsroom.com/agenda/college-of-eu-commissioners/
LOCATION:Strasbourg\, France
END:VEVENT
BEGIN:VEVENT
DTSTART;TZID=Europe/Berlin:20231002T193000
DTEND;TZID=Europe/Berlin:20231002T210000
DTSTAMP:20260420T134306
CREATED:20231002T074750Z
LAST-MODIFIED:20231002T074750Z
UID:163865-1696275000-1696280400@europeannewsroom.com
SUMMARY:EU Parliament Committee on Employment and Social Affairs
DESCRIPTION:livestream
URL:https://europeannewsroom.com/agenda/eu-parliament-committee-on-employment-and-social-affairs-9/
LOCATION:European Parliament Strasbourg\, Belgien
END:VEVENT
BEGIN:VEVENT
DTSTART;TZID=Europe/Berlin:20231002T190000
DTEND;TZID=Europe/Berlin:20231002T220000
DTSTAMP:20260420T134306
CREATED:20231002T075325Z
LAST-MODIFIED:20231002T075325Z
UID:163870-1696273200-1696284000@europeannewsroom.com
SUMMARY:EU Parliament Committee on Budgets
DESCRIPTION:draft agenda\nlivestream\n\n19:00 – 20:00\n20:00 – 22:00 (jointly with Committee on Economic and Monetary Affairs\, draft agenda)
URL:https://europeannewsroom.com/agenda/eu-parliament-committee-on-budgets-10/
LOCATION:European Parliament Strasbourg\, Belgien
END:VEVENT
BEGIN:VEVENT
DTSTART;TZID=Europe/Berlin:20231002T190000
DTEND;TZID=Europe/Berlin:20231002T220000
DTSTAMP:20260420T134306
CREATED:20231002T075055Z
LAST-MODIFIED:20231002T075055Z
UID:163868-1696273200-1696284000@europeannewsroom.com
SUMMARY:EU Parliament Committee on Economic and Monetary Affairs
DESCRIPTION:draft agenda\nlivestream\n\n19:00 – 19:15\n20:00 – 22:00 (jointly with Committee on Budgets)
URL:https://europeannewsroom.com/agenda/eu-parliament-committee-on-economic-and-monetary-affairs-12/
LOCATION:European Parliament Strasbourg\, Belgien
END:VEVENT
BEGIN:VEVENT
DTSTART;TZID=Europe/Berlin:20231002T170000
DTEND;TZID=Europe/Berlin:20231005T160000
DTSTAMP:20260420T134306
CREATED:20230814T072011Z
LAST-MODIFIED:20231002T074227Z
UID:151964-1696266000-1696521600@europeannewsroom.com
SUMMARY:EU Parliament Plenary Session
DESCRIPTION:draft agenda\nlivestream\n\noctober 2\, 17:00 – 22:00\noctober 3\, 09:00 – 22:00\noctober 4\, 09:00 – 22:00\noctober 5\, 09:00 – 16:00
URL:https://europeannewsroom.com/agenda/eu-parliament-plenary-session-2/
LOCATION:European Parliament Strasbourg\, Belgien
END:VEVENT
BEGIN:VEVENT
DTSTART;TZID=Europe/Berlin:20231002T083000
DTEND;TZID=Europe/Berlin:20231006T143000
DTSTAMP:20260420T134306
CREATED:20231002T073829Z
LAST-MODIFIED:20231002T073829Z
UID:163845-1696235400-1696602600@europeannewsroom.com
SUMMARY:11th Slovenian Development Days
DESCRIPTION:programme\nEU Commissioner Janez Lenarčič participates at the Slovenian Humanitarian Forum (october 2\, 14:00)
URL:https://europeannewsroom.com/agenda/11th-slovenian-development-days/
LOCATION:Ljubljana\, Slovenia
END:VEVENT
BEGIN:VEVENT
DTSTART;VALUE=DATE:20231002
DTEND;VALUE=DATE:20231003
DTSTAMP:20260420T134306
CREATED:20231002T073500Z
LAST-MODIFIED:20231002T134604Z
UID:163842-1696204800-1696291199@europeannewsroom.com
SUMMARY:EU Commission President Ursula von der Leyen in Strasbourg
DESCRIPTION:meets EU Parliament President Roberta Metsola\nreceives Manfred Weber\, Iratxe García-Pérez and Stéphane Séjourné\, Chairs of the European People’s Party Group\, the Progressive Alliance of Socialists and Democrats and the Renew Europe Groups in the European Parliament
URL:https://europeannewsroom.com/agenda/eu-commission-president-ursula-von-der-leyen-in-strasbourg/
LOCATION:Strasbourg\, France
END:VEVENT
BEGIN:VEVENT
DTSTART;VALUE=DATE:20231001
DTEND;VALUE=DATE:20231003
DTSTAMP:20260420T134306
CREATED:20230903T132659Z
LAST-MODIFIED:20230922T150303Z
UID:156794-1696118400-1696291199@europeannewsroom.com
SUMMARY:International Climate and Energy Summit
DESCRIPTION:additional information\nEU Commissioner Kadri Simson participates at the official Dinner (1.10.)
URL:https://europeannewsroom.com/agenda/international-climate-and-energy-summit/
LOCATION:Madrid\, Spain
END:VEVENT
BEGIN:VEVENT
DTSTART;VALUE=DATE:20230930
DTEND;VALUE=DATE:20231001
DTSTAMP:20260420T134306
CREATED:20230903T132115Z
LAST-MODIFIED:20230903T132115Z
UID:156791-1696032000-1696118399@europeannewsroom.com
SUMMARY:2023 Slovak parliamentary election
DESCRIPTION:
URL:https://europeannewsroom.com/agenda/2023-slovak-parliamentary-election/
LOCATION:Slovak
END:VEVENT
BEGIN:VEVENT
DTSTART;TZID=Europe/Berlin:20230929T160000
DTEND;TZID=Europe/Berlin:20230929T220000
DTSTAMP:20260420T134306
CREATED:20230808T130745Z
LAST-MODIFIED:20230808T130745Z
UID:150477-1696003200-1696024800@europeannewsroom.com
SUMMARY:Public debate “International Food Loss and Waste Awareness Day”
DESCRIPTION:Event will be held in Englisch and French.
URL:https://europeannewsroom.com/agenda/public-debate-international-food-loss-and-waste-awareness-day/
LOCATION:Brussels
END:VEVENT
BEGIN:VEVENT
DTSTART;TZID=Europe/Berlin:20230929T100000
DTEND;TZID=Europe/Berlin:20230929T180000
DTSTAMP:20260420T134306
CREATED:20230925T071033Z
LAST-MODIFIED:20230925T071033Z
UID:161809-1695981600-1696010400@europeannewsroom.com
SUMMARY:European Writers' Meeting
DESCRIPTION:panel discussions with the guest writers of the Budapest International Book Festival – European stories\nin Hungarian
URL:https://europeannewsroom.com/agenda/european-writers-meeting/
LOCATION:Budapest
END:VEVENT
BEGIN:VEVENT
DTSTART;VALUE=DATE:20230929
DTEND;VALUE=DATE:20230930
DTSTAMP:20260420T134306
CREATED:20230925T070335Z
LAST-MODIFIED:20230925T074242Z
UID:161798-1695945600-1696031999@europeannewsroom.com
SUMMARY:IEA-ECB-EIB Conference on Ensuring an Orderly Energy Transition
DESCRIPTION:hosted by European Central Bank (ECB) President Christine Lagarde\, European Investment Bank (EIB) President Werner Hoyer and International Energy Agency (IEA) Executive Director Fatih Birol
URL:https://europeannewsroom.com/agenda/iea-ecb-eib-conference/
LOCATION:Paris\, France
END:VEVENT
BEGIN:VEVENT
DTSTART;TZID=Europe/Berlin:20230928T100000
DTEND;TZID=Europe/Berlin:20230928T100000
DTSTAMP:20260420T134307
CREATED:20230730T130629Z
LAST-MODIFIED:20230925T142228Z
UID:147599-1695895200-1695895200@europeannewsroom.com
SUMMARY:EU Justice and Home Affairs Council
DESCRIPTION:provisional agenda\nlivestream\n\npublic session (11:40)\npress conference
URL:https://europeannewsroom.com/agenda/eu-justice-and-home-affairs-council/
LOCATION:Brussels
END:VEVENT
BEGIN:VEVENT
DTSTART;TZID=Europe/Berlin:20230928T090000
DTEND;TZID=Europe/Berlin:20230929T124500
DTSTAMP:20260420T134307
CREATED:20230814T071927Z
LAST-MODIFIED:20230925T063828Z
UID:151958-1695891600-1695991500@europeannewsroom.com
SUMMARY:Informal ministerial meeting of the EU General Affairs Council
DESCRIPTION:agenda\nvideos and press conference live (september 28\, 14:30)\nvideos and press conference live (september 29\, 12:45)
URL:https://europeannewsroom.com/agenda/informal-ministerial-meeting-of-the-eu-general-affairs-council/
LOCATION:Murcia\, Spain
END:VEVENT
BEGIN:VEVENT
DTSTART;VALUE=DATE:20230928
DTEND;VALUE=DATE:20230929
DTSTAMP:20260420T134307
CREATED:20230925T070201Z
LAST-MODIFIED:20230925T074033Z
UID:161796-1695859200-1695945599@europeannewsroom.com
SUMMARY:EU Commissioner Thierry Breton in Paris
DESCRIPTION:participates in the forum “Roadmaps to new nuclear” and the IEA Critical Minerals and Clean Energy Summit
URL:https://europeannewsroom.com/agenda/eu-commissioner-thierry-breton-in-paris-2/
LOCATION:Paris\, France
END:VEVENT
BEGIN:VEVENT
DTSTART;TZID=Europe/Berlin:20230927T093000
DTEND;TZID=Europe/Berlin:20230928T130000
DTSTAMP:20260420T134307
CREATED:20230808T132445Z
LAST-MODIFIED:20230808T132445Z
UID:150496-1695807000-1695906000@europeannewsroom.com
SUMMARY:Science meets regions final event
DESCRIPTION:
URL:https://europeannewsroom.com/agenda/science-meets-regions-final-event/
LOCATION:Brussels
END:VEVENT
END:VCALENDAR