BEGIN:VCALENDAR
VERSION:2.0
PRODID:-//European Newsroom - ECPv6.15.18//NONSGML v1.0//EN
CALSCALE:GREGORIAN
METHOD:PUBLISH
X-ORIGINAL-URL:https://europeannewsroom.com
X-WR-CALDESC:Events for European Newsroom
REFRESH-INTERVAL;VALUE=DURATION:PT1H
X-Robots-Tag:noindex
X-PUBLISHED-TTL:PT1H
BEGIN:VTIMEZONE
TZID:Europe/Berlin
BEGIN:DAYLIGHT
TZOFFSETFROM:+0100
TZOFFSETTO:+0200
TZNAME:CEST
DTSTART:20230326T010000
END:DAYLIGHT
BEGIN:STANDARD
TZOFFSETFROM:+0200
TZOFFSETTO:+0100
TZNAME:CET
DTSTART:20231029T010000
END:STANDARD
BEGIN:DAYLIGHT
TZOFFSETFROM:+0100
TZOFFSETTO:+0200
TZNAME:CEST
DTSTART:20240331T010000
END:DAYLIGHT
BEGIN:STANDARD
TZOFFSETFROM:+0200
TZOFFSETTO:+0100
TZNAME:CET
DTSTART:20241027T010000
END:STANDARD
BEGIN:DAYLIGHT
TZOFFSETFROM:+0100
TZOFFSETTO:+0200
TZNAME:CEST
DTSTART:20250330T010000
END:DAYLIGHT
BEGIN:STANDARD
TZOFFSETFROM:+0200
TZOFFSETTO:+0100
TZNAME:CET
DTSTART:20251026T010000
END:STANDARD
END:VTIMEZONE
BEGIN:VEVENT
DTSTART;VALUE=DATE:20240904
DTEND;VALUE=DATE:20240906
DTSTAMP:20260421T021234
CREATED:20240904T123407Z
LAST-MODIFIED:20240904T123407Z
UID:398584-1725408000-1725580799@europeannewsroom.com
SUMMARY:North Macedonian Minister of European Affairs Orhan Murtezani in Brussels
DESCRIPTION:meets EU Commissioner Olivér Várhelyi.
URL:https://europeannewsroom.com/agenda/north-macedonian-minister-of-european-affairs-orhan-murtezani-in-brussels/
LOCATION:Brussels
END:VEVENT
BEGIN:VEVENT
DTSTART;TZID=Europe/Berlin:20240904T110000
DTEND;TZID=Europe/Berlin:20240905T190000
DTSTAMP:20260421T021234
CREATED:20240831T160503Z
LAST-MODIFIED:20240831T160503Z
UID:393329-1725447600-1725562800@europeannewsroom.com
SUMMARY:International Dairy Community Forum
DESCRIPTION:EU Commissioner Janusz Wojchiechowski attends.
URL:https://europeannewsroom.com/agenda/international-dairy-community-forum/
LOCATION:Bialystok\, Polen
END:VEVENT
BEGIN:VEVENT
DTSTART;VALUE=DATE:20240905
DTEND;VALUE=DATE:20240907
DTSTAMP:20260421T021234
CREATED:20240829T142702Z
LAST-MODIFIED:20240829T142702Z
UID:388174-1725494400-1725667199@europeannewsroom.com
SUMMARY:Informal meeting of EU ministers responsible for cohesion policy
DESCRIPTION:livestream (september 6)
URL:https://europeannewsroom.com/agenda/informal-meeting-of-eu-ministers-responsible-for-cohesion-policy-2/
LOCATION:Budapest
END:VEVENT
BEGIN:VEVENT
DTSTART;VALUE=DATE:20240905
DTEND;VALUE=DATE:20240907
DTSTAMP:20260421T021234
CREATED:20240831T161250Z
LAST-MODIFIED:20240831T161250Z
UID:393350-1725494400-1725667199@europeannewsroom.com
SUMMARY:EU Commissioner Wopke Hoeksta in the Netherlands
DESCRIPTION:meets with Mr Eddy van Hijum\, Deputy Prime Minister and Minister of Social Affairs and Employment; meets with Ms Mona Keijzer\, Deputy Prime Minister and Minister of Housing and Spatial Planning (september 5)\nmeets with Ms Fleur Agema\, Deputy Prime Minister and Minister of Health\, Welfare and Sport; meets with Ms Sophie Hermans\, Deputy Prime Minister and Minister of Climate Policy and Green Growth (september 6).
URL:https://europeannewsroom.com/agenda/eu-commissioner-wopke-hoeksta-in-the-netherlands/
LOCATION:The Hague\, Netherlands
END:VEVENT
BEGIN:VEVENT
DTSTART;VALUE=DATE:20240906
DTEND;VALUE=DATE:20240907
DTSTAMP:20260421T021234
CREATED:20240831T153555Z
LAST-MODIFIED:20240831T153555Z
UID:393241-1725580800-1725667199@europeannewsroom.com
SUMMARY:Eurozone GDP Q2\, third estimate
DESCRIPTION:
URL:https://europeannewsroom.com/agenda/eurozone-gdp-q2-third-estimate/
LOCATION:Brussels
END:VEVENT
BEGIN:VEVENT
DTSTART;VALUE=DATE:20240906
DTEND;VALUE=DATE:20240907
DTSTAMP:20260421T021234
CREATED:20240831T161505Z
LAST-MODIFIED:20240831T161505Z
UID:393360-1725580800-1725667199@europeannewsroom.com
SUMMARY:EU Commissioner Johannes Hahn meets Austrian Minister for European and International Affairs Alexander Schallenberg
DESCRIPTION:
URL:https://europeannewsroom.com/agenda/eu-commissioner-johannes-hahn-meets-austrian-minister-for-european-and-international-affairs-alexander-schallenberg/
LOCATION:Vienna\, Austria
END:VEVENT
BEGIN:VEVENT
DTSTART;VALUE=DATE:20240906
DTEND;VALUE=DATE:20240909
DTSTAMP:20260421T021234
CREATED:20240831T161658Z
LAST-MODIFIED:20240831T161658Z
UID:393369-1725580800-1725839999@europeannewsroom.com
SUMMARY:Forum Ambrosetti
DESCRIPTION:EU Commissioner Paolo Gentiloni participates.
URL:https://europeannewsroom.com/agenda/forum-ambrosetti/
LOCATION:Cernobbio\, Italy
END:VEVENT
BEGIN:VEVENT
DTSTART;TZID=Europe/Berlin:20240906T090000
DTEND;TZID=Europe/Berlin:20240907T124500
DTSTAMP:20260421T021234
CREATED:20240831T160838Z
LAST-MODIFIED:20240831T160838Z
UID:393339-1725613200-1725713100@europeannewsroom.com
SUMMARY:International Bar Association Annual Competition Conference
DESCRIPTION:keynote speech by EU Commission Vice President Margrethe Vestager\nagenda
URL:https://europeannewsroom.com/agenda/international-bar-association-annual-competition-conference/
LOCATION:Florence\, Italie
END:VEVENT
BEGIN:VEVENT
DTSTART;VALUE=DATE:20240907
DTEND;VALUE=DATE:20240908
DTSTAMP:20260421T021234
CREATED:20240831T161930Z
LAST-MODIFIED:20240831T161930Z
UID:393380-1725667200-1725753599@europeannewsroom.com
SUMMARY:EU Commission Vice-President Margaritis Schinas in Greece
DESCRIPTION:participates in the Thessaloniki International Fair (TIF);\ninaugurates the EC ATH REP kiosk and delivers a keynote speech on Education & Social Inclusion at the TIF.
URL:https://europeannewsroom.com/agenda/eu-commission-vice-president-margaritis-schinas-in-greece-3/
LOCATION:Thessaloniki\, Greece
END:VEVENT
BEGIN:VEVENT
DTSTART;VALUE=DATE:20240908
DTEND;VALUE=DATE:20240911
DTSTAMP:20260421T021234
CREATED:20240831T153330Z
LAST-MODIFIED:20240831T153330Z
UID:393230-1725753600-1726012799@europeannewsroom.com
SUMMARY:Informal meeting of EU agriculture and fisheries ministers
DESCRIPTION:
URL:https://europeannewsroom.com/agenda/informal-meeting-of-eu-agriculture-and-fisheries-ministers/
LOCATION:Budapest
END:VEVENT
BEGIN:VEVENT
DTSTART;VALUE=DATE:20240910
DTEND;VALUE=DATE:20240911
DTSTAMP:20260421T021234
CREATED:20240909T185047Z
LAST-MODIFIED:20240909T185047Z
UID:408007-1725926400-1726012799@europeannewsroom.com
SUMMARY:EU Commissioner Thierry Breton receives Czech Minister for Industry and Trade Jozef Sikela
DESCRIPTION:
URL:https://europeannewsroom.com/agenda/eu-commissioner-thierry-breton-receives-czech-minister-for-industry-and-trade-jozef-sikela/
LOCATION:Brussels
END:VEVENT
BEGIN:VEVENT
DTSTART;VALUE=DATE:20240910
DTEND;VALUE=DATE:20240911
DTSTAMP:20260421T021234
CREATED:20240911T081725Z
LAST-MODIFIED:20240911T081831Z
UID:415204-1725926400-1726012799@europeannewsroom.com
SUMMARY:EU Commissioner Jutta Urpilainen meets Bulgarian Foreign Affairs Minister Ivan Kondov
DESCRIPTION:discusses the geopolitical situation and Bulgaria’s participation in the implementation of the EU’s Global gateway investment strategy\nalso meets representatives of businesses\, NGOs and youth organizations.
URL:https://europeannewsroom.com/agenda/eu-commissioner-jutta-urpilainen-meets-bulgarian-foreign-affairs-minister-ivan-kondov/
LOCATION:Sofia\, Bulgaria
END:VEVENT
BEGIN:VEVENT
DTSTART;VALUE=DATE:20240910
DTEND;VALUE=DATE:20240911
DTSTAMP:20260421T021234
CREATED:20240915T151342Z
LAST-MODIFIED:20240915T151342Z
UID:428096-1725926400-1726012799@europeannewsroom.com
SUMMARY:European Court of Justice ruling on Irish aid for Apple and on billion-euro fin for Google for antitrust violations
DESCRIPTION:
URL:https://europeannewsroom.com/agenda/european-court-of-justice-ruling-on-irish-aid-for-apple-and-on-billion-euro-fin-for-google-for-antitrust-violations/
LOCATION:Luxembourg\, Luxembourg
END:VEVENT
BEGIN:VEVENT
DTSTART;TZID=Europe/Berlin:20240910T180000
DTEND;TZID=Europe/Berlin:20240910T180000
DTSTAMP:20260421T021234
CREATED:20240909T184719Z
LAST-MODIFIED:20240909T184719Z
UID:407997-1725991200-1725991200@europeannewsroom.com
SUMMARY:Association Civic Tech Europe event ‘AI & Democracy: a new frontier for the EU'
DESCRIPTION:speech by EU Commission Vice-President Věra Jourová
URL:https://europeannewsroom.com/agenda/association-civic-tech-europe-event-ai-democracy-a-new-frontier-for-the-eu/
LOCATION:Brussels
END:VEVENT
BEGIN:VEVENT
DTSTART;VALUE=DATE:20240911
DTEND;VALUE=DATE:20240912
DTSTAMP:20260421T021234
CREATED:20240909T184337Z
LAST-MODIFIED:20240909T184337Z
UID:407987-1726012800-1726099199@europeannewsroom.com
SUMMARY:College of EU Commissioners
DESCRIPTION:press conference live
URL:https://europeannewsroom.com/agenda/college-of-eu-commissioners-28/
LOCATION:Brussels
END:VEVENT
BEGIN:VEVENT
DTSTART;VALUE=DATE:20240911
DTEND;VALUE=DATE:20240914
DTSTAMP:20260421T021234
CREATED:20240909T185329Z
LAST-MODIFIED:20240909T185329Z
UID:408017-1726012800-1726271999@europeannewsroom.com
SUMMARY:G7 Ministerial meeting on Labour and Employment
DESCRIPTION:EU Commissioner Nicolas Schmit attends.\nfurther information
URL:https://europeannewsroom.com/agenda/g7-ministerial-meeting-on-labour-and-employment/
LOCATION:Cagliari\, Italy
END:VEVENT
BEGIN:VEVENT
DTSTART;VALUE=DATE:20240912
DTEND;VALUE=DATE:20240913
DTSTAMP:20260421T021234
CREATED:20240906T081243Z
LAST-MODIFIED:20240906T081716Z
UID:402439-1726099200-1726185599@europeannewsroom.com
SUMMARY:EU Parliament Committees meet
DESCRIPTION:Committee on the Environment\, Public Health and Food Safety\, 09:00 – 12:30\, livestream\nCommittee on Industry\, Research and Energy\, 09:00 – 12:30\nCommittee on the Internal Market and Consumer Protection\, 09:00 – 12:30\, livestream\nSee Calender for information of meetings of other Committees.
URL:https://europeannewsroom.com/agenda/eu-parliament-committees-meet/
LOCATION:European Parliament Brussels\, Belgium
END:VEVENT
BEGIN:VEVENT
DTSTART;VALUE=DATE:20240912
DTEND;VALUE=DATE:20240913
DTSTAMP:20260421T021234
CREATED:20240906T082256Z
LAST-MODIFIED:20240906T082256Z
UID:402565-1726099200-1726185599@europeannewsroom.com
SUMMARY:European Central Bank Governing Council
DESCRIPTION:press conference live (14:45)
URL:https://europeannewsroom.com/agenda/european-central-bank-governing-council-12/
LOCATION:Frankfurt\, Germany
END:VEVENT
BEGIN:VEVENT
DTSTART;VALUE=DATE:20240912
DTEND;VALUE=DATE:20240913
DTSTAMP:20260421T021234
CREATED:20240909T185609Z
LAST-MODIFIED:20240909T185609Z
UID:408028-1726099200-1726185599@europeannewsroom.com
SUMMARY:EU Commission Vice-President Margrethe Vestager in Copenhagen
DESCRIPTION:delivers a keynote speech and participates in a conversation on stage at the Danish Chamber of Commerce.
URL:https://europeannewsroom.com/agenda/eu-commission-vice-president-margrethe-vestager-in-copenhagen-5/
LOCATION:Copenhagen\, Denmark
END:VEVENT
BEGIN:VEVENT
DTSTART;TZID=Europe/Berlin:20240912T100000
DTEND;TZID=Europe/Berlin:20240913T163000
DTSTAMP:20260421T021234
CREATED:20240909T185924Z
LAST-MODIFIED:20240909T190249Z
UID:408038-1726135200-1726245000@europeannewsroom.com
SUMMARY:DLD Nature Conference
DESCRIPTION:keynote speech by EU Commission President Ursula von der Leyen (september 13)\nprogramme
URL:https://europeannewsroom.com/agenda/dld-nature-conference/
LOCATION:Munich\, Germany
END:VEVENT
BEGIN:VEVENT
DTSTART;VALUE=DATE:20240913
DTEND;VALUE=DATE:20240914
DTSTAMP:20260421T021234
CREATED:20240904T125215Z
LAST-MODIFIED:20240904T125215Z
UID:398664-1726185600-1726271999@europeannewsroom.com
SUMMARY:Eurogroup
DESCRIPTION:
URL:https://europeannewsroom.com/agenda/eurogroup-5/
LOCATION:Budapest
END:VEVENT
BEGIN:VEVENT
DTSTART;VALUE=DATE:20240913
DTEND;VALUE=DATE:20240915
DTSTAMP:20260421T021234
CREATED:20240904T125546Z
LAST-MODIFIED:20240904T130404Z
UID:398674-1726185600-1726358399@europeannewsroom.com
SUMMARY:Informal meeting of EU economic and financial affairs ministers
DESCRIPTION:livestream
URL:https://europeannewsroom.com/agenda/informal-meeting-of-eu-economic-and-financial-affairs-ministers-2/
LOCATION:Budapest
END:VEVENT
BEGIN:VEVENT
DTSTART;VALUE=DATE:20240913
DTEND;VALUE=DATE:20240914
DTSTAMP:20260421T021234
CREATED:20240909T190512Z
LAST-MODIFIED:20240909T190512Z
UID:408051-1726185600-1726271999@europeannewsroom.com
SUMMARY:EU Commissioner Elisa Ferreira in Portugal
DESCRIPTION:participates in the event ‘Somos Academia’ at Porto University.
URL:https://europeannewsroom.com/agenda/eu-commissioner-elisa-ferreira-in-portugal-5/
LOCATION:Porto\, Portugal
END:VEVENT
BEGIN:VEVENT
DTSTART;VALUE=DATE:20240916
DTEND;VALUE=DATE:20240918
DTSTAMP:20260421T021234
CREATED:20240904T130749Z
LAST-MODIFIED:20240915T152518Z
UID:398783-1726444800-1726617599@europeannewsroom.com
SUMMARY:Informal meeting of EU research ministers
DESCRIPTION:livestream
URL:https://europeannewsroom.com/agenda/informal-meeting-of-eu-research-ministers/
LOCATION:Budapest
END:VEVENT
BEGIN:VEVENT
DTSTART;VALUE=DATE:20240916
DTEND;VALUE=DATE:20240918
DTSTAMP:20260421T021234
CREATED:20240914T153313Z
LAST-MODIFIED:20240914T153313Z
UID:426522-1726444800-1726617599@europeannewsroom.com
SUMMARY:EU Commission President Ursula von der Leyen receives chairs of the European Parliament's political groups
DESCRIPTION:receives Mr Manfred Weber\, Ms Iratxe García-Pérez and Ms Valérie Hayer\, Chairs of the European People’s Party Group\, the Progressive Alliance of Socialists and Democrats and the Renew Europe Groups (september 16)\nreceives Ms Terry Reintke and Mr Bas Eickhout\, Co-Chairs of the Greens/EFA Group in the European Parliament (september 17).
URL:https://europeannewsroom.com/agenda/eu-commission-president-ursula-von-der-leyen-receives-chairs-of-the-european-parliaments-political-groups/
LOCATION:Strasbourg\, France
END:VEVENT
BEGIN:VEVENT
DTSTART;VALUE=DATE:20240916
DTEND;VALUE=DATE:20240917
DTSTAMP:20260421T021234
CREATED:20240914T153820Z
LAST-MODIFIED:20240914T153820Z
UID:426532-1726444800-1726531199@europeannewsroom.com
SUMMARY:EU Commission President Ursula von der Leyen receives EU Parliament President Roberta Metsola
DESCRIPTION:
URL:https://europeannewsroom.com/agenda/eu-commission-president-ursula-von-der-leyen-receives-eu-parliament-president-roberta-metsola/
LOCATION:Strasbourg\, France
END:VEVENT
BEGIN:VEVENT
DTSTART;VALUE=DATE:20240916
DTEND;VALUE=DATE:20240917
DTSTAMP:20260421T021234
CREATED:20240914T155723Z
LAST-MODIFIED:20240914T155723Z
UID:426568-1726444800-1726531199@europeannewsroom.com
SUMMARY:EU Commissioner Janusz Wojciechowski receives Moldovan Minister of Agriculture Vladimir Bolea
DESCRIPTION:
URL:https://europeannewsroom.com/agenda/eu-commissioner-janusz-wojciechowski-receives-moldovan-minister-of-agriculture-vladimir-bolea/
LOCATION:Brussels
END:VEVENT
BEGIN:VEVENT
DTSTART;VALUE=DATE:20240916
DTEND;VALUE=DATE:20240917
DTSTAMP:20260421T021234
CREATED:20240916T181751Z
LAST-MODIFIED:20240916T181827Z
UID:429554-1726444800-1726531199@europeannewsroom.com
SUMMARY:Eurostat releases statistics on international trade in goods in July 2024 and on labour cost index in the second quarter of 2024
DESCRIPTION:
URL:https://europeannewsroom.com/agenda/eurostat-releases-statistics-on-international-trade-in-goods-in-july-2024-and-on-labour-cost-index-in-the-second-quarter-of-2024/
LOCATION:ONLINE
END:VEVENT
BEGIN:VEVENT
DTSTART;TZID=Europe/Berlin:20240916T100000
DTEND;TZID=Europe/Berlin:20240917T163000
DTSTAMP:20260421T021234
CREATED:20240914T154638Z
LAST-MODIFIED:20240914T155429Z
UID:426552-1726480800-1726590600@europeannewsroom.com
SUMMARY:EU Days Lund
DESCRIPTION:EU Commission Vice-President Vera Jourová and EU Commissioner Ylva Johansson participate.\nlivestream available
URL:https://europeannewsroom.com/agenda/eu-days-lund/
LOCATION:Lund\, Sweden
END:VEVENT
BEGIN:VEVENT
DTSTART;TZID=Europe/Berlin:20240916T170000
DTEND;TZID=Europe/Berlin:20240919T160000
DTSTAMP:20260421T021234
CREATED:20240912T080207Z
LAST-MODIFIED:20240912T080207Z
UID:418924-1726506000-1726761600@europeannewsroom.com
SUMMARY:European Parliament plenary
DESCRIPTION:agenda\nlivestream\n\nseptember 16\, 17:00 – 22:00\nseptember 17\, 09:00 – 22:00\nseptember 18\, 09:00 – 22:00\nseptember 19\, 09:00 – 16:00
URL:https://europeannewsroom.com/agenda/european-parliament-plenary/
LOCATION:European Parliament Strasbourg\, Belgien
END:VEVENT
END:VCALENDAR