BEGIN:VCALENDAR
VERSION:2.0
PRODID:-//European Newsroom - ECPv6.15.18//NONSGML v1.0//EN
CALSCALE:GREGORIAN
METHOD:PUBLISH
X-WR-CALNAME:European Newsroom
X-ORIGINAL-URL:https://europeannewsroom.com
X-WR-CALDESC:Events for European Newsroom
REFRESH-INTERVAL;VALUE=DURATION:PT1H
X-Robots-Tag:noindex
X-PUBLISHED-TTL:PT1H
BEGIN:VTIMEZONE
TZID:Europe/Berlin
BEGIN:DAYLIGHT
TZOFFSETFROM:+0100
TZOFFSETTO:+0200
TZNAME:CEST
DTSTART:20240331T010000
END:DAYLIGHT
BEGIN:STANDARD
TZOFFSETFROM:+0200
TZOFFSETTO:+0100
TZNAME:CET
DTSTART:20241027T010000
END:STANDARD
BEGIN:DAYLIGHT
TZOFFSETFROM:+0100
TZOFFSETTO:+0200
TZNAME:CEST
DTSTART:20250330T010000
END:DAYLIGHT
BEGIN:STANDARD
TZOFFSETFROM:+0200
TZOFFSETTO:+0100
TZNAME:CET
DTSTART:20251026T010000
END:STANDARD
BEGIN:DAYLIGHT
TZOFFSETFROM:+0100
TZOFFSETTO:+0200
TZNAME:CEST
DTSTART:20260329T010000
END:DAYLIGHT
BEGIN:STANDARD
TZOFFSETFROM:+0200
TZOFFSETTO:+0100
TZNAME:CET
DTSTART:20261025T010000
END:STANDARD
END:VTIMEZONE
BEGIN:VEVENT
DTSTART;VALUE=DATE:20250325
DTEND;VALUE=DATE:20250326
DTSTAMP:20260420T211036
CREATED:20250324T194217Z
LAST-MODIFIED:20250324T194217Z
UID:1072523-1742860800-1742947199@europeannewsroom.com
SUMMARY:EU Commissioner Piotr Serafin in Zagreb
DESCRIPTION:meets Mr Andrej Plenković\, Prime Minister of Croatia;\nmeets with the European Affairs and Finance and Central Budget Committees of the national Parliament;\nvisits the Croatian Natural History Museum.
URL:https://europeannewsroom.com/agenda/eu-commissioner-piotr-serafin-in-zagreb/
LOCATION:Zagreb\, Croatie (Nom local : Hrvatska)
END:VEVENT
BEGIN:VEVENT
DTSTART;VALUE=DATE:20250325
DTEND;VALUE=DATE:20250326
DTSTAMP:20260420T211036
CREATED:20250324T194035Z
LAST-MODIFIED:20250324T194035Z
UID:1072514-1742860800-1742947199@europeannewsroom.com
SUMMARY:EU Commissioner Marta Kos meets Slovenian National Council
DESCRIPTION:
URL:https://europeannewsroom.com/agenda/eu-commissioner-marta-kos-meets-slovenian-national-council/
LOCATION:Ljubljana\, Slovenia
END:VEVENT
BEGIN:VEVENT
DTSTART;VALUE=DATE:20250325
DTEND;VALUE=DATE:20250326
DTSTAMP:20260420T211036
CREATED:20250324T193639Z
LAST-MODIFIED:20250324T193639Z
UID:1072458-1742860800-1742947199@europeannewsroom.com
SUMMARY:EU Commission Vice-President Roxana Mînzatu receives French Minister for Housing Valérie Létard
DESCRIPTION:
URL:https://europeannewsroom.com/agenda/eu-commission-vice-president-roxana-minzatu-receives-french-minister-for-housing-valerie-letard/
LOCATION:Brussels
END:VEVENT
BEGIN:VEVENT
DTSTART;VALUE=DATE:20250325
DTEND;VALUE=DATE:20250326
DTSTAMP:20260420T211036
CREATED:20250324T192951Z
LAST-MODIFIED:20250324T192951Z
UID:1072441-1742860800-1742947199@europeannewsroom.com
SUMMARY:EU Commission President Ursula von der Leyen meets Serbian President Aleksandar Vučić
DESCRIPTION:together with President of the European Council António Costa.
URL:https://europeannewsroom.com/agenda/eu-commission-president-ursula-von-der-leyen-meets-serbian-president-aleksandar-vucic/
LOCATION:Brussels
END:VEVENT
BEGIN:VEVENT
DTSTART;TZID=Europe/Berlin:20250324T100000
DTEND;TZID=Europe/Berlin:20250324T100000
DTSTAMP:20260420T211036
CREATED:20250321T115101Z
LAST-MODIFIED:20250321T115101Z
UID:1063112-1742810400-1742810400@europeannewsroom.com
SUMMARY:EU Agriculture and Fisheries Council
DESCRIPTION:agenda\nlivestream
URL:https://europeannewsroom.com/agenda/eu-agriculture-and-fisheries-council-16/
LOCATION:Brussels
END:VEVENT
BEGIN:VEVENT
DTSTART;TZID=Europe/Berlin:20250324T093000
DTEND;TZID=Europe/Berlin:20250327T130000
DTSTAMP:20260420T211036
CREATED:20250321T115521Z
LAST-MODIFIED:20250321T115521Z
UID:1063137-1742808600-1743080400@europeannewsroom.com
SUMMARY:Congress of Local and Regional Authorities
DESCRIPTION:agenda
URL:https://europeannewsroom.com/agenda/congress-of-local-and-regional-authorities/
LOCATION:Strasbourg\, France
END:VEVENT
BEGIN:VEVENT
DTSTART;VALUE=DATE:20250324
DTEND;VALUE=DATE:20250325
DTSTAMP:20260420T211036
CREATED:20250324T193227Z
LAST-MODIFIED:20250324T193227Z
UID:1072450-1742774400-1742860799@europeannewsroom.com
SUMMARY:EU Commission Vice-President Roxana Mînzatu receives German Minister for Education Cem Özdemir
DESCRIPTION:
URL:https://europeannewsroom.com/agenda/eu-commission-vice-president-roxana-minzatu-receives-german-minister-for-education-cem-ozdemir/
LOCATION:Brussels
END:VEVENT
BEGIN:VEVENT
DTSTART;VALUE=DATE:20250324
DTEND;VALUE=DATE:20250326
DTSTAMP:20260420T211036
CREATED:20250324T192615Z
LAST-MODIFIED:20250324T192615Z
UID:1072431-1742774400-1742947199@europeannewsroom.com
SUMMARY:EU Commissioner Michael McGrath in Budapest
DESCRIPTION:meets Bence Tuzson\, Minister for Justice of Hungary;\nmeets János Bóka\, Minister for European Union Affairs;\nmeets Csabát Pecsenye\, President of the National Judicial Council of Hungary;\nmeets András Zsolt Varga\, President of the Supreme Court of Hungary (march 24);\nmeets with civil society organisations (march 25).
URL:https://europeannewsroom.com/agenda/eu-commissioner-michael-mcgrath-in-budapest/
LOCATION:Budapest
END:VEVENT
BEGIN:VEVENT
DTSTART;VALUE=DATE:20250324
DTEND;VALUE=DATE:20250325
DTSTAMP:20260420T211036
CREATED:20250324T192229Z
LAST-MODIFIED:20250324T192229Z
UID:1072422-1742774400-1742860799@europeannewsroom.com
SUMMARY:EU Commissioner Piotr Serfain in Ljubljana
DESCRIPTION:meets with Mr Klemen Boštjančič\, Minister of Finance of Slovenia;\nvisits the National Centre for Large-scale Wild Fires together with Marko Lovše\, State Secretary at Ministry of Defence of Slovenia;\nmeets with Mr Aleksander Jevšek\, Minister of Cohesion of Slovenia.
URL:https://europeannewsroom.com/agenda/eu-commissioner-piotr-serfain-in-ljubljana/
LOCATION:Ljubljana\, Slovenia
END:VEVENT
BEGIN:VEVENT
DTSTART;VALUE=DATE:20250324
DTEND;VALUE=DATE:20250326
DTSTAMP:20260420T211036
CREATED:20250324T191824Z
LAST-MODIFIED:20250324T191824Z
UID:1072413-1742774400-1742947199@europeannewsroom.com
SUMMARY:EU Commissioner Maria Luís Albuquerque in Copenhagen
DESCRIPTION:meets with the Board of Finance Denmark;\ndelivers a keynote speech at the conference “Shaping the Future of European Finance” organised by the Danske Bank\, Finance Denmark\, and Think Tank Europe (march 24)\nmeets with the Board of Central Bank;\nmeets with Stefanie Lose\, Minister for Economic Affairs of Denmark;\nmeets with Morten Bødskov\, Minister for Business\, Industry and Financial Affairs of Denmark (march 25).
URL:https://europeannewsroom.com/agenda/eu-commissioner-maria-luis-albuquerque-in-copenhagen/
LOCATION:Copenhagen\, Denmark
END:VEVENT
BEGIN:VEVENT
DTSTART;VALUE=DATE:20250324
DTEND;VALUE=DATE:20250326
DTSTAMP:20260420T211036
CREATED:20250324T191538Z
LAST-MODIFIED:20250324T191538Z
UID:1072405-1742774400-1742947199@europeannewsroom.com
SUMMARY:EU Commissioner Jozef Síkela in Rome
DESCRIPTION:meets Alvaro Lario\, President of the International Fund for Agricultural Development (IFAD);\nmeetsAntonio Tajani\, Minister for Foreign Affairs and International Cooperation of Italy;\nmeets Adolfo Urso\, Minister for Enterprises and Made of Italy (march 24)\nmeets with the European Union and Foreign Affairs Committees of the Parliament of Italy;\nmeets with Cardinal Pietro Parolin\, Holy See Secretary of State of Vatican (march 25).
URL:https://europeannewsroom.com/agenda/eu-commissioner-jozef-sikela-in-rome/
LOCATION:Rome\, Italy
END:VEVENT
BEGIN:VEVENT
DTSTART;VALUE=DATE:20250321
DTEND;VALUE=DATE:20250322
DTSTAMP:20260420T211036
CREATED:20250317T171440Z
LAST-MODIFIED:20250317T171534Z
UID:1043228-1742515200-1742601599@europeannewsroom.com
SUMMARY:EU Commissioner Dan Jørgensen in Copenhagen
DESCRIPTION:meets Rasmus Stoklund\, Minister for Taxation ;\nparticipates in a roundtable with housing stakeholders in the Danish Parliament.
URL:https://europeannewsroom.com/agenda/eu-commissioner-dan-jorgensen-in-copenhagen-2/
LOCATION:Copenhagen\, Denmark
END:VEVENT
BEGIN:VEVENT
DTSTART;VALUE=DATE:20250321
DTEND;VALUE=DATE:20250323
DTSTAMP:20260420T211036
CREATED:20250317T170824Z
LAST-MODIFIED:20250317T170824Z
UID:1043210-1742515200-1742687999@europeannewsroom.com
SUMMARY:EU Commissioner Jessika Roswall in Rome
DESCRIPTION:participates in a roundtable of stakeholders in the field of environment organized by the Commission Representation in Rome;\nmeets with Mr QU Dongyu\, Director-General of the Food and Agriculture Organization of the United Nations (FAO);\nmeets with Mr Roberto Gualtieri\, Mayor of Rome (march 21)\nvisits the Oasi Bosco di Palo Laziale (march 22).
URL:https://europeannewsroom.com/agenda/eu-commissioner-jessika-roswall-in-rome/
LOCATION:Rome\, Italy
END:VEVENT
BEGIN:VEVENT
DTSTART;VALUE=DATE:20250321
DTEND;VALUE=DATE:20250322
DTSTAMP:20260420T211036
CREATED:20250317T170635Z
LAST-MODIFIED:20250317T170635Z
UID:1043200-1742515200-1742601599@europeannewsroom.com
SUMMARY:EU Commissioner Dubravka Šuica in Croatia
DESCRIPTION:Participates in a dialogue with young people.
URL:https://europeannewsroom.com/agenda/eu-commissioner-dubravka-suica-in-croatia-2/
LOCATION:Dubrovnik\, Croatia (Local Name: Hrvatska)
END:VEVENT
BEGIN:VEVENT
DTSTART;TZID=Europe/Berlin:20250320T113000
DTEND;TZID=Europe/Berlin:20250320T153000
DTSTAMP:20260420T211036
CREATED:20250317T172900Z
LAST-MODIFIED:20250317T172900Z
UID:1043270-1742470200-1742484600@europeannewsroom.com
SUMMARY:Conference 'Security\, Europe!'
DESCRIPTION:
URL:https://europeannewsroom.com/agenda/conference-security-europe/
LOCATION:Wrocław\, Poland
END:VEVENT
BEGIN:VEVENT
DTSTART;TZID=Europe/Berlin:20250320T080000
DTEND;TZID=Europe/Berlin:20250321T170000
DTSTAMP:20260420T211036
CREATED:20250317T171123Z
LAST-MODIFIED:20250317T171156Z
UID:1043220-1742457600-1742576400@europeannewsroom.com
SUMMARY:EU Commissioner Christophe Hahnsen in the Netherlands
DESCRIPTION:visits the Looye Tomaten farm in Naaldwijk;\nmeets with Jean Rummenie\, Minister for Fishery\, Food Security\, Horticulture and Nature Conservation of the Netherlands;\nmeets with the standing committee for Agriculture\, Fisheries\, Food Security and Nature in the House of Representatives of the Netherlands;\ndelivers a keynote speech at the Netherlands Agricultural and Horticultural Association (LTO) Network Event (march 20\, The Hague);\nIn Prinsenbeek: visits Lars van Loenhout’s farm together with Femke Marije Wiersma\, Minister of Agriculture\, Fisheries\, Food Security and Nature of the Netherlands;\nIn Heikant: attends the Heikantse Landbouwtop agriculture summit (march 21).
URL:https://europeannewsroom.com/agenda/eu-commissioner-christophe-hahnsen-in-the-netherlands/
LOCATION:The Hague\, Netherlands
END:VEVENT
BEGIN:VEVENT
DTSTART;VALUE=DATE:20250320
DTEND;VALUE=DATE:20250321
DTSTAMP:20260420T211036
CREATED:20250317T170412Z
LAST-MODIFIED:20250317T170412Z
UID:1043169-1742428800-1742515199@europeannewsroom.com
SUMMARY:EU Commissioner Apostolos Tzitzikostas in Greece
DESCRIPTION:In Elliniko-Argyroupoli: \n\ndelivers the closing remarks at the Dialogue on resilience by the Hellenic Network of Resilient Cities;\nmeets with Mr Giannis Konstantatos\, Mayor of Elliniko\n\nIn Athens: \n\nmeets with Nikitas Kaklamanis\, President of the Hellenic Parliament
URL:https://europeannewsroom.com/agenda/eu-commissioner-apostolos-tzitzikostas-in-greece/
LOCATION:Greece
END:VEVENT
BEGIN:VEVENT
DTSTART;VALUE=DATE:20250320
DTEND;VALUE=DATE:20250321
DTSTAMP:20260420T211036
CREATED:20250317T170208Z
LAST-MODIFIED:20250317T170208Z
UID:1043159-1742428800-1742515199@europeannewsroom.com
SUMMARY:EU Commissioner Marta Kos in Skopje
DESCRIPTION:participates in the Growth Plan Leaders’ meeting;\ndelivers opening remarks with Hrisijan Mickoski\, Prime Minister of North Macedonia;\nparticipates in the panel “Stock taking of integration with EU’s single market”;\nparticipates in the panel “Reform Agendas\, state of play\, milestones and prospects”.
URL:https://europeannewsroom.com/agenda/eu-commissioner-marta-kos-in-skopje/
LOCATION:Skopje\, North Macedonia
END:VEVENT
BEGIN:VEVENT
DTSTART;VALUE=DATE:20250320
DTEND;VALUE=DATE:20250322
DTSTAMP:20260420T211036
CREATED:20250314T114751Z
LAST-MODIFIED:20250314T114751Z
UID:1037500-1742428800-1742601599@europeannewsroom.com
SUMMARY:European Council
DESCRIPTION:livestream
URL:https://europeannewsroom.com/agenda/european-council-6/
LOCATION:Brussels
END:VEVENT
BEGIN:VEVENT
DTSTART;VALUE=DATE:20250320
DTEND;VALUE=DATE:20250321
DTSTAMP:20260420T211036
CREATED:20250314T114627Z
LAST-MODIFIED:20250314T114627Z
UID:1037498-1742428800-1742515199@europeannewsroom.com
SUMMARY:Euro Summit
DESCRIPTION:
URL:https://europeannewsroom.com/agenda/euro-summit-4/
LOCATION:Brussels
END:VEVENT
BEGIN:VEVENT
DTSTART;TZID=Europe/Berlin:20250319T180000
DTEND;TZID=Europe/Berlin:20250319T200000
DTSTAMP:20260420T211036
CREATED:20250317T172421Z
LAST-MODIFIED:20250317T172631Z
UID:1043259-1742407200-1742414400@europeannewsroom.com
SUMMARY:Dialogue event 'An European sustainability strategy for cultural policy?'
DESCRIPTION:
URL:https://europeannewsroom.com/agenda/dialogue-event-an-european-sustainability-strategy-for-cultural-policy/
LOCATION:Berlin
END:VEVENT
BEGIN:VEVENT
DTSTART;TZID=Europe/Berlin:20250319T133000
DTEND;TZID=Europe/Berlin:20250320T153000
DTSTAMP:20260420T211036
CREATED:20250317T164759Z
LAST-MODIFIED:20250317T164940Z
UID:1043114-1742391000-1742484600@europeannewsroom.com
SUMMARY:EU Open Data Days
DESCRIPTION:EU Commission Vice-President Maroš Šefčovič participates.\nlivestream available\nagenda
URL:https://europeannewsroom.com/agenda/eu-open-data-days/
LOCATION:Luxembourg\, Luxembourg
END:VEVENT
BEGIN:VEVENT
DTSTART;TZID=Europe/Berlin:20250319T083000
DTEND;TZID=Europe/Berlin:20250319T163000
DTSTAMP:20260420T211036
CREATED:20250317T165233Z
LAST-MODIFIED:20250317T165233Z
UID:1043123-1742373000-1742401800@europeannewsroom.com
SUMMARY:The European Climate Pact flagship event 2025: Together in action
DESCRIPTION:
URL:https://europeannewsroom.com/agenda/the-european-climate-pact-flagship-event-2025-together-in-action/
LOCATION:Brussels
END:VEVENT
BEGIN:VEVENT
DTSTART;VALUE=DATE:20250319
DTEND;VALUE=DATE:20250320
DTSTAMP:20260420T211036
CREATED:20250317T173242Z
LAST-MODIFIED:20250317T173242Z
UID:1043277-1742342400-1742428799@europeannewsroom.com
SUMMARY:Tripartite Social Summit
DESCRIPTION:livestream
URL:https://europeannewsroom.com/agenda/tripartite-social-summit-3/
LOCATION:Brussels
END:VEVENT
BEGIN:VEVENT
DTSTART;VALUE=DATE:20250319
DTEND;VALUE=DATE:20250320
DTSTAMP:20260420T211036
CREATED:20250317T165652Z
LAST-MODIFIED:20250317T165652Z
UID:1043142-1742342400-1742428799@europeannewsroom.com
SUMMARY:EU Commissioner Jozef Síkela receives Spanish Minister of Foreign Affairs José Manuel Albares
DESCRIPTION:
URL:https://europeannewsroom.com/agenda/eu-commissioner-jozef-sikela-receives-spanish-minister-of-foreign-affairs-jose-manuel-albares/
LOCATION:Brussels
END:VEVENT
BEGIN:VEVENT
DTSTART;VALUE=DATE:20250319
DTEND;VALUE=DATE:20250320
DTSTAMP:20260420T211036
CREATED:20250317T165446Z
LAST-MODIFIED:20250317T165446Z
UID:1043132-1742342400-1742428799@europeannewsroom.com
SUMMARY:EU Commissioner Andrius Kubilius receives Croatian Prime Minister Andrej Plenković
DESCRIPTION:
URL:https://europeannewsroom.com/agenda/eu-commissioner-andrius-kubilius-receives-croatian-prime-minister-andrej-plenkovic/
LOCATION:Brussels
END:VEVENT
BEGIN:VEVENT
DTSTART;VALUE=DATE:20250318
DTEND;VALUE=DATE:20250319
DTSTAMP:20260420T211036
CREATED:20250317T164447Z
LAST-MODIFIED:20250317T164447Z
UID:1043083-1742256000-1742342399@europeannewsroom.com
SUMMARY:EU Commissioner Magnus Brunner in the Netherlands
DESCRIPTION:meets Marjolein Faber\, Minister for Asylum and Migration of the Netherlands;\nmeets David Van Weel\, Minister for Security and Justice of the Netherlands.
URL:https://europeannewsroom.com/agenda/eu-commissioner-magnus-brunner-in-the-netherlands/
LOCATION:The Hague\, Netherlands
END:VEVENT
BEGIN:VEVENT
DTSTART;VALUE=DATE:20250318
DTEND;VALUE=DATE:20250319
DTSTAMP:20260420T211036
CREATED:20250317T164101Z
LAST-MODIFIED:20250317T164101Z
UID:1043074-1742256000-1742342399@europeannewsroom.com
SUMMARY:EU Commissioner Wopke Hoekstra receives Italian Minister for the Environment Pichetto Fratin
DESCRIPTION:
URL:https://europeannewsroom.com/agenda/eu-commissioner-wopke-hoekstra-receives-italian-minister-for-the-environment-pichetto-fratin/
LOCATION:Brussels
END:VEVENT
BEGIN:VEVENT
DTSTART;VALUE=DATE:20250318
DTEND;VALUE=DATE:20250319
DTSTAMP:20260420T211036
CREATED:20250317T163358Z
LAST-MODIFIED:20250317T163358Z
UID:1043064-1742256000-1742342399@europeannewsroom.com
SUMMARY:EU Commission President Ursula von der Leyen in an informal dinner with President of the EU Council António Costa
DESCRIPTION:and UN Secretary-General António Guterres.
URL:https://europeannewsroom.com/agenda/eu-commission-president-ursula-von-der-leyen-in-an-informal-dinner-with-president-of-the-eu-council-antonio-costa/
LOCATION:Brussels
END:VEVENT
BEGIN:VEVENT
DTSTART;TZID=Europe/Berlin:20250317T150000
DTEND;TZID=Europe/Berlin:20250317T203000
DTSTAMP:20260420T211036
CREATED:20250314T114016Z
LAST-MODIFIED:20250314T114016Z
UID:1037486-1742223600-1742243400@europeannewsroom.com
SUMMARY:Standing with Syria - Brussels ninth conference
DESCRIPTION:livestream
URL:https://europeannewsroom.com/agenda/standing-with-syria-brussels-ninth-conference/
LOCATION:Brussels
END:VEVENT
END:VCALENDAR