BEGIN:VCALENDAR
VERSION:2.0
PRODID:-//European Newsroom - ECPv6.15.18//NONSGML v1.0//EN
CALSCALE:GREGORIAN
METHOD:PUBLISH
X-WR-CALNAME:European Newsroom
X-ORIGINAL-URL:https://europeannewsroom.com
X-WR-CALDESC:Events for European Newsroom
REFRESH-INTERVAL;VALUE=DURATION:PT1H
X-Robots-Tag:noindex
X-PUBLISHED-TTL:PT1H
BEGIN:VTIMEZONE
TZID:Europe/Berlin
BEGIN:DAYLIGHT
TZOFFSETFROM:+0100
TZOFFSETTO:+0200
TZNAME:CEST
DTSTART:20240331T010000
END:DAYLIGHT
BEGIN:STANDARD
TZOFFSETFROM:+0200
TZOFFSETTO:+0100
TZNAME:CET
DTSTART:20241027T010000
END:STANDARD
BEGIN:DAYLIGHT
TZOFFSETFROM:+0100
TZOFFSETTO:+0200
TZNAME:CEST
DTSTART:20250330T010000
END:DAYLIGHT
BEGIN:STANDARD
TZOFFSETFROM:+0200
TZOFFSETTO:+0100
TZNAME:CET
DTSTART:20251026T010000
END:STANDARD
BEGIN:DAYLIGHT
TZOFFSETFROM:+0100
TZOFFSETTO:+0200
TZNAME:CEST
DTSTART:20260329T010000
END:DAYLIGHT
BEGIN:STANDARD
TZOFFSETFROM:+0200
TZOFFSETTO:+0100
TZNAME:CET
DTSTART:20261025T010000
END:STANDARD
END:VTIMEZONE
BEGIN:VEVENT
DTSTART;VALUE=DATE:20250910
DTEND;VALUE=DATE:20250912
DTSTAMP:20260420T211102
CREATED:20250904T200536Z
LAST-MODIFIED:20250904T200536Z
UID:1597414-1757462400-1757635199@europeannewsroom.com
SUMMARY:European Central Bank Governing Council
DESCRIPTION:press conference live (september 11\, 14:45)
URL:https://europeannewsroom.com/agenda/european-central-bank-governing-council-20/
LOCATION:Frankfurt\, Germany
END:VEVENT
BEGIN:VEVENT
DTSTART;TZID=Europe/Berlin:20250909T133000
DTEND;TZID=Europe/Berlin:20250909T170000
DTSTAMP:20260420T211102
CREATED:20250904T195941Z
LAST-MODIFIED:20250904T195941Z
UID:1597408-1757424600-1757437200@europeannewsroom.com
SUMMARY:EU Conference: 'Men\, Boys\, and Gender Equality'
DESCRIPTION:programme
URL:https://europeannewsroom.com/agenda/eu-conference-men-boys-and-gender-equality/
LOCATION:Copenhagen\, Denmark
END:VEVENT
BEGIN:VEVENT
DTSTART;TZID=Europe/Berlin:20250908T170000
DTEND;TZID=Europe/Berlin:20250911T160000
DTSTAMP:20260420T211102
CREATED:20250901T144926Z
LAST-MODIFIED:20250901T144926Z
UID:1584962-1757350800-1757606400@europeannewsroom.com
SUMMARY:EU Parliament plenary session
DESCRIPTION:agenda\nlivestream
URL:https://europeannewsroom.com/agenda/eu-parliament-plenary-session-20/
LOCATION:European Parliament Strasbourg\, Belgien
END:VEVENT
BEGIN:VEVENT
DTSTART;VALUE=DATE:20250907
DTEND;VALUE=DATE:20250910
DTSTAMP:20260420T211102
CREATED:20250818T071654Z
LAST-MODIFIED:20250818T071654Z
UID:1541662-1757203200-1757462399@europeannewsroom.com
SUMMARY:Informal meeting of EU agriculture ministers
DESCRIPTION:
URL:https://europeannewsroom.com/agenda/informal-meeting-of-eu-agriculture-ministers-3/
LOCATION:Copenhagen\, Denmark
END:VEVENT
BEGIN:VEVENT
DTSTART;VALUE=DATE:20250904
DTEND;VALUE=DATE:20250906
DTSTAMP:20260420T211102
CREATED:20250818T070947Z
LAST-MODIFIED:20250818T070947Z
UID:1541650-1756944000-1757116799@europeannewsroom.com
SUMMARY:Informal meeting of EU energy ministers
DESCRIPTION:
URL:https://europeannewsroom.com/agenda/informal-meeting-of-eu-energy-ministers-3/
LOCATION:Copenhagen\, Denmark
END:VEVENT
BEGIN:VEVENT
DTSTART;VALUE=DATE:20250901
DTEND;VALUE=DATE:20250905
DTSTAMP:20260420T211102
CREATED:20250829T103654Z
LAST-MODIFIED:20250829T103654Z
UID:1579059-1756684800-1757030399@europeannewsroom.com
SUMMARY:EU Parliament Committees meet
DESCRIPTION:Committee on Security and Defense (september 1);\nCommittee on Budgets (september 1);\nCommittee on International Trade (september 3);\nCommittee on Foreign Affairs (september 4);\nCommittee on the Environment\, Climate and Food Safety (september 4);\nFor information on other committees\, see the calendar;\nlivestream.
URL:https://europeannewsroom.com/agenda/eu-parliament-committees-meet-6/
LOCATION:European Parliament Brussels\, Belgium
END:VEVENT
BEGIN:VEVENT
DTSTART;VALUE=DATE:20250901
DTEND;VALUE=DATE:20250903
DTSTAMP:20260420T211102
CREATED:20250818T070719Z
LAST-MODIFIED:20250818T070746Z
UID:1541645-1756684800-1756857599@europeannewsroom.com
SUMMARY:Informal meeting of EU ministers for European affairs
DESCRIPTION:
URL:https://europeannewsroom.com/agenda/informal-meeting-of-eu-ministers-for-european-affairs/
LOCATION:Copenhagen\, Denmark
END:VEVENT
BEGIN:VEVENT
DTSTART;VALUE=DATE:20250829
DTEND;VALUE=DATE:20250902
DTSTAMP:20260420T211102
CREATED:20250829T102651Z
LAST-MODIFIED:20250829T102651Z
UID:1578965-1756425600-1756771199@europeannewsroom.com
SUMMARY:EU Commission President Ursula von der Leyen visits frontline member states
DESCRIPTION:meets Ms Evika Siliņa\, Prime Minister of Latvia (Riga\, august 29);\nmeets Mr Petteri Orpo\, Prime Minister of Finland;\nmeets Mr Alexander Stubb\, President of Finland (Helsinki\, august 29);\nmeets Mr Kristen Michal\, Prime Minister of Estonia (Ämari\, august 30);\nmeets Mr Donald Tusk\, Prime Minister of Poland (Poland\, august 31);\nmeets Mr Rosen Zhelyazkov\, Prime Minister of Bulgaria (Sopot\, august 31);\nmeets Mr Gitanas Nausėda\, President of Lithuania (Lithuania\, september 1);\nmeets Mr Nicușor Dan\, President of Romania and Mr Ilie Bolojan\, Prime Minister of Romania (Constanța\, september 1).
URL:https://europeannewsroom.com/agenda/eu-commission-president-ursula-von-der-leyen-visits-frontline-member-states/
LOCATION:European Union
END:VEVENT
BEGIN:VEVENT
DTSTART;VALUE=DATE:20250829
DTEND;VALUE=DATE:20250831
DTSTAMP:20260420T211102
CREATED:20250818T070306Z
LAST-MODIFIED:20250829T104021Z
UID:1541631-1756425600-1756598399@europeannewsroom.com
SUMMARY:Informal meeting of EU defence and foreign affairs ministers
DESCRIPTION:
URL:https://europeannewsroom.com/agenda/informal-meeting-of-eu-foreign-affairs-ministers-and-informal-meeting-of-defence-ministers/
LOCATION:Copenhagen\, Denmark
END:VEVENT
BEGIN:VEVENT
DTSTART;VALUE=DATE:20250724
DTEND;VALUE=DATE:20250726
DTSTAMP:20260420T211102
CREATED:20250718T085153Z
LAST-MODIFIED:20250718T085153Z
UID:1454068-1753315200-1753487999@europeannewsroom.com
SUMMARY:EU-China Summit
DESCRIPTION:videos
URL:https://europeannewsroom.com/agenda/eu-china-summit-2/
LOCATION:Beijing\, China
END:VEVENT
BEGIN:VEVENT
DTSTART;VALUE=DATE:20250723
DTEND;VALUE=DATE:20250724
DTSTAMP:20260420T211102
CREATED:20250721T085200Z
LAST-MODIFIED:20250721T085200Z
UID:1460667-1753228800-1753315199@europeannewsroom.com
SUMMARY:EU Commissioner Michael McGrath meets Austrian Minister for Justice Anna Sporrer
DESCRIPTION:
URL:https://europeannewsroom.com/agenda/eu-commissioner-michael-mcgrath-meets-austrian-minister-for-justice-anna-sporrer/
LOCATION:Copenhagen\, Denmark
END:VEVENT
BEGIN:VEVENT
DTSTART;VALUE=DATE:20250723
DTEND;VALUE=DATE:20250725
DTSTAMP:20260420T211102
CREATED:20250718T084907Z
LAST-MODIFIED:20250718T084907Z
UID:1454043-1753228800-1753401599@europeannewsroom.com
SUMMARY:European Central Bank Governing Council
DESCRIPTION:
URL:https://europeannewsroom.com/agenda/european-central-bank-governing-council-19/
LOCATION:Frankfurt\, Germany
END:VEVENT
BEGIN:VEVENT
DTSTART;VALUE=DATE:20250723
DTEND;VALUE=DATE:20250724
DTSTAMP:20260420T211102
CREATED:20250718T084642Z
LAST-MODIFIED:20250718T084642Z
UID:1454041-1753228800-1753315199@europeannewsroom.com
SUMMARY:EU-Japan Summit
DESCRIPTION:livestream
URL:https://europeannewsroom.com/agenda/eu-japan-summit-2/
LOCATION:Tokyo\, Japan
END:VEVENT
BEGIN:VEVENT
DTSTART;VALUE=DATE:20250722
DTEND;VALUE=DATE:20250723
DTSTAMP:20260420T211102
CREATED:20250721T085131Z
LAST-MODIFIED:20250721T085131Z
UID:1460665-1753142400-1753228799@europeannewsroom.com
SUMMARY:EU Commissioner Jessika Roswall in Lisbon
DESCRIPTION:visits the Wastewater Treatment Plant in Alcântara;\nvisits the Lisbon Drainage Master Plan;\nparticipates in a roundtable with entrepreneurs\, ‘Lab to Fab’;\ngives an address to the Assembly of the Republic of Portugal.
URL:https://europeannewsroom.com/agenda/eu-commissioner-jessika-roswall-in-lisbon/
LOCATION:Lisbon\, Portugal
END:VEVENT
BEGIN:VEVENT
DTSTART;VALUE=DATE:20250722
DTEND;VALUE=DATE:20250724
DTSTAMP:20260420T211102
CREATED:20250721T084946Z
LAST-MODIFIED:20250721T084946Z
UID:1460662-1753142400-1753315199@europeannewsroom.com
SUMMARY:EU Commission President Ursula von der Leyen in Japan
DESCRIPTION:together with President of the European Council António Costa and EU High Repräsentative Kaja Kallas;\nvisit Expo 2025 Osaka (july 22)\nEU Commission President Ursula von der Leyen receives the title of Doctor Honoris Causa from Keio University and delivers a speech on the occasion;\nEU High Representative Kaja Kallas meets Japanese Minister of Foreign Affairs Takeshi Iwaya (july 23).
URL:https://europeannewsroom.com/agenda/eu-commission-president-ursula-von-der-leyen-in-japan/
LOCATION:Japan
END:VEVENT
BEGIN:VEVENT
DTSTART;VALUE=DATE:20250722
DTEND;VALUE=DATE:20250723
DTSTAMP:20260420T211102
CREATED:20250721T084853Z
LAST-MODIFIED:20250721T084853Z
UID:1460660-1753142400-1753228799@europeannewsroom.com
SUMMARY:EU Commissioner Michael McGrath meets Portuguese Minister for Justice Rita Alarcão Júdice
DESCRIPTION:
URL:https://europeannewsroom.com/agenda/eu-commissioner-michael-mcgrath-meets-portuguese-minister-for-justice-rita-alarcao-judice/
LOCATION:Copenhagen\, Denmark
END:VEVENT
BEGIN:VEVENT
DTSTART;VALUE=DATE:20250722
DTEND;VALUE=DATE:20250723
DTSTAMP:20260420T211102
CREATED:20250721T084723Z
LAST-MODIFIED:20250721T084723Z
UID:1460658-1753142400-1753228799@europeannewsroom.com
SUMMARY:EU Commission Vice-President Henna Virkunnen receives Portuguese Minister Adjungt and for State Reform Gonçalo Matias
DESCRIPTION:
URL:https://europeannewsroom.com/agenda/eu-commission-vice-president-henna-virkunnen-receives-portuguese-minister-adjungt-and-for-state-reform-goncalo-matias/
LOCATION:Brussels
END:VEVENT
BEGIN:VEVENT
DTSTART;VALUE=DATE:20250722
DTEND;VALUE=DATE:20250724
DTSTAMP:20260420T211102
CREATED:20250718T084541Z
LAST-MODIFIED:20250718T084541Z
UID:1454039-1753142400-1753315199@europeannewsroom.com
SUMMARY:Informal meeting of EU justice and home affairs ministers
DESCRIPTION:livestream
URL:https://europeannewsroom.com/agenda/informal-meeting-of-eu-justice-and-home-affairs-ministers-4/
LOCATION:Copenhagen\, Denmark
END:VEVENT
BEGIN:VEVENT
DTSTART;VALUE=DATE:20250721
DTEND;VALUE=DATE:20250722
DTSTAMP:20260420T211102
CREATED:20250721T084640Z
LAST-MODIFIED:20250721T084640Z
UID:1460655-1753056000-1753142399@europeannewsroom.com
SUMMARY:EU Commissioner Marta Kos in Ljubljana
DESCRIPTION:meets with Mr Erik Valenčič;\nmeets with Ms Jana Repanšek\, Director of the Centre of Excellence in Finance.
URL:https://europeannewsroom.com/agenda/eu-commissioner-marta-kos-in-ljubljana-2/
LOCATION:Ljubljana\, Slovenia
END:VEVENT
BEGIN:VEVENT
DTSTART;VALUE=DATE:20250721
DTEND;VALUE=DATE:20250724
DTSTAMP:20260420T211102
CREATED:20250718T084417Z
LAST-MODIFIED:20250718T084417Z
UID:1454036-1753056000-1753315199@europeannewsroom.com
SUMMARY:EU Parliament Special Committee on the Housing Crisis visits Vienna
DESCRIPTION:press conference live (july 23\, 11:00)
URL:https://europeannewsroom.com/agenda/eu-parliament-special-committee-on-the-housing-crisis-visits-vienna/
LOCATION:Vienna\, Austria
END:VEVENT
BEGIN:VEVENT
DTSTART;VALUE=DATE:20250721
DTEND;VALUE=DATE:20250722
DTSTAMP:20260420T211102
CREATED:20250718T084216Z
LAST-MODIFIED:20250718T084216Z
UID:1454032-1753056000-1753142399@europeannewsroom.com
SUMMARY:Ministerial Meeting of the European Ports Alliance
DESCRIPTION:video recodings and press conference by Danish Minister for Justice Peter Hummelgaard and EU Commissioner Magnus Brunner live (18:05)
URL:https://europeannewsroom.com/agenda/ministerial-meeting-of-the-european-ports-alliance/
LOCATION:Helsingør\, Denmark
END:VEVENT
BEGIN:VEVENT
DTSTART;TZID=Europe/Berlin:20250718T093000
DTEND;TZID=Europe/Berlin:20250718T093000
DTSTAMP:20260420T211102
CREATED:20250711T113234Z
LAST-MODIFIED:20250711T113234Z
UID:1425584-1752831000-1752831000@europeannewsroom.com
SUMMARY:EU General Affairs Council
DESCRIPTION:agenda\nlivestream
URL:https://europeannewsroom.com/agenda/eu-general-affairs-council-13/
LOCATION:Brussels
END:VEVENT
BEGIN:VEVENT
DTSTART;VALUE=DATE:20250718
DTEND;VALUE=DATE:20250719
DTSTAMP:20260420T211102
CREATED:20250716T104848Z
LAST-MODIFIED:20250716T104848Z
UID:1442350-1752796800-1752883199@europeannewsroom.com
SUMMARY:Eurostat publishes statistics on construction production for May 2025 and balance of payments for May 2025
DESCRIPTION:
URL:https://europeannewsroom.com/agenda/eurostat-publishes-statistics-on-construction-production-for-may-2025-and-balance-of-payments-for-may-2025/
LOCATION:ONLINE
END:VEVENT
BEGIN:VEVENT
DTSTART;VALUE=DATE:20250718
DTEND;VALUE=DATE:20250719
DTSTAMP:20260420T211102
CREATED:20250716T104326Z
LAST-MODIFIED:20250716T104326Z
UID:1442313-1752796800-1752883199@europeannewsroom.com
SUMMARY:EU Commissioner Maria Luíz Albuquerque in Lisbon
DESCRIPTION:participates and delivers a speech at the working lunch organised by AmCham Portugal;\nmeets Maria do Rosário Palma Ramalho\, Portuguese Minister of Labour\, Solidarity and Social Security.
URL:https://europeannewsroom.com/agenda/eu-commissioner-maria-luiz-albuquerque-in-lisbon/
LOCATION:Lisbon\, Portugal
END:VEVENT
BEGIN:VEVENT
DTSTART;VALUE=DATE:20250718
DTEND;VALUE=DATE:20250719
DTSTAMP:20260420T211102
CREATED:20250716T103956Z
LAST-MODIFIED:20250716T104131Z
UID:1442213-1752796800-1752883199@europeannewsroom.com
SUMMARY:EU Commissioner Marta Kos in Ljubljana
DESCRIPTION:meets Klemen Boštjančič\, Minister of Finance of Slovenia;\nmeets Urška Klakočar Zupančič Speaker of the Assembly.
URL:https://europeannewsroom.com/agenda/eu-commissioner-marta-kos-in-ljubljana/
LOCATION:Ljubljana\, Slovenia
END:VEVENT
BEGIN:VEVENT
DTSTART;TZID=Europe/Berlin:20250717T120000
DTEND;TZID=Europe/Berlin:20250717T140000
DTSTAMP:20260420T211102
CREATED:20250716T103135Z
LAST-MODIFIED:20250716T103428Z
UID:1442201-1752753600-1752760800@europeannewsroom.com
SUMMARY:Implementation dialog on sustainable fuels for maritime and aviation transport
DESCRIPTION:EU Commissioner Apostolos Tzitzikostas participates.
URL:https://europeannewsroom.com/agenda/implementation-dialogue-on-ramping-up-renewable-and-low-carbon-maritime-and-aviation-fuels-production-in-the-eu/
LOCATION:Brussels
END:VEVENT
BEGIN:VEVENT
DTSTART;TZID=Europe/Berlin:20250717T100000
DTEND;TZID=Europe/Berlin:20250717T113000
DTSTAMP:20260420T211102
CREATED:20250716T102541Z
LAST-MODIFIED:20250716T102541Z
UID:1442099-1752746400-1752751800@europeannewsroom.com
SUMMARY:Strategic Dialogue on EU Corporate Fleets
DESCRIPTION:EU Commissioner Apostolos Tzitzikostas participates.
URL:https://europeannewsroom.com/agenda/strategic-dialogue-on-eu-corporate-fleets/
LOCATION:Brussels
END:VEVENT
BEGIN:VEVENT
DTSTART;VALUE=DATE:20250717
DTEND;VALUE=DATE:20250718
DTSTAMP:20260420T211102
CREATED:20250716T105153Z
LAST-MODIFIED:20250716T105153Z
UID:1442358-1752710400-1752796799@europeannewsroom.com
SUMMARY:Eurostat releases data on June 2025 inflation
DESCRIPTION:
URL:https://europeannewsroom.com/agenda/eurostat-releases-data-on-june-2025-inflation/
LOCATION:ONLINE
END:VEVENT
BEGIN:VEVENT
DTSTART;VALUE=DATE:20250717
DTEND;VALUE=DATE:20250719
DTSTAMP:20260420T211102
CREATED:20250716T102054Z
LAST-MODIFIED:20250716T102054Z
UID:1442090-1752710400-1752883199@europeannewsroom.com
SUMMARY:EU Commissioner Dan Jørgensen in Athens
DESCRIPTION:meets with Minister of Social Cohesion and Family Affairs Domna Michailidou;\nmeets with Prime Minister Kyriakos Mitsotakis;\nmeets with Minister of Economy and Finance Kyriakos Pierrakakis;\nparticipates in the event on the 20th anniversary of the Energy Community (july 17);\nmeets Minister of Environment and Energy Stavros Papastavrou;\nvisits the high-voltage electrical substation site Aspropyrgos;\nmeets Vice-President of the Government Konstantinos Chatzidakis (july 18).
URL:https://europeannewsroom.com/agenda/eu-commissioner-dan-jorgensen-in-athens/
LOCATION:Athens\, Greece
END:VEVENT
BEGIN:VEVENT
DTSTART;VALUE=DATE:20250717
DTEND;VALUE=DATE:20250719
DTSTAMP:20260420T211102
CREATED:20250716T101849Z
LAST-MODIFIED:20250716T101849Z
UID:1442080-1752710400-1752883199@europeannewsroom.com
SUMMARY:EU Commissioner Hadja Lahbib in Athens
DESCRIPTION:meets Greek Minister of Climate Crisis and Civil Protection Ioannis Kefalogiannis (july 17);\nmeets Kyriakos Mitsotakis\, Prime Minister of Greece (july 18).
URL:https://europeannewsroom.com/agenda/eu-commissioner-hadja-lahbib-in-athens/
LOCATION:Athens\, Greece
END:VEVENT
END:VCALENDAR