BEGIN:VCALENDAR
VERSION:2.0
PRODID:-//European Newsroom - ECPv6.15.18//NONSGML v1.0//EN
CALSCALE:GREGORIAN
METHOD:PUBLISH
X-WR-CALNAME:European Newsroom
X-ORIGINAL-URL:https://europeannewsroom.com
X-WR-CALDESC:Events for European Newsroom
REFRESH-INTERVAL;VALUE=DURATION:PT1H
X-Robots-Tag:noindex
X-PUBLISHED-TTL:PT1H
BEGIN:VTIMEZONE
TZID:Europe/Berlin
BEGIN:DAYLIGHT
TZOFFSETFROM:+0100
TZOFFSETTO:+0200
TZNAME:CEST
DTSTART:20240331T010000
END:DAYLIGHT
BEGIN:STANDARD
TZOFFSETFROM:+0200
TZOFFSETTO:+0100
TZNAME:CET
DTSTART:20241027T010000
END:STANDARD
BEGIN:DAYLIGHT
TZOFFSETFROM:+0100
TZOFFSETTO:+0200
TZNAME:CEST
DTSTART:20250330T010000
END:DAYLIGHT
BEGIN:STANDARD
TZOFFSETFROM:+0200
TZOFFSETTO:+0100
TZNAME:CET
DTSTART:20251026T010000
END:STANDARD
BEGIN:DAYLIGHT
TZOFFSETFROM:+0100
TZOFFSETTO:+0200
TZNAME:CEST
DTSTART:20260329T010000
END:DAYLIGHT
BEGIN:STANDARD
TZOFFSETFROM:+0200
TZOFFSETTO:+0100
TZNAME:CET
DTSTART:20261025T010000
END:STANDARD
END:VTIMEZONE
BEGIN:VEVENT
DTSTART;VALUE=DATE:20250516
DTEND;VALUE=DATE:20250517
DTSTAMP:20260420T194820
CREATED:20250522T114349Z
LAST-MODIFIED:20250522T114349Z
UID:1270803-1747353600-1747439999@europeannewsroom.com
SUMMARY:E5 Defence Ministers' Meeting
DESCRIPTION:further information
URL:https://europeannewsroom.com/agenda/e5-defence-ministers-meeting/
LOCATION:Rome\, Italy
END:VEVENT
BEGIN:VEVENT
DTSTART;VALUE=DATE:20250516
DTEND;VALUE=DATE:20250517
DTSTAMP:20260420T194820
CREATED:20250522T114943Z
LAST-MODIFIED:20250522T114943Z
UID:1270815-1747353600-1747439999@europeannewsroom.com
SUMMARY:EU Commissioner Maria Luís Albuquerque meets Portuguese President Marcelo Rebelo de Sousa
DESCRIPTION:
URL:https://europeannewsroom.com/agenda/eu-commissioner-maria-luis-albuquerque-meets-portuguese-president-marcelo-rebelo-de-sousa/
LOCATION:Lisbon\, Portugal
END:VEVENT
BEGIN:VEVENT
DTSTART;TZID=Europe/Berlin:20250516T180000
DTEND;TZID=Europe/Berlin:20250516T180000
DTSTAMP:20260420T194820
CREATED:20250509T064757Z
LAST-MODIFIED:20250509T064757Z
UID:1238227-1747418400-1747418400@europeannewsroom.com
SUMMARY:European Prize for Literature 2025 Award Ceremony
DESCRIPTION:presented by EU Commissioner Glenn Micallef
URL:https://europeannewsroom.com/agenda/european-prize-for-literature-2025-award-ceremony/
LOCATION:Prague\, Czech Republic
END:VEVENT
BEGIN:VEVENT
DTSTART;VALUE=DATE:20250518
DTEND;VALUE=DATE:20250519
DTSTAMP:20260420T194820
CREATED:20250509T065009Z
LAST-MODIFIED:20250509T065009Z
UID:1238229-1747526400-1747612799@europeannewsroom.com
SUMMARY:Presidential election in Romania (second round)
DESCRIPTION:
URL:https://europeannewsroom.com/agenda/presidential-election-in-romania-second-round/
LOCATION:Romania
END:VEVENT
BEGIN:VEVENT
DTSTART;VALUE=DATE:20250518
DTEND;VALUE=DATE:20250519
DTSTAMP:20260420T194820
CREATED:20250509T065100Z
LAST-MODIFIED:20250509T065100Z
UID:1238231-1747526400-1747612799@europeannewsroom.com
SUMMARY:Parliamentary elections in Portugal
DESCRIPTION:
URL:https://europeannewsroom.com/agenda/parliamentary-elections-in-portugal/
LOCATION:Portugal
END:VEVENT
BEGIN:VEVENT
DTSTART;VALUE=DATE:20250518
DTEND;VALUE=DATE:20250519
DTSTAMP:20260420T194820
CREATED:20250521T145827Z
LAST-MODIFIED:20250521T145827Z
UID:1268437-1747526400-1747612799@europeannewsroom.com
SUMMARY:Presidential election in Poland (first round)
DESCRIPTION:
URL:https://europeannewsroom.com/agenda/presidential-election-in-poland-first-round/
LOCATION:Poland
END:VEVENT
BEGIN:VEVENT
DTSTART;VALUE=DATE:20250519
DTEND;VALUE=DATE:20250520
DTSTAMP:20260420T194820
CREATED:20250516T100816Z
LAST-MODIFIED:20250516T100816Z
UID:1256731-1747612800-1747699199@europeannewsroom.com
SUMMARY:EU-UK Summit
DESCRIPTION:
URL:https://europeannewsroom.com/agenda/eu-uk-summit/
LOCATION:London\, United Kingdom
END:VEVENT
BEGIN:VEVENT
DTSTART;VALUE=DATE:20250519
DTEND;VALUE=DATE:20250521
DTSTAMP:20260420T194820
CREATED:20250521T151834Z
LAST-MODIFIED:20250521T151834Z
UID:1268446-1747612800-1747785599@europeannewsroom.com
SUMMARY:Climate Change Adaptation Mission Forum
DESCRIPTION:EU Commissioner Wopke Hoekstra participates.
URL:https://europeannewsroom.com/agenda/climate-change-adaptation-mission-forum/
LOCATION:Wrocław\, Poland
END:VEVENT
BEGIN:VEVENT
DTSTART;VALUE=DATE:20250519
DTEND;VALUE=DATE:20250521
DTSTAMP:20260420T194820
CREATED:20250522T133731Z
LAST-MODIFIED:20250522T133731Z
UID:1271025-1747612800-1747785599@europeannewsroom.com
SUMMARY:EU Commission Vice-President Teresa Ribera in Berlin
DESCRIPTION:attends a working lunch with German Minister for Economy Katherina Reiche;\ndelivers a keynote speech at the E.CA Competition Law and Economics Expert Forum (may 19);\nmeets Members of Committees of the German Bundestag;\nmeets German Minister for the Environment Carsten Schneider (may 20)
URL:https://europeannewsroom.com/agenda/eu-commission-vice-president-teresa-ribera-in-berlin/
LOCATION:Berlin
END:VEVENT
BEGIN:VEVENT
DTSTART;VALUE=DATE:20250519
DTEND;VALUE=DATE:20250520
DTSTAMP:20260420T194820
CREATED:20250522T133940Z
LAST-MODIFIED:20250522T133954Z
UID:1271081-1747612800-1747699199@europeannewsroom.com
SUMMARY:EU Commissioner Wopke Hoekstra in Poland
DESCRIPTION:visits the GEO-3EM Research Centre of the Wroclaw University of Science and Technology;\nmeets Polish Minister for Climate Paulina Hennig-Kloska.
URL:https://europeannewsroom.com/agenda/eu-commissioner-woke-hoekstra-in-poland/
LOCATION:Wrocław\, Poland
END:VEVENT
BEGIN:VEVENT
DTSTART;TZID=Europe/Berlin:20250519T083000
DTEND;TZID=Europe/Berlin:20250520T174500
DTSTAMP:20260420T194820
CREATED:20250522T133330Z
LAST-MODIFIED:20250522T133330Z
UID:1271014-1747643400-1747763100@europeannewsroom.com
SUMMARY:European Humanitarian Forum 2025
DESCRIPTION:hosted by EU Commissioner Hadja Lahbib.\nprogramme
URL:https://europeannewsroom.com/agenda/european-humanitarian-forum-2025/
LOCATION:Brussels
END:VEVENT
BEGIN:VEVENT
DTSTART;VALUE=DATE:20250520
DTEND;VALUE=DATE:20250522
DTSTAMP:20260420T194820
CREATED:20250521T152243Z
LAST-MODIFIED:20250521T152243Z
UID:1268477-1747699200-1747871999@europeannewsroom.com
SUMMARY:Informal meeting of EU ministers responsible for cohesion policy
DESCRIPTION:livestream (may 21)
URL:https://europeannewsroom.com/agenda/informal-meeting-of-eu-ministers-responsible-for-cohesion-policy-3/
LOCATION:Warsaw\, Poland
END:VEVENT
BEGIN:VEVENT
DTSTART;VALUE=DATE:20250520
DTEND;VALUE=DATE:20250521
DTSTAMP:20260420T194820
CREATED:20250522T140154Z
LAST-MODIFIED:20250522T140154Z
UID:1271171-1747699200-1747785599@europeannewsroom.com
SUMMARY:EU Commissioner Magnus Brunner in Berlin
DESCRIPTION:meets Head of the German Chancellery Thorsten Frei;\nmeets German Minister for Justice Stefanie Hubig;\nmeets German Minister of the Interior Alexander Dobrindt.
URL:https://europeannewsroom.com/agenda/eu-commissioner-magnus-brunner-in-berlin/
LOCATION:Berlin
END:VEVENT
BEGIN:VEVENT
DTSTART;VALUE=DATE:20250520
DTEND;VALUE=DATE:20250521
DTSTAMP:20260420T194820
CREATED:20250522T141814Z
LAST-MODIFIED:20250522T141814Z
UID:1271334-1747699200-1747785599@europeannewsroom.com
SUMMARY:EU Commission President Ursula von der Leyen receives Czech President Peter Pavel
DESCRIPTION:
URL:https://europeannewsroom.com/agenda/eu-commission-president-ursula-von-der-leyen-receives-czech-president-peter-pavel/
LOCATION:Brussels
END:VEVENT
BEGIN:VEVENT
DTSTART;TZID=Europe/Berlin:20250520T080000
DTEND;TZID=Europe/Berlin:20250521T135000
DTSTAMP:20260420T194820
CREATED:20250522T135450Z
LAST-MODIFIED:20250522T135450Z
UID:1271140-1747728000-1747835400@europeannewsroom.com
SUMMARY:Annual EU Budget Conference
DESCRIPTION:keynote speech by EU Commission President Ursula von der Leyen.\nlivestream available
URL:https://europeannewsroom.com/agenda/annual-eu-budget-conference/
LOCATION:Brussels
END:VEVENT
BEGIN:VEVENT
DTSTART;TZID=Europe/Berlin:20250520T093000
DTEND;TZID=Europe/Berlin:20250520T093000
DTSTAMP:20260420T194820
CREATED:20250516T101049Z
LAST-MODIFIED:20250516T102414Z
UID:1256734-1747733400-1747733400@europeannewsroom.com
SUMMARY:EU Foreign Affairs Council
DESCRIPTION:agenda\nlivestream
URL:https://europeannewsroom.com/agenda/eu-foreign-affairs-council-19/
LOCATION:Brussels
END:VEVENT
BEGIN:VEVENT
DTSTART;VALUE=DATE:20250521
DTEND;VALUE=DATE:20250522
DTSTAMP:20260420T194820
CREATED:20250516T101235Z
LAST-MODIFIED:20250516T101235Z
UID:1256736-1747785600-1747871999@europeannewsroom.com
SUMMARY:European Union - African Union Ministerial Meeting
DESCRIPTION:
URL:https://europeannewsroom.com/agenda/european-union-african-union-ministerial-meeting/
LOCATION:Brussels
END:VEVENT
BEGIN:VEVENT
DTSTART;VALUE=DATE:20250521
DTEND;VALUE=DATE:20250522
DTSTAMP:20260420T194820
CREATED:20250521T152732Z
LAST-MODIFIED:20250521T152934Z
UID:1268487-1747785600-1747871999@europeannewsroom.com
SUMMARY:European Economic Area Council
DESCRIPTION:agenda
URL:https://europeannewsroom.com/agenda/european-economic-area-council-4/
LOCATION:Brussels
END:VEVENT
BEGIN:VEVENT
DTSTART;VALUE=DATE:20250521
DTEND;VALUE=DATE:20250522
DTSTAMP:20260420T194820
CREATED:20250522T141949Z
LAST-MODIFIED:20250522T141949Z
UID:1271343-1747785600-1747871999@europeannewsroom.com
SUMMARY:President of the European Council António Costa receives Slovenian President Nataša Pirc Musar
DESCRIPTION:
URL:https://europeannewsroom.com/agenda/president-of-the-european-council-antonio-costa-receives-slovenian-president-natasa-pirc-musar/
LOCATION:Brussels
END:VEVENT
BEGIN:VEVENT
DTSTART;VALUE=DATE:20250521
DTEND;VALUE=DATE:20250523
DTSTAMP:20260420T194820
CREATED:20250522T142236Z
LAST-MODIFIED:20250522T142236Z
UID:1271351-1747785600-1747958399@europeannewsroom.com
SUMMARY:EU Parliament Plenary Session
DESCRIPTION:agenda\nlivestream
URL:https://europeannewsroom.com/agenda/eu-parliament-plenary-session-17/
LOCATION:Brussels
END:VEVENT
BEGIN:VEVENT
DTSTART;TZID=Europe/Berlin:20250521T100000
DTEND;TZID=Europe/Berlin:20250522T153000
DTSTAMP:20260420T194820
CREATED:20250516T101502Z
LAST-MODIFIED:20250516T101502Z
UID:1256738-1747821600-1747927800@europeannewsroom.com
SUMMARY:GovTech4Europe Summit
DESCRIPTION:
URL:https://europeannewsroom.com/agenda/govtech4europe-summit/
LOCATION:Rzeszów\, Poland
END:VEVENT
BEGIN:VEVENT
DTSTART;VALUE=DATE:20250522
DTEND;VALUE=DATE:20250523
DTSTAMP:20260420T194820
CREATED:20250516T101719Z
LAST-MODIFIED:20250516T101719Z
UID:1256741-1747872000-1747958399@europeannewsroom.com
SUMMARY:Accession Conference with Albania
DESCRIPTION:
URL:https://europeannewsroom.com/agenda/accession-conference-with-albania/
LOCATION:Brussels
END:VEVENT
BEGIN:VEVENT
DTSTART;VALUE=DATE:20250522
DTEND;VALUE=DATE:20250524
DTSTAMP:20260420T194820
CREATED:20250521T154723Z
LAST-MODIFIED:20250521T154723Z
UID:1268679-1747872000-1748044799@europeannewsroom.com
SUMMARY:EU Competitiveness Council
DESCRIPTION:Council for Internal Market and Industry (may 22)\nCouncil for Research and Space (may 23)\nagenda\nlivestream
URL:https://europeannewsroom.com/agenda/eu-competitiveness-council-2/
LOCATION:Brussels
END:VEVENT
BEGIN:VEVENT
DTSTART;VALUE=DATE:20250522
DTEND;VALUE=DATE:20250524
DTSTAMP:20260420T194820
CREATED:20250522T140536Z
LAST-MODIFIED:20250522T140536Z
UID:1271185-1747872000-1748044799@europeannewsroom.com
SUMMARY:EU Commissioner Christoph Hansen in Zagreb
DESCRIPTION:meets Croatian Deputy Prime Minister David Vlajčić\nmeets the European Affairs Committee and Agriculture Committee of the Croatian Parliament;\ndelivers keynote speech at the Award Ceremony of the Young Farmer of the Year Selection in Croatia (may 22);\nMeets Croatian Prime Minister Andrej Plenković (may 23).
URL:https://europeannewsroom.com/agenda/eu-commissioner-christoph-hansen-in-zagreb/
LOCATION:Zagreb\, Croatie (Nom local : Hrvatska)
END:VEVENT
BEGIN:VEVENT
DTSTART;TZID=Europe/Berlin:20250522T093000
DTEND;TZID=Europe/Berlin:20250523T150000
DTSTAMP:20260420T194820
CREATED:20250521T154024Z
LAST-MODIFIED:20250521T154024Z
UID:1268645-1747906200-1748012400@europeannewsroom.com
SUMMARY:Meeting of the European Integration Network
DESCRIPTION:agenda
URL:https://europeannewsroom.com/agenda/meeting-of-the-european-integration-network/
LOCATION:Warsaw\, Poland
END:VEVENT
BEGIN:VEVENT
DTSTART;TZID=Europe/Berlin:20250522T101500
DTEND;TZID=Europe/Berlin:20250522T181500
DTSTAMP:20260420T194820
CREATED:20250521T153315Z
LAST-MODIFIED:20250521T153508Z
UID:1268566-1747908900-1747937700@europeannewsroom.com
SUMMARY:Brussels Economic Forum 2025
DESCRIPTION:opening by EU Commissioner Valdis Dombrovskis;\nEU Commission Vice-President Henna Virkunnen participates;\nprogramme.
URL:https://europeannewsroom.com/agenda/brussels-economic-forum-2025/
LOCATION:Brussels
END:VEVENT
BEGIN:VEVENT
DTSTART;VALUE=DATE:20250523
DTEND;VALUE=DATE:20250525
DTSTAMP:20260420T194820
CREATED:20250522T140815Z
LAST-MODIFIED:20250522T140815Z
UID:1271193-1747958400-1748131199@europeannewsroom.com
SUMMARY:EU Commissioner Jozef Síkela in Prague
DESCRIPTION:delivers a speech at the Global Gateway and National Development day of Ministry of Foreign Affairs;\nmeets Czech Minister of Foreign Affairs Jan Lipavský.
URL:https://europeannewsroom.com/agenda/eu-commissioner-jozef-sikela-in-prague/
LOCATION:Prague\, Czech Republic
END:VEVENT
BEGIN:VEVENT
DTSTART;VALUE=DATE:20250523
DTEND;VALUE=DATE:20250524
DTSTAMP:20260420T194820
CREATED:20250522T141106Z
LAST-MODIFIED:20250522T141106Z
UID:1271292-1747958400-1748044799@europeannewsroom.com
SUMMARY:EU Commissioner Piotr Serafin in France
DESCRIPTION:meets French Minister Delegate for European Affairs Benjamin Haddad (Paris);\nvisits La Maison du Comté with Benjamin Haddad and Annie Genevard\, Minister of Agriculture (Besançon).
URL:https://europeannewsroom.com/agenda/eu-commissioner-piotr-serafin-in-france/
LOCATION:France
END:VEVENT
BEGIN:VEVENT
DTSTART;VALUE=DATE:20250524
DTEND;VALUE=DATE:20250525
DTSTAMP:20260420T194820
CREATED:20250522T141536Z
LAST-MODIFIED:20250522T141536Z
UID:1271325-1748044800-1748131199@europeannewsroom.com
SUMMARY:EU Commissioner Christophe Hahnsen in Ljubljana
DESCRIPTION:meets Slovenian State Secretary Dejan Židan;\ndelivers a keynote speech at the opening ceremony of the 8th International Bee Keeping Day.
URL:https://europeannewsroom.com/agenda/eu-commissioner-christophe-hahnsen-in-ljubljana/
LOCATION:Ljubljana\, Slovenia
END:VEVENT
BEGIN:VEVENT
DTSTART;VALUE=DATE:20250526
DTEND;VALUE=DATE:20250527
DTSTAMP:20260420T194820
CREATED:20250526T131917Z
LAST-MODIFIED:20250526T131917Z
UID:1285459-1748217600-1748303999@europeannewsroom.com
SUMMARY:EU Commissioner Hadja Lahbib meets Spanish Minister for Home Affairs Fernando Grande-Marlaska Gómez
DESCRIPTION:
URL:https://europeannewsroom.com/agenda/eu-commissioner-hadja-lahbib-meets-spanish-minister-for-home-affairs-fernando-grande-marlaska-gomez/
LOCATION:Madrid\, Spain
END:VEVENT
END:VCALENDAR