BEGIN:VCALENDAR
VERSION:2.0
PRODID:-//European Newsroom - ECPv6.15.18//NONSGML v1.0//EN
CALSCALE:GREGORIAN
METHOD:PUBLISH
X-WR-CALNAME:European Newsroom
X-ORIGINAL-URL:https://europeannewsroom.com
X-WR-CALDESC:Events for European Newsroom
REFRESH-INTERVAL;VALUE=DURATION:PT1H
X-Robots-Tag:noindex
X-PUBLISHED-TTL:PT1H
BEGIN:VTIMEZONE
TZID:Europe/Berlin
BEGIN:DAYLIGHT
TZOFFSETFROM:+0100
TZOFFSETTO:+0200
TZNAME:CEST
DTSTART:20240331T010000
END:DAYLIGHT
BEGIN:STANDARD
TZOFFSETFROM:+0200
TZOFFSETTO:+0100
TZNAME:CET
DTSTART:20241027T010000
END:STANDARD
BEGIN:DAYLIGHT
TZOFFSETFROM:+0100
TZOFFSETTO:+0200
TZNAME:CEST
DTSTART:20250330T010000
END:DAYLIGHT
BEGIN:STANDARD
TZOFFSETFROM:+0200
TZOFFSETTO:+0100
TZNAME:CET
DTSTART:20251026T010000
END:STANDARD
BEGIN:DAYLIGHT
TZOFFSETFROM:+0100
TZOFFSETTO:+0200
TZNAME:CEST
DTSTART:20260329T010000
END:DAYLIGHT
BEGIN:STANDARD
TZOFFSETFROM:+0200
TZOFFSETTO:+0100
TZNAME:CET
DTSTART:20261025T010000
END:STANDARD
END:VTIMEZONE
BEGIN:VEVENT
DTSTART;TZID=Europe/Berlin:20250512T143000
DTEND;TZID=Europe/Berlin:20250512T143000
DTSTAMP:20260420T223441
CREATED:20250521T141016Z
LAST-MODIFIED:20250521T141016Z
UID:1268329-1747060200-1747060200@europeannewsroom.com
SUMMARY:Eurogroup
DESCRIPTION:agenda
URL:https://europeannewsroom.com/agenda/eurogroup-13/
LOCATION:Brussels
END:VEVENT
BEGIN:VEVENT
DTSTART;VALUE=DATE:20250512
DTEND;VALUE=DATE:20250513
DTSTAMP:20260420T223441
CREATED:20250522T112632Z
LAST-MODIFIED:20250522T112632Z
UID:1270745-1747008000-1747094399@europeannewsroom.com
SUMMARY:EU Commission Vice-President Terera Ribera in Prague
DESCRIPTION:meets Czech Minister for Environment Petr Hladík;\nmeets Czech President Petr Pavel.
URL:https://europeannewsroom.com/agenda/eu-commission-vice-president-terera-ribera-in-prague/
LOCATION:Prague\, Czech Republic
END:VEVENT
BEGIN:VEVENT
DTSTART;VALUE=DATE:20250512
DTEND;VALUE=DATE:20250513
DTSTAMP:20260420T223441
CREATED:20250522T112236Z
LAST-MODIFIED:20250522T112236Z
UID:1270730-1747008000-1747094399@europeannewsroom.com
SUMMARY:EU Commissioner Dubravka Šuica in Croatia
DESCRIPTION:participates to the Day of Dubrovnik-Neretva County’s ceremony.
URL:https://europeannewsroom.com/agenda/eu-commissioner-dubravka-suica-in-croatia-3/
LOCATION:Dubrovnik\, Croatia (Local Name: Hrvatska)
END:VEVENT
BEGIN:VEVENT
DTSTART;VALUE=DATE:20250512
DTEND;VALUE=DATE:20250513
DTSTAMP:20260420T223441
CREATED:20250522T111808Z
LAST-MODIFIED:20250522T112457Z
UID:1270723-1747008000-1747094399@europeannewsroom.com
SUMMARY:EU Commissioner Marta Kos meets Ukrainian Deputy Prime Minister Olga Stefanishina
DESCRIPTION:
URL:https://europeannewsroom.com/agenda/eu-commissioner-marta-koss-meets-ukrainian-deputy-prime-minister-olga-stefanishina/
LOCATION:Belgium\, Belgium
END:VEVENT
BEGIN:VEVENT
DTSTART;VALUE=DATE:20250512
DTEND;VALUE=DATE:20250514
DTSTAMP:20260420T223441
CREATED:20250521T142631Z
LAST-MODIFIED:20250521T142631Z
UID:1268346-1747008000-1747180799@europeannewsroom.com
SUMMARY:EU Education\, Youth\, Culture and Sports Council
DESCRIPTION:
URL:https://europeannewsroom.com/agenda/eu-education-youth-culture-and-sports-council/
LOCATION:Brussels
END:VEVENT
BEGIN:VEVENT
DTSTART;VALUE=DATE:20250512
DTEND;VALUE=DATE:20250514
DTSTAMP:20260420T223441
CREATED:20250509T064232Z
LAST-MODIFIED:20250509T064232Z
UID:1238199-1747008000-1747180799@europeannewsroom.com
SUMMARY:Informal meeting of EU energy ministers
DESCRIPTION:livestream (may 13)
URL:https://europeannewsroom.com/agenda/informal-meeting-of-eu-energy-ministers-2/
LOCATION:Warsaw\, Poland
END:VEVENT
BEGIN:VEVENT
DTSTART;VALUE=DATE:20250511
DTEND;VALUE=DATE:20250513
DTSTAMP:20260420T223441
CREATED:20250521T135124Z
LAST-MODIFIED:20250521T135124Z
UID:1268219-1746921600-1747094399@europeannewsroom.com
SUMMARY:Conference of Speakers of European Union Parliaments
DESCRIPTION:programme
URL:https://europeannewsroom.com/agenda/conference-of-speakers-of-european-union-parliaments/
LOCATION:Budapest
END:VEVENT
BEGIN:VEVENT
DTSTART;VALUE=DATE:20250511
DTEND;VALUE=DATE:20250512
DTSTAMP:20260420T223441
CREATED:20250515T141312Z
LAST-MODIFIED:20250515T141312Z
UID:1253763-1746921600-1747007999@europeannewsroom.com
SUMMARY:EU Commission Vice-President Teresa Ribera in Prague
DESCRIPTION:visits Czechia for an institutional mission as part of the Member States outreach.
URL:https://europeannewsroom.com/agenda/eu-commission-vice-president-teresa-ribera-in-prague/
LOCATION:Prague\, Czech Republic
END:VEVENT
BEGIN:VEVENT
DTSTART;VALUE=DATE:20250509
DTEND;VALUE=DATE:20250510
DTSTAMP:20260420T223441
CREATED:20250515T151000Z
LAST-MODIFIED:20250515T151156Z
UID:1253921-1746748800-1746835199@europeannewsroom.com
SUMMARY:EU Commission President Ursula von der Leyen receives German Federal Chancellor Friedrich Merz
DESCRIPTION:
URL:https://europeannewsroom.com/agenda/president-von-der-leyen-receives-german-federal-chancellor-friedrich-merz/
LOCATION:Brussels
END:VEVENT
BEGIN:VEVENT
DTSTART;VALUE=DATE:20250509
DTEND;VALUE=DATE:20250510
DTSTAMP:20260420T223441
CREATED:20250515T142819Z
LAST-MODIFIED:20250515T142819Z
UID:1253818-1746748800-1746835199@europeannewsroom.com
SUMMARY:EU Commissioner Dan Jørgensen gives a keynote speech on Europe Day in the University of Copenhagen
DESCRIPTION:
URL:https://europeannewsroom.com/agenda/eu-commissioner-dan-jorgensen-gives-a-keynote-speech-on-europe-day-in-the-university-of-copenhagen/
LOCATION:Copenhagen\, Denmark
END:VEVENT
BEGIN:VEVENT
DTSTART;VALUE=DATE:20250509
DTEND;VALUE=DATE:20250510
DTSTAMP:20260420T223441
CREATED:20250515T142250Z
LAST-MODIFIED:20250515T142610Z
UID:1253807-1746748800-1746835199@europeannewsroom.com
SUMMARY:EU Commission President Ursula von der Leyen visits Schuman house
DESCRIPTION:on the 75th anniversary of the Schuman declaration;\ntogether with Prime Minister of Luxembourg Luc Frieden\, President of the European Parliament Roberta Metsola & President of the European Council António Costa.
URL:https://europeannewsroom.com/agenda/eu-commission-president-ursula-von-der-leyen-visits-schuman-house/
LOCATION:Luxembourg\, Luxembourg
END:VEVENT
BEGIN:VEVENT
DTSTART;VALUE=DATE:20250509
DTEND;VALUE=DATE:20250510
DTSTAMP:20260420T223441
CREATED:20250515T141905Z
LAST-MODIFIED:20250515T141905Z
UID:1253796-1746748800-1746835199@europeannewsroom.com
SUMMARY:EU Commissioner Piotr Serafin in Poland
DESCRIPTION:meets with Polish Minister for European Affairs Adam Szłapka;\nmeets with Polish Minister of Agriculture Czesław Siekierski;\nvisits te Poznan Supercomputing and Networking Center\, Poznan.
URL:https://europeannewsroom.com/agenda/eu-commissioner-piotr-serafin-in-poland/
LOCATION:Poznan\, Pologne
END:VEVENT
BEGIN:VEVENT
DTSTART;VALUE=DATE:20250509
DTEND;VALUE=DATE:20250512
DTSTAMP:20260420T223441
CREATED:20250515T140003Z
LAST-MODIFIED:20250515T140451Z
UID:1253754-1746748800-1747007999@europeannewsroom.com
SUMMARY:EU Commissioner Marta Kos in the Republic of Moldova
DESCRIPTION:meets Moldovan President Maia Sandu (may 9\, Chișinău);\nmeets with mayors of the North region (Bălți\, may 10);\nmeets with mayors of the region;\nmeets mit Youth and civil society (Comrat\, may 11).
URL:https://europeannewsroom.com/agenda/eu-commissioner-marta-kos-in-moldova/
LOCATION:Republic of Moldova
END:VEVENT
BEGIN:VEVENT
DTSTART;VALUE=DATE:20250509
DTEND;VALUE=DATE:20250510
DTSTAMP:20260420T223441
CREATED:20250502T120341Z
LAST-MODIFIED:20250502T120341Z
UID:1209821-1746748800-1746835199@europeannewsroom.com
SUMMARY:Europe Day
DESCRIPTION:
URL:https://europeannewsroom.com/agenda/europe-day-2/
LOCATION:European Union
END:VEVENT
BEGIN:VEVENT
DTSTART;VALUE=DATE:20250508
DTEND;VALUE=DATE:20250510
DTSTAMP:20260420T223441
CREATED:20250515T144839Z
LAST-MODIFIED:20250515T144839Z
UID:1253866-1746662400-1746835199@europeannewsroom.com
SUMMARY:Kyiv Security Forum
DESCRIPTION:video message by EU Commission Vice-President Henna Virkunnen (may 8);\nfurther information.
URL:https://europeannewsroom.com/agenda/kyiv-security-forum/
LOCATION:Kyiv\, Ukraine
END:VEVENT
BEGIN:VEVENT
DTSTART;VALUE=DATE:20250508
DTEND;VALUE=DATE:20250510
DTSTAMP:20260420T223441
CREATED:20250515T143817Z
LAST-MODIFIED:20250515T143817Z
UID:1253846-1746662400-1746835199@europeannewsroom.com
SUMMARY:EU Commission Vice-President Roxana Mînzatu in Spain
DESCRIPTION:meets President of Catalonia Salvador Illa;\nreceives an award for European integration on behalf of the ERASMUS programme (Barcelona\, may 7);\nmeets Spanish Minister for Employment Yolanda Díaz Pérez;\nmeets Spanish President of the Government Pedro Sánchez;\nmeets Spanish Vice-President Yolanda Diaz (Madrid\, may 8).
URL:https://europeannewsroom.com/agenda/eu-commission-vice-president-roxana-minzatu-in-spain/
LOCATION:Spain\, Spain
END:VEVENT
BEGIN:VEVENT
DTSTART;VALUE=DATE:20250508
DTEND;VALUE=DATE:20250510
DTSTAMP:20260420T223441
CREATED:20250515T143433Z
LAST-MODIFIED:20250515T143433Z
UID:1253837-1746662400-1746835199@europeannewsroom.com
SUMMARY:EU Commission Vice-President Roxana Mînzatu in Bucharest
DESCRIPTION:visits the European Cybersecurity Competence Centre;\nmeets Romanian students on Europe Day;\nvisits the Romanian National Agency for Community Programs in the Fields of Education and Vocational Training.
URL:https://europeannewsroom.com/agenda/eu-commission-vice-president-roxana-minzatu-in-bucharest/
LOCATION:Bucharest\, Romania
END:VEVENT
BEGIN:VEVENT
DTSTART;VALUE=DATE:20250508
DTEND;VALUE=DATE:20250510
DTSTAMP:20260420T223441
CREATED:20250515T143118Z
LAST-MODIFIED:20250515T143118Z
UID:1253827-1746662400-1746835199@europeannewsroom.com
SUMMARY:EU Commissioner Dubravka Šuica in Zagreb
DESCRIPTION:meets with representatives of the European Investment Bank and of the main Croatian and international economic and financial institutions at the European Commission Representation (may 8)\nparticipates in the European Day Celebrations at the House of Europe (may 9)
URL:https://europeannewsroom.com/agenda/eu-commissioner-dubravka-suica-in-zagreb/
LOCATION:Zagreb\, Croatie (Nom local : Hrvatska)
END:VEVENT
BEGIN:VEVENT
DTSTART;VALUE=DATE:20250508
DTEND;VALUE=DATE:20250512
DTSTAMP:20260420T223441
CREATED:20250515T134848Z
LAST-MODIFIED:20250515T134848Z
UID:1253742-1746662400-1747007999@europeannewsroom.com
SUMMARY:EU Commissioner Magnus Brunner in Austria
DESCRIPTION:engages in a youth dialogue at ORF Vorarlberg (Vorarlberg\, may 8);\ndelivers a speech on Europe at the National Council of Europe (Vienna\, may 9);\nparticipates in a youth dialogue at the House of Europe (Vienna\, may 9);\nmeets Austrian minister for Economy Wolfgang Hattmannsdorfer (Vienna may 10);\nparticipates in the Liberation Ceremony at Mauthausen (Mauthausen\, may 11).
URL:https://europeannewsroom.com/agenda/eu-commissioner-magnus-brunner-in-austria/
LOCATION:Austria
END:VEVENT
BEGIN:VEVENT
DTSTART;VALUE=DATE:20250508
DTEND;VALUE=DATE:20250509
DTSTAMP:20260420T223441
CREATED:20250502T120137Z
LAST-MODIFIED:20250502T120137Z
UID:1209772-1746662400-1746748799@europeannewsroom.com
SUMMARY:80th anniversary of the end of World War II in Europe
DESCRIPTION:
URL:https://europeannewsroom.com/agenda/80th-anniversary-of-the-end-of-world-war-ii-in-europe/
LOCATION:Europe
END:VEVENT
BEGIN:VEVENT
DTSTART;VALUE=DATE:20250507
DTEND;VALUE=DATE:20250508
DTSTAMP:20260420T223441
CREATED:20250515T150120Z
LAST-MODIFIED:20250515T150120Z
UID:1253901-1746576000-1746662399@europeannewsroom.com
SUMMARY:EU High Representative Kaja Kallas meets Polish Minister of Foreign Affairs Radosław Sikorski
DESCRIPTION:
URL:https://europeannewsroom.com/agenda/eu-high-representative-kaja-kallas-meets-polish-minister-of-foreign-affairs-radoslaw-sikorski/
LOCATION:Warsaw\, Poland
END:VEVENT
BEGIN:VEVENT
DTSTART;VALUE=DATE:20250507
DTEND;VALUE=DATE:20250508
DTSTAMP:20260420T223441
CREATED:20250515T145857Z
LAST-MODIFIED:20250515T145857Z
UID:1253892-1746576000-1746662399@europeannewsroom.com
SUMMARY:Copenhagen Climate Ministerial 2025
DESCRIPTION:EU Commissioner Wopke Hoekstra participates;\nfurther information (in Danish)
URL:https://europeannewsroom.com/agenda/copenhagen-climate-ministerial-2025/
LOCATION:Copenhague\, Denmark
END:VEVENT
BEGIN:VEVENT
DTSTART;VALUE=DATE:20250507
DTEND;VALUE=DATE:20250508
DTSTAMP:20260420T223441
CREATED:20250515T145536Z
LAST-MODIFIED:20250515T145536Z
UID:1253884-1746576000-1746662399@europeannewsroom.com
SUMMARY:EU Commissioner Wopke Hoekstra meets Danish Minister for Climate Lars Aagaard
DESCRIPTION:
URL:https://europeannewsroom.com/agenda/eu-commissioner-wopke-hoekstra-meets-danish-minister-for-climate-lars-aagaard/
LOCATION:Copenhague\, Denmark
END:VEVENT
BEGIN:VEVENT
DTSTART;VALUE=DATE:20250507
DTEND;VALUE=DATE:20250508
DTSTAMP:20260420T223441
CREATED:20250515T145339Z
LAST-MODIFIED:20250515T145339Z
UID:1253874-1746576000-1746662399@europeannewsroom.com
SUMMARY:EU Commissioner Glenn Micallef in Madrid
DESCRIPTION:delivers a keynote speech at the closing plenary of the Global Forum of the European University of Social Sciences;\nmeets Spanish Minister for Youth Sira Abed Rego;\nvisits the Film and Audiovisual School of Madrid.
URL:https://europeannewsroom.com/agenda/eu-commissioner-glenn-micallef-in-madrid/
LOCATION:Madrid\, Spain
END:VEVENT
BEGIN:VEVENT
DTSTART;VALUE=DATE:20250507
DTEND;VALUE=DATE:20250509
DTSTAMP:20260420T223441
CREATED:20250515T144237Z
LAST-MODIFIED:20250515T144237Z
UID:1253856-1746576000-1746748799@europeannewsroom.com
SUMMARY:EU Commission Vice-President Raffaele Fitto in Spain
DESCRIPTION:meets Spanish Minister of Finance María Jesús Montero;\nmeets President of the Madrid Region Isabel Díaz-Ayuso (Madrid\, may 7);\nmeets Mayor of Valencia María José Catalá;\nmeets President of the Valencian Government Carlos Mazón (Valencia\, may 8).
URL:https://europeannewsroom.com/agenda/eu-commission-vice-president-raffaele-fitto-in-spain/
LOCATION:Spain\, Spain
END:VEVENT
BEGIN:VEVENT
DTSTART;VALUE=DATE:20250507
DTEND;VALUE=DATE:20250509
DTSTAMP:20260420T223441
CREATED:20250502T120031Z
LAST-MODIFIED:20250502T120031Z
UID:1209724-1746576000-1746748799@europeannewsroom.com
SUMMARY:Informal meeting of EU foreign affairs ministers - Gymnich
DESCRIPTION:livestream
URL:https://europeannewsroom.com/agenda/informal-meeting-of-eu-foreign-affairs-ministers-gymnich/
LOCATION:Warsaw\, Poland
END:VEVENT
BEGIN:VEVENT
DTSTART;TZID=Europe/Berlin:20250505T170000
DTEND;TZID=Europe/Berlin:20250508T160000
DTSTAMP:20260420T223441
CREATED:20250502T115850Z
LAST-MODIFIED:20250502T115850Z
UID:1209538-1746464400-1746720000@europeannewsroom.com
SUMMARY:European Parliament plenary session
DESCRIPTION:agenda\nlivestream\n\nmay 5\, 17:00 – 22:00\nmay 6\, 09:00 – 22:00\nmay 7\, 09.00 – 22:00\nmay 8\, 09:00 – 16:00
URL:https://europeannewsroom.com/agenda/european-parliament-plenary-session-11/
LOCATION:European Parliament Strasbourg\, Belgien
END:VEVENT
BEGIN:VEVENT
DTSTART;VALUE=DATE:20250505
DTEND;VALUE=DATE:20250506
DTSTAMP:20260420T223441
CREATED:20250515T152326Z
LAST-MODIFIED:20250515T152326Z
UID:1253954-1746403200-1746489599@europeannewsroom.com
SUMMARY:EU Commission President Ursula meets French President Emmanuel Macron
DESCRIPTION:
URL:https://europeannewsroom.com/agenda/eu-commission-president-ursula-meets-french-president-emmanuel-macron/
LOCATION:Paris\, France
END:VEVENT
BEGIN:VEVENT
DTSTART;VALUE=DATE:20250505
DTEND;VALUE=DATE:20250507
DTSTAMP:20260420T223441
CREATED:20250515T152022Z
LAST-MODIFIED:20250515T152022Z
UID:1253945-1746403200-1746575999@europeannewsroom.com
SUMMARY:EU Commissioner Josef Síkela in Madrid
DESCRIPTION:meets President of the Spanish Government Pedro Sánchez (may 5);\nmeets Spanish Minister of Foreign Affairs José Manuel Albares\, (may 6).
URL:https://europeannewsroom.com/agenda/eu-commissioner-josef-sikela-in-madrid/
LOCATION:Madrid\, Spain
END:VEVENT
BEGIN:VEVENT
DTSTART;VALUE=DATE:20250505
DTEND;VALUE=DATE:20250510
DTSTAMP:20260420T223441
CREATED:20250515T151651Z
LAST-MODIFIED:20250515T151651Z
UID:1253935-1746403200-1746835199@europeannewsroom.com
SUMMARY:EU Commissioner Apostolos Tzitzikostas in Greece
DESCRIPTION:delivers a keynote speech for Europe’s Day (Rhodes\, may 9);\nmeets Nikolaos Asvestis\, Mayor of Kastellorizo (Kastellorizo\, may 9);\nmeets Giorgios Chatzimarkos\, Regional Governor of South Aegean (Rhodes\, may 8);\ndelivers a keynote speech at ESPO conference (Thessaloniki\, may 8);\nmeets Stavros Arnaoutakis\, Regional Governor of Crete (Heraklion\, may 6).
URL:https://europeannewsroom.com/agenda/eu-commissioner-apostolos-tzitzikostas-in-greece-2/
LOCATION:Greece
END:VEVENT
END:VCALENDAR