BEGIN:VCALENDAR
VERSION:2.0
PRODID:-//European Newsroom - ECPv6.15.18//NONSGML v1.0//EN
CALSCALE:GREGORIAN
METHOD:PUBLISH
X-ORIGINAL-URL:https://europeannewsroom.com
X-WR-CALDESC:Events for European Newsroom
REFRESH-INTERVAL;VALUE=DURATION:PT1H
X-Robots-Tag:noindex
X-PUBLISHED-TTL:PT1H
BEGIN:VTIMEZONE
TZID:Europe/Berlin
BEGIN:DAYLIGHT
TZOFFSETFROM:+0100
TZOFFSETTO:+0200
TZNAME:CEST
DTSTART:20240331T010000
END:DAYLIGHT
BEGIN:STANDARD
TZOFFSETFROM:+0200
TZOFFSETTO:+0100
TZNAME:CET
DTSTART:20241027T010000
END:STANDARD
BEGIN:DAYLIGHT
TZOFFSETFROM:+0100
TZOFFSETTO:+0200
TZNAME:CEST
DTSTART:20250330T010000
END:DAYLIGHT
BEGIN:STANDARD
TZOFFSETFROM:+0200
TZOFFSETTO:+0100
TZNAME:CET
DTSTART:20251026T010000
END:STANDARD
BEGIN:DAYLIGHT
TZOFFSETFROM:+0100
TZOFFSETTO:+0200
TZNAME:CEST
DTSTART:20260329T010000
END:DAYLIGHT
BEGIN:STANDARD
TZOFFSETFROM:+0200
TZOFFSETTO:+0100
TZNAME:CET
DTSTART:20261025T010000
END:STANDARD
END:VTIMEZONE
BEGIN:VEVENT
DTSTART;TZID=Europe/Berlin:20251001T133000
DTEND;TZID=Europe/Berlin:20251002T140000
DTSTAMP:20260420T222916
CREATED:20250929T190626Z
LAST-MODIFIED:20250929T190626Z
UID:1659221-1759325400-1759413600@europeannewsroom.com
SUMMARY:Annual EC-EIC-ESM Capital Markets Seminar
DESCRIPTION:EU Commissioner Piotr Serafin participates.
URL:https://europeannewsroom.com/agenda/annual-ec-eic-esm-capital-markets-seminar/
LOCATION:Luxembourg\, Luxembourg
END:VEVENT
BEGIN:VEVENT
DTSTART;VALUE=DATE:20251002
DTEND;VALUE=DATE:20251003
DTSTAMP:20260420T222916
CREATED:20250819T084303Z
LAST-MODIFIED:20250926T072557Z
UID:1544228-1759363200-1759449599@europeannewsroom.com
SUMMARY:Meeting of the European Political Community
DESCRIPTION:livestream
URL:https://europeannewsroom.com/agenda/meeting-of-the-european-political-community-5/
LOCATION:Copenhagen\, Denmark
END:VEVENT
BEGIN:VEVENT
DTSTART;VALUE=DATE:20251002
DTEND;VALUE=DATE:20251004
DTSTAMP:20260420T222916
CREATED:20250929T191405Z
LAST-MODIFIED:20250929T191405Z
UID:1659270-1759363200-1759535999@europeannewsroom.com
SUMMARY:EU Commission Vice-President Henna Virkunnen in Athens
DESCRIPTION:meets Dimitrios Papastergiou\, Minister of Digital Governance of Greece;\nvisits ENISA; meets with Juhan Lepassaar\, Executive Director of ENISA (october 2);\nmeets Kyriakos Mitsotakis\, Prime Minister of Greece;\nparticipates in the Athens Democracy Forum (october 3).
URL:https://europeannewsroom.com/agenda/eu-commission-vice-president-henna-virkunnen-in-athens/
LOCATION:Athens\, Greece
END:VEVENT
BEGIN:VEVENT
DTSTART;VALUE=DATE:20251002
DTEND;VALUE=DATE:20251003
DTSTAMP:20260420T222916
CREATED:20250929T191602Z
LAST-MODIFIED:20250929T191602Z
UID:1659278-1759363200-1759449599@europeannewsroom.com
SUMMARY:EU Commissioner Dan Jørgensen meets Romanian Minister for Development Attila Cseke
DESCRIPTION:
URL:https://europeannewsroom.com/agenda/eu-commissioner-dan-jorgensen-meets-romanian-minister-for-development-attila-cseke/
LOCATION:Brussels
END:VEVENT
BEGIN:VEVENT
DTSTART;VALUE=DATE:20251003
DTEND;VALUE=DATE:20251004
DTSTAMP:20260420T222916
CREATED:20250929T192034Z
LAST-MODIFIED:20250929T192034Z
UID:1659285-1759449600-1759535999@europeannewsroom.com
SUMMARY:EU Commissioner Dan Jørgensen in Copenhagen
DESCRIPTION:meets Jacob Jensen\, Minister for Food\, Agriculture and Fisheries of Denmark;\nmeets with representatives of the Danish energy and industry sectors.
URL:https://europeannewsroom.com/agenda/eu-commissioner-dan-jorgensen-in-copenhagen-4/
LOCATION:Copenhagen\, Denmark
END:VEVENT
BEGIN:VEVENT
DTSTART;VALUE=DATE:20251004
DTEND;VALUE=DATE:20251005
DTSTAMP:20260420T222916
CREATED:20251002T072150Z
LAST-MODIFIED:20251002T072150Z
UID:1667940-1759536000-1759622399@europeannewsroom.com
SUMMARY:Munich Meeting on Migration
DESCRIPTION:
URL:https://europeannewsroom.com/agenda/munich-meeting-on-migration/
LOCATION:Munich\, Germany
END:VEVENT
BEGIN:VEVENT
DTSTART;TZID=Europe/Berlin:20251006T100000
DTEND;TZID=Europe/Berlin:20251006T153000
DTSTAMP:20260420T222916
CREATED:20251002T072312Z
LAST-MODIFIED:20251002T072312Z
UID:1667943-1759744800-1759764600@europeannewsroom.com
SUMMARY:Expert meeting 'Methane emissions from the energy sector: progress and challenges'
DESCRIPTION:
URL:https://europeannewsroom.com/agenda/expert-meeting-methane-emissions-from-the-energy-sector-progress-and-challenges/
LOCATION:Madrid\, Spain
END:VEVENT
BEGIN:VEVENT
DTSTART;TZID=Europe/Berlin:20251006T170000
DTEND;TZID=Europe/Berlin:20251009T160000
DTSTAMP:20260420T222916
CREATED:20250901T150055Z
LAST-MODIFIED:20251002T070932Z
UID:1584993-1759770000-1760025600@europeannewsroom.com
SUMMARY:EU Parliament plenary session
DESCRIPTION:livestream
URL:https://europeannewsroom.com/agenda/eu-parliament-plenary-session-21/
LOCATION:European Parliament Strasbourg\, Belgien
END:VEVENT
BEGIN:VEVENT
DTSTART;TZID=Europe/Berlin:20251007T180000
DTEND;TZID=Europe/Berlin:20251007T180000
DTSTAMP:20260420T222916
CREATED:20251002T072407Z
LAST-MODIFIED:20251002T072407Z
UID:1667945-1759860000-1759860000@europeannewsroom.com
SUMMARY:LUX Audience Award 2026 launch
DESCRIPTION:
URL:https://europeannewsroom.com/agenda/lux-audience-award-2026-launch/
LOCATION:Strasbourg\, France
END:VEVENT
BEGIN:VEVENT
DTSTART;VALUE=DATE:20251008
DTEND;VALUE=DATE:20251010
DTSTAMP:20260420T222916
CREATED:20251002T071539Z
LAST-MODIFIED:20251002T071539Z
UID:1667937-1759881600-1760054399@europeannewsroom.com
SUMMARY:Copenhagen Life Science Summit
DESCRIPTION:
URL:https://europeannewsroom.com/agenda/copenhagen-life-science-summit/
LOCATION:Copenhagen\, Denmark
END:VEVENT
BEGIN:VEVENT
DTSTART;VALUE=DATE:20251008
DTEND;VALUE=DATE:20251010
DTSTAMP:20260420T222916
CREATED:20251012T150025Z
LAST-MODIFIED:20251012T150149Z
UID:1696976-1759881600-1760054399@europeannewsroom.com
SUMMARY:EU Commissioner Christophe Hansen in Romania
DESCRIPTION:visits the irrigation project OUAI Protect Agro;\nmeets Ilie Bolojan\, Prime Minister of Romania (october 8);\nmeets with Mr Florin Barbu\, Minister for Agriculture and Rural Development of Romania;\nattends the Agri4Future Horizon 2025 conference (october 9).
URL:https://europeannewsroom.com/agenda/eu-commissioner-christophe-hansen-in-romania/
LOCATION:Romania
END:VEVENT
BEGIN:VEVENT
DTSTART;VALUE=DATE:20251008
DTEND;VALUE=DATE:20251010
DTSTAMP:20260420T222916
CREATED:20251012T150613Z
LAST-MODIFIED:20251012T150613Z
UID:1696988-1759881600-1760054399@europeannewsroom.com
SUMMARY:EU Commission Vice-President Raffaele Fitto in Berlin
DESCRIPTION:meets with Jens Spahn\, Chief of CDU/CSU Parliamentary Group;\nmeets with Katherina Reiche\, Minister of Economic Affairs and Energy;\nmeets with Johann Wadephul\, Minister for Foreign Affairs (october 8);\nvisits the Technical University of Applied Sciences Wildau;\nmeets with Thorsten Frei\, Head of the Federal Chancellery(october 9).
URL:https://europeannewsroom.com/agenda/eu-commission-vice-president-raffaele-fitto-in-berlin/
LOCATION:Berlin
END:VEVENT
BEGIN:VEVENT
DTSTART;VALUE=DATE:20251008
DTEND;VALUE=DATE:20251009
DTSTAMP:20260420T222916
CREATED:20251012T151223Z
LAST-MODIFIED:20251012T151223Z
UID:1696998-1759881600-1759967999@europeannewsroom.com
SUMMARY:EU Commission Vice-President Henna Virkunnen meets Prime Minister of Greenland Jens-Frederik Nielsen
DESCRIPTION:
URL:https://europeannewsroom.com/agenda/eu-commission-vice-president-henna-virkunnen-meets-prime-minister-of-greenland-jens-frederik-nielsen/
LOCATION:Strasbourg\, France
END:VEVENT
BEGIN:VEVENT
DTSTART;VALUE=DATE:20251008
DTEND;VALUE=DATE:20251009
DTSTAMP:20260420T222916
CREATED:20251012T151455Z
LAST-MODIFIED:20251012T151455Z
UID:1697005-1759881600-1759967999@europeannewsroom.com
SUMMARY:EU Commissioner Magnus Brunner in Budapest
DESCRIPTION:meets Sándor Pintér\, Minister of Interior of Hungary;\nmeets János Bóka\, Minister for European Union Affairs of Hungary;\nmeets Grósz\, President of Mazsihisz.
URL:https://europeannewsroom.com/agenda/eu-commissioner-magnus-brunner-in-budapest/
LOCATION:Budapest
END:VEVENT
BEGIN:VEVENT
DTSTART;VALUE=DATE:20251009
DTEND;VALUE=DATE:20251010
DTSTAMP:20260420T222916
CREATED:20250819T085244Z
LAST-MODIFIED:20251002T072846Z
UID:1544249-1759968000-1760054399@europeannewsroom.com
SUMMARY:Eurogroup
DESCRIPTION:livestream
URL:https://europeannewsroom.com/agenda/eurogroup-15/
LOCATION:Luxembourg\, Luxembourg
END:VEVENT
BEGIN:VEVENT
DTSTART;VALUE=DATE:20251009
DTEND;VALUE=DATE:20251011
DTSTAMP:20260420T222916
CREATED:20251002T072608Z
LAST-MODIFIED:20251002T072608Z
UID:1667948-1759968000-1760140799@europeannewsroom.com
SUMMARY:Arraiolos Group meeting
DESCRIPTION:
URL:https://europeannewsroom.com/agenda/arraiolos-group-meeting/
LOCATION:Talinn\, Estonia
END:VEVENT
BEGIN:VEVENT
DTSTART;VALUE=DATE:20251009
DTEND;VALUE=DATE:20251010
DTSTAMP:20260420T222916
CREATED:20251012T151711Z
LAST-MODIFIED:20251012T151711Z
UID:1697014-1759968000-1760054399@europeannewsroom.com
SUMMARY:EU Commissioner Hadja Lahbib meets French Minister of Interior Bruno Retailleau
DESCRIPTION:
URL:https://europeannewsroom.com/agenda/eu-commissioner-hadja-lahbib-meets-french-minister-of-interior-bruno-retailleau/
LOCATION:Paris\, France
END:VEVENT
BEGIN:VEVENT
DTSTART;VALUE=DATE:20251009
DTEND;VALUE=DATE:20251010
DTSTAMP:20260420T222916
CREATED:20251012T152939Z
LAST-MODIFIED:20251012T152939Z
UID:1697042-1759968000-1760054399@europeannewsroom.com
SUMMARY:EU Commissioner Wopke Hoekstra receives Luxembourg Prime Minister Luc Frieden
DESCRIPTION:
URL:https://europeannewsroom.com/agenda/eu-commissioner-wopke-hoekstra-receives-luxembourg-prime-minister-luc-frieden/
LOCATION:Brussels
END:VEVENT
BEGIN:VEVENT
DTSTART;VALUE=DATE:20251009
DTEND;VALUE=DATE:20251010
DTSTAMP:20260420T222916
CREATED:20251012T153135Z
LAST-MODIFIED:20251012T153135Z
UID:1697052-1759968000-1760054399@europeannewsroom.com
SUMMARY:EU Commissioner Valdis Dombrovskis meets Romanian Finance Minister Alexandru Nazare
DESCRIPTION:
URL:https://europeannewsroom.com/agenda/eu-commissioner-valdis-dombrovskis-meets-romanian-finance-minister-alexandru-nazare/
LOCATION:Luxembourg\, Luxembourg
END:VEVENT
BEGIN:VEVENT
DTSTART;VALUE=DATE:20251009
DTEND;VALUE=DATE:20251011
DTSTAMP:20260420T222916
CREATED:20251012T153844Z
LAST-MODIFIED:20251012T153844Z
UID:1697075-1759968000-1760140799@europeannewsroom.com
SUMMARY:Tallinn Digital Summit
DESCRIPTION:EU High Representative Kaja Kallas and EU Commissioner Michael McGrath participate.
URL:https://europeannewsroom.com/agenda/tallinn-digital-summit/
LOCATION:Talinn\, Estonia
END:VEVENT
BEGIN:VEVENT
DTSTART;TZID=Europe/Berlin:20251009T090000
DTEND;TZID=Europe/Berlin:20251010T160000
DTSTAMP:20260420T222916
CREATED:20251012T152518Z
LAST-MODIFIED:20251012T152518Z
UID:1697035-1760000400-1760112000@europeannewsroom.com
SUMMARY:Global Gateway Forum 2025
DESCRIPTION:opening speech by EU Commission President Ursula von der Leyen;\nEU High Representative Kaja Kallas\, EU Commission Vice-President Teresa Ribera and EU Commissioner Dubravka Šuica participate;\nagenda.
URL:https://europeannewsroom.com/agenda/global-gateway-forum-2025/
LOCATION:Brussels
END:VEVENT
BEGIN:VEVENT
DTSTART;TZID=Europe/Berlin:20251009T133000
DTEND;TZID=Europe/Berlin:20251011T130000
DTSTAMP:20260420T222916
CREATED:20251012T152030Z
LAST-MODIFIED:20251012T152030Z
UID:1697023-1760016600-1760187600@europeannewsroom.com
SUMMARY:Riga Conference 2025
DESCRIPTION:EU Commissioner Andrius Kubilius delivers keynote speech;\nagenda.
URL:https://europeannewsroom.com/agenda/riga-conference-2025/
LOCATION:Riga\, Latvia
END:VEVENT
BEGIN:VEVENT
DTSTART;TZID=Europe/Berlin:20251009T143000
DTEND;TZID=Europe/Berlin:20251010T143000
DTSTAMP:20260420T222916
CREATED:20250819T090804Z
LAST-MODIFIED:20250819T090804Z
UID:1544259-1760020200-1760106600@europeannewsroom.com
SUMMARY:Informal meeting of EU ministers for telecommunication
DESCRIPTION:
URL:https://europeannewsroom.com/agenda/informal-meeting-of-eu-ministers-for-telecommunication/
LOCATION:Horsens\, Denmark
END:VEVENT
BEGIN:VEVENT
DTSTART;VALUE=DATE:20251010
DTEND;VALUE=DATE:20251011
DTSTAMP:20260420T222916
CREATED:20250819T091132Z
LAST-MODIFIED:20251002T072752Z
UID:1544268-1760054400-1760140799@europeannewsroom.com
SUMMARY:EU Economic and Financial Affairs Council
DESCRIPTION:agenda\nlivestream
URL:https://europeannewsroom.com/agenda/eu-economic-and-financial-affairs-council-16/
LOCATION:Luxembourg\, Luxembourg
END:VEVENT
BEGIN:VEVENT
DTSTART;VALUE=DATE:20251010
DTEND;VALUE=DATE:20251011
DTSTAMP:20260420T222916
CREATED:20251012T153410Z
LAST-MODIFIED:20251012T153410Z
UID:1697058-1760054400-1760140799@europeannewsroom.com
SUMMARY:EU Commissioner Christophe Hansen in Bulgaria
DESCRIPTION:visits an irrigation canal alongside Rossen Jeliazkov\, Prime Minister of Bulgaria and Mr Georgi Tahov\, Minister of Agriculture (Haskovo Province);\nmeets with Bulgarian farmers and agricultural stakeholders (Sofia).
URL:https://europeannewsroom.com/agenda/eu-commissioner-christophe-hansen-in-bulgaria/
LOCATION:Bulgaria
END:VEVENT
BEGIN:VEVENT
DTSTART;VALUE=DATE:20251010
DTEND;VALUE=DATE:20251011
DTSTAMP:20260420T222916
CREATED:20251012T153623Z
LAST-MODIFIED:20251012T153623Z
UID:1697067-1760054400-1760140799@europeannewsroom.com
SUMMARY:EU Commissioner Michael McGrath meets Ukrainian First Deputy Prime Minister Mykhailo Fedorov
DESCRIPTION:
URL:https://europeannewsroom.com/agenda/eu-commissioner-michael-mcgrath-meets-ukrainian-first-deputy-prime-minister-mykhailo-fedorov/
LOCATION:Talinn\, Estonia
END:VEVENT
BEGIN:VEVENT
DTSTART;VALUE=DATE:20251010
DTEND;VALUE=DATE:20251011
DTSTAMP:20260420T222916
CREATED:20251012T154123Z
LAST-MODIFIED:20251012T154225Z
UID:1697082-1760054400-1760140799@europeannewsroom.com
SUMMARY:EU Commissioner Wopke Hoekstra meets Bulgarian Finance Minister Temenuzhka Petkova
DESCRIPTION:
URL:https://europeannewsroom.com/agenda/eu-commissioner-wopke-hoekstra-meets-bulgarian-finance-minister-temenuzhka-petkova/
LOCATION:Luxembourg\, Luxembourg
END:VEVENT
BEGIN:VEVENT
DTSTART;TZID=Europe/Berlin:20251010T103000
DTEND;TZID=Europe/Berlin:20251010T123000
DTSTAMP:20260420T222916
CREATED:20251002T072714Z
LAST-MODIFIED:20251002T072714Z
UID:1667952-1760092200-1760099400@europeannewsroom.com
SUMMARY:Event '30 years of Austria in the EU - and Austrian German?'
DESCRIPTION:
URL:https://europeannewsroom.com/agenda/event-30-years-of-austria-in-the-eu-and-austrian-german/
LOCATION:ONLINE
END:VEVENT
BEGIN:VEVENT
DTSTART;TZID=Europe/Berlin:20251012T110000
DTEND;TZID=Europe/Berlin:20251014T173000
DTSTAMP:20260420T222916
CREATED:20251010T102637Z
LAST-MODIFIED:20251010T104701Z
UID:1693041-1760266800-1760463000@europeannewsroom.com
SUMMARY:World Health Summit
DESCRIPTION:EU Commissioners Hadja Lahbib and Olivér Várhelyi participate.\nprogramme
URL:https://europeannewsroom.com/agenda/world-health-summit/
LOCATION:Berlin
END:VEVENT
BEGIN:VEVENT
DTSTART;VALUE=DATE:20251013
DTEND;VALUE=DATE:20251015
DTSTAMP:20260420T222917
CREATED:20250819T091651Z
LAST-MODIFIED:20250819T091651Z
UID:1544278-1760313600-1760486399@europeannewsroom.com
SUMMARY:Informal meeting of EU trade ministers
DESCRIPTION:
URL:https://europeannewsroom.com/agenda/informal-meeting-of-eu-trade-ministers-4/
LOCATION:Horsens\, Denmark
END:VEVENT
END:VCALENDAR