BEGIN:VCALENDAR
VERSION:2.0
PRODID:-//European Newsroom - ECPv6.15.18//NONSGML v1.0//EN
CALSCALE:GREGORIAN
METHOD:PUBLISH
X-WR-CALNAME:European Newsroom
X-ORIGINAL-URL:https://europeannewsroom.com
X-WR-CALDESC:Events for European Newsroom
REFRESH-INTERVAL;VALUE=DURATION:PT1H
X-Robots-Tag:noindex
X-PUBLISHED-TTL:PT1H
BEGIN:VTIMEZONE
TZID:Europe/Berlin
BEGIN:DAYLIGHT
TZOFFSETFROM:+0100
TZOFFSETTO:+0200
TZNAME:CEST
DTSTART:20240331T010000
END:DAYLIGHT
BEGIN:STANDARD
TZOFFSETFROM:+0200
TZOFFSETTO:+0100
TZNAME:CET
DTSTART:20241027T010000
END:STANDARD
BEGIN:DAYLIGHT
TZOFFSETFROM:+0100
TZOFFSETTO:+0200
TZNAME:CEST
DTSTART:20250330T010000
END:DAYLIGHT
BEGIN:STANDARD
TZOFFSETFROM:+0200
TZOFFSETTO:+0100
TZNAME:CET
DTSTART:20251026T010000
END:STANDARD
BEGIN:DAYLIGHT
TZOFFSETFROM:+0100
TZOFFSETTO:+0200
TZNAME:CEST
DTSTART:20260329T010000
END:DAYLIGHT
BEGIN:STANDARD
TZOFFSETFROM:+0200
TZOFFSETTO:+0100
TZNAME:CET
DTSTART:20261025T010000
END:STANDARD
END:VTIMEZONE
BEGIN:VEVENT
DTSTART;VALUE=DATE:20250507
DTEND;VALUE=DATE:20250509
DTSTAMP:20260421T054326
CREATED:20250515T144237Z
LAST-MODIFIED:20250515T144237Z
UID:1253856-1746576000-1746748799@europeannewsroom.com
SUMMARY:EU Commission Vice-President Raffaele Fitto in Spain
DESCRIPTION:meets Spanish Minister of Finance María Jesús Montero;\nmeets President of the Madrid Region Isabel Díaz-Ayuso (Madrid\, may 7);\nmeets Mayor of Valencia María José Catalá;\nmeets President of the Valencian Government Carlos Mazón (Valencia\, may 8).
URL:https://europeannewsroom.com/agenda/eu-commission-vice-president-raffaele-fitto-in-spain/
LOCATION:Spain\, Spain
END:VEVENT
BEGIN:VEVENT
DTSTART;VALUE=DATE:20250507
DTEND;VALUE=DATE:20250509
DTSTAMP:20260421T054326
CREATED:20250502T120031Z
LAST-MODIFIED:20250502T120031Z
UID:1209724-1746576000-1746748799@europeannewsroom.com
SUMMARY:Informal meeting of EU foreign affairs ministers - Gymnich
DESCRIPTION:livestream
URL:https://europeannewsroom.com/agenda/informal-meeting-of-eu-foreign-affairs-ministers-gymnich/
LOCATION:Warsaw\, Poland
END:VEVENT
BEGIN:VEVENT
DTSTART;TZID=Europe/Berlin:20250505T170000
DTEND;TZID=Europe/Berlin:20250508T160000
DTSTAMP:20260421T054326
CREATED:20250502T115850Z
LAST-MODIFIED:20250502T115850Z
UID:1209538-1746464400-1746720000@europeannewsroom.com
SUMMARY:European Parliament plenary session
DESCRIPTION:agenda\nlivestream\n\nmay 5\, 17:00 – 22:00\nmay 6\, 09:00 – 22:00\nmay 7\, 09.00 – 22:00\nmay 8\, 09:00 – 16:00
URL:https://europeannewsroom.com/agenda/european-parliament-plenary-session-11/
LOCATION:European Parliament Strasbourg\, Belgien
END:VEVENT
BEGIN:VEVENT
DTSTART;VALUE=DATE:20250505
DTEND;VALUE=DATE:20250506
DTSTAMP:20260421T054326
CREATED:20250515T152326Z
LAST-MODIFIED:20250515T152326Z
UID:1253954-1746403200-1746489599@europeannewsroom.com
SUMMARY:EU Commission President Ursula meets French President Emmanuel Macron
DESCRIPTION:
URL:https://europeannewsroom.com/agenda/eu-commission-president-ursula-meets-french-president-emmanuel-macron/
LOCATION:Paris\, France
END:VEVENT
BEGIN:VEVENT
DTSTART;VALUE=DATE:20250505
DTEND;VALUE=DATE:20250507
DTSTAMP:20260421T054326
CREATED:20250515T152022Z
LAST-MODIFIED:20250515T152022Z
UID:1253945-1746403200-1746575999@europeannewsroom.com
SUMMARY:EU Commissioner Josef Síkela in Madrid
DESCRIPTION:meets President of the Spanish Government Pedro Sánchez (may 5);\nmeets Spanish Minister of Foreign Affairs José Manuel Albares\, (may 6).
URL:https://europeannewsroom.com/agenda/eu-commissioner-josef-sikela-in-madrid/
LOCATION:Madrid\, Spain
END:VEVENT
BEGIN:VEVENT
DTSTART;VALUE=DATE:20250505
DTEND;VALUE=DATE:20250510
DTSTAMP:20260421T054326
CREATED:20250515T151651Z
LAST-MODIFIED:20250515T151651Z
UID:1253935-1746403200-1746835199@europeannewsroom.com
SUMMARY:EU Commissioner Apostolos Tzitzikostas in Greece
DESCRIPTION:delivers a keynote speech for Europe’s Day (Rhodes\, may 9);\nmeets Nikolaos Asvestis\, Mayor of Kastellorizo (Kastellorizo\, may 9);\nmeets Giorgios Chatzimarkos\, Regional Governor of South Aegean (Rhodes\, may 8);\ndelivers a keynote speech at ESPO conference (Thessaloniki\, may 8);\nmeets Stavros Arnaoutakis\, Regional Governor of Crete (Heraklion\, may 6).
URL:https://europeannewsroom.com/agenda/eu-commissioner-apostolos-tzitzikostas-in-greece-2/
LOCATION:Greece
END:VEVENT
BEGIN:VEVENT
DTSTART;VALUE=DATE:20250505
DTEND;VALUE=DATE:20250507
DTSTAMP:20260421T054326
CREATED:20250515T150631Z
LAST-MODIFIED:20250515T150631Z
UID:1253911-1746403200-1746575999@europeannewsroom.com
SUMMARY:EU Commission President Ursula von der Leyen receives EU Parliament Political Group Chairs
DESCRIPTION:receives Manfred Weber\, Iratxe García-Pérez and Valérie Hayer\, Chairs of the European People’s Party\, the Progressive Alliance of Socialists and Democrats and the Renew Europe Groups (may 5);\nreceives Terry Reintke and Bas Eickhout\, Co-Chairs of the Greens/EFA Group in the European Parliament (may 6).
URL:https://europeannewsroom.com/agenda/eu-commission-president-ursula-von-der-leyen-receives-eu-parliament-political-group-chairs-2/
LOCATION:Strasbourg\, France
END:VEVENT
BEGIN:VEVENT
DTSTART;VALUE=DATE:20250505
DTEND;VALUE=DATE:20250508
DTSTAMP:20260421T054326
CREATED:20250502T115603Z
LAST-MODIFIED:20250502T115603Z
UID:1209398-1746403200-1746662399@europeannewsroom.com
SUMMARY:High-level conference on EU raw materials policy
DESCRIPTION:
URL:https://europeannewsroom.com/agenda/high-level-conference-on-eu-raw-materials-policy/
LOCATION:Krakow\, Poland
END:VEVENT
BEGIN:VEVENT
DTSTART;VALUE=DATE:20250503
DTEND;VALUE=DATE:20250504
DTSTAMP:20260421T054326
CREATED:20250425T071857Z
LAST-MODIFIED:20250425T071857Z
UID:1187626-1746230400-1746316799@europeannewsroom.com
SUMMARY:World Press Freedom Day
DESCRIPTION:
URL:https://europeannewsroom.com/agenda/world-press-freedom-day-2/
LOCATION:Global
END:VEVENT
BEGIN:VEVENT
DTSTART;VALUE=DATE:20250501
DTEND;VALUE=DATE:20250503
DTSTAMP:20260421T054326
CREATED:20250502T133956Z
LAST-MODIFIED:20250502T134127Z
UID:1213019-1746057600-1746230399@europeannewsroom.com
SUMMARY:EU Commissioner Dan Jørgensen in Denmark
DESCRIPTION:visits biogas plant Nature Energy Nordfyn together with Jeppe Bruus\, Minister for the Green Tripartite (Bogense\, may 1);\nattends the follow up on the Odense Recommendations at Oden (Odense\, may 2).
URL:https://europeannewsroom.com/agenda/eu-commissioner-dan-jorgensen-in-denmark/
LOCATION:Denmark
END:VEVENT
BEGIN:VEVENT
DTSTART;TZID=Europe/Berlin:20250430T180000
DTEND;TZID=Europe/Berlin:20250430T210000
DTSTAMP:20260421T054326
CREATED:20250504T124143Z
LAST-MODIFIED:20250504T124143Z
UID:1217148-1746036000-1746046800@europeannewsroom.com
SUMMARY:Event 'How Much 'Green' Is in the EU's Clean Industrial Deal?'
DESCRIPTION:
URL:https://europeannewsroom.com/agenda/event-how-much-green-is-in-the-eus-clean-industrial-deal/
LOCATION:Berlin
END:VEVENT
BEGIN:VEVENT
DTSTART;VALUE=DATE:20250430
DTEND;VALUE=DATE:20250501
DTSTAMP:20260421T054326
CREATED:20250502T135611Z
LAST-MODIFIED:20250502T135611Z
UID:1213091-1745971200-1746057599@europeannewsroom.com
SUMMARY:EU Commissioner Michael McGrath meets Polish Deputy Prime Minister Krzysztof Gawkowski
DESCRIPTION:
URL:https://europeannewsroom.com/agenda/eu-commissioner-michael-mcgrath-meets-polish-deputy-prime-minister-krzysztof-gawkowski/
LOCATION:Brussels
END:VEVENT
BEGIN:VEVENT
DTSTART;VALUE=DATE:20250430
DTEND;VALUE=DATE:20250501
DTSTAMP:20260421T054326
CREATED:20250502T135147Z
LAST-MODIFIED:20250516T103351Z
UID:1213047-1745971200-1746057599@europeannewsroom.com
SUMMARY:EU Commissioner Apostolos Tzizikostas meets Croatian Prime Minister Andrej Plenković
DESCRIPTION:
URL:https://europeannewsroom.com/agenda/eu-commissioner-apostolos-tzizikostas-meets-croatian-prime-minister-andrej-plenkovic/
LOCATION:Valencia\, Spain
END:VEVENT
BEGIN:VEVENT
DTSTART;VALUE=DATE:20250430
DTEND;VALUE=DATE:20250501
DTSTAMP:20260421T054326
CREATED:20250502T134740Z
LAST-MODIFIED:20250502T134740Z
UID:1213040-1745971200-1746057599@europeannewsroom.com
SUMMARY:EU Commissioner Wopke Hoekstra in Spain
DESCRIPTION:meets President of the Regional Government of Andalusia Juan Manuel Moreno Bonilla;\nvisits Albufera Natural Park.
URL:https://europeannewsroom.com/agenda/eu-commissioner-wopke-hoekstra-in-spain/
LOCATION:Valencia\, Spain
END:VEVENT
BEGIN:VEVENT
DTSTART;VALUE=DATE:20250430
DTEND;VALUE=DATE:20250501
DTSTAMP:20260421T054326
CREATED:20250502T134439Z
LAST-MODIFIED:20250502T134439Z
UID:1213031-1745971200-1746057599@europeannewsroom.com
SUMMARY:EU Commissioner Jessica Roswall in Madrid
DESCRIPTION:meets Spanish Third-Vice President Sara Aagesen;\nmeets Spanish Minister for Economy Carlos Cuerpo.
URL:https://europeannewsroom.com/agenda/eu-commissioner-jessica-roswall-in-madrid/
LOCATION:Madrid\, Spain
END:VEVENT
BEGIN:VEVENT
DTSTART;TZID=Europe/Berlin:20250429T180000
DTEND;TZID=Europe/Berlin:20250429T180000
DTSTAMP:20260421T054326
CREATED:20250425T071452Z
LAST-MODIFIED:20250425T071452Z
UID:1187619-1745949600-1745949600@europeannewsroom.com
SUMMARY:LUX Audience Award Ceremony
DESCRIPTION:livestream available
URL:https://europeannewsroom.com/agenda/lux-audience-award-ceremony/
LOCATION:Brussels
END:VEVENT
BEGIN:VEVENT
DTSTART;VALUE=DATE:20250429
DTEND;VALUE=DATE:20250501
DTSTAMP:20260421T054326
CREATED:20250502T141309Z
LAST-MODIFIED:20250502T141336Z
UID:1213150-1745884800-1746057599@europeannewsroom.com
SUMMARY:EU Commissioner Marta Kos in Serbia
DESCRIPTION:meets Aleksandar Vučić\, President of Serbia\, Djuro Macut\, Prime Minister of Serbia\, Nemanja Starovic\, Minister of European Integration of Serbia\, Marko Djurić\, Minister of Foreign Affairs of Serbia;\nmeets Ana Brnabic\, Speaker of the Parliament of Serbia (april 29\, Belgrade);\nmeets with Rectors and Deans of Belgrade University;\neets with members of the Parliament of Serbia; meets with Civil Society Organisations and media organisations; meets leading Serbian women; meets with representative of Transport Community Secretariat (Belgrade);\npays homage to the victims in Novi Sad train station; meets with students (april 30\, Novi Sad).
URL:https://europeannewsroom.com/agenda/eu-commissioner-marta-kos-in-serbia/
LOCATION:Serbia
END:VEVENT
BEGIN:VEVENT
DTSTART;VALUE=DATE:20250429
DTEND;VALUE=DATE:20250430
DTSTAMP:20260421T054326
CREATED:20250502T140110Z
LAST-MODIFIED:20250502T140151Z
UID:1213131-1745884800-1745971199@europeannewsroom.com
SUMMARY:EU Commissioner Apostolos Tzitzikostas meets Austrian Chancellor Christian Stocker
DESCRIPTION:
URL:https://europeannewsroom.com/agenda/eu-commissioner-apostolos-tzitzikostas-meets-australian-chancellor-christian-stocker/
LOCATION:Valencia\, Spain
END:VEVENT
BEGIN:VEVENT
DTSTART;VALUE=DATE:20250429
DTEND;VALUE=DATE:20250430
DTSTAMP:20260421T054326
CREATED:20250502T135913Z
LAST-MODIFIED:20250502T135913Z
UID:1213100-1745884800-1745971199@europeannewsroom.com
SUMMARY:EU Commissioner Apostolos Tzitzikostas meets Italian Deputy Prime Minister Antonio Tajani
DESCRIPTION:
URL:https://europeannewsroom.com/agenda/eu-commissioner-apostolos-tzitzikostas-meets-italian-deputy-prime-minister-antonio-tajani/
LOCATION:Valencia\, Spain
END:VEVENT
BEGIN:VEVENT
DTSTART;VALUE=DATE:20250429
DTEND;VALUE=DATE:20250501
DTSTAMP:20260421T054326
CREATED:20250425T071740Z
LAST-MODIFIED:20250425T071740Z
UID:1187623-1745884800-1746057599@europeannewsroom.com
SUMMARY:Conference 'Competitiveness of railway transport - a challenge and a necessity'
DESCRIPTION:
URL:https://europeannewsroom.com/agenda/conference-competitiveness-of-railway-transport-a-challenge-and-a-necessity/
LOCATION:Wrocław\, Poland
END:VEVENT
BEGIN:VEVENT
DTSTART;VALUE=DATE:20250429
DTEND;VALUE=DATE:20250501
DTSTAMP:20260421T054326
CREATED:20250425T071615Z
LAST-MODIFIED:20250425T071615Z
UID:1187621-1745884800-1746057599@europeannewsroom.com
SUMMARY:European Economic and Social Committee Plenary Session
DESCRIPTION:livestream available
URL:https://europeannewsroom.com/agenda/european-economic-and-social-committee-plenary-session-10/
LOCATION:Brussels
END:VEVENT
BEGIN:VEVENT
DTSTART;TZID=Europe/Berlin:20250428T181500
DTEND;TZID=Europe/Berlin:20250428T203000
DTSTAMP:20260421T054326
CREATED:20250502T144401Z
LAST-MODIFIED:20250502T144401Z
UID:1213314-1745864100-1745872200@europeannewsroom.com
SUMMARY:Event 'In turbulent times: Agenda for a stronger and united Europe'
DESCRIPTION:in German
URL:https://europeannewsroom.com/agenda/event-in-turbulent-times-agenda-for-a-stronger-and-united-europe/
LOCATION:Bonn\, Germany
END:VEVENT
BEGIN:VEVENT
DTSTART;TZID=Europe/Berlin:20250428T134500
DTEND;TZID=Europe/Berlin:20250429T164500
DTSTAMP:20260421T054326
CREATED:20250502T145452Z
LAST-MODIFIED:20250502T145452Z
UID:1213322-1745847900-1745945100@europeannewsroom.com
SUMMARY:Conference 'The future is data'
DESCRIPTION:programm
URL:https://europeannewsroom.com/agenda/conference-the-future-is-data/
LOCATION:Łódź\, Poland
END:VEVENT
BEGIN:VEVENT
DTSTART;VALUE=DATE:20250428
DTEND;VALUE=DATE:20250429
DTSTAMP:20260421T054326
CREATED:20250502T143610Z
LAST-MODIFIED:20250502T143610Z
UID:1213236-1745798400-1745884799@europeannewsroom.com
SUMMARY:EU High Representative Kaja Kallas meets Romanian Minister of National Defence Angel Tîlvăr
DESCRIPTION:
URL:https://europeannewsroom.com/agenda/eu-high-representative-kaja-kallas-meets-romanian-minister-of-national-defence-angel-tilvar/
LOCATION:Brussels
END:VEVENT
BEGIN:VEVENT
DTSTART;VALUE=DATE:20250428
DTEND;VALUE=DATE:20250429
DTSTAMP:20260421T054326
CREATED:20250502T142441Z
LAST-MODIFIED:20250502T142441Z
UID:1213226-1745798400-1745884799@europeannewsroom.com
SUMMARY:EU Commissioner Jessica Roswall in Warsaw
DESCRIPTION:meets with Mr Arkadiusz Marchewka\, Secretary of State at Ministry of Infrastructure and Ms Joanna Kopczyńska\, Chief Executive Officer for Polish Waters\nmeets Minister of Agriculture Czesław Siekierski.
URL:https://europeannewsroom.com/agenda/eu-commissioner-jessica-roswall-in-warsaw/
LOCATION:Warsaw\, Poland
END:VEVENT
BEGIN:VEVENT
DTSTART;VALUE=DATE:20250428
DTEND;VALUE=DATE:20250429
DTSTAMP:20260421T054326
CREATED:20250502T142235Z
LAST-MODIFIED:20250502T142235Z
UID:1213218-1745798400-1745884799@europeannewsroom.com
SUMMARY:EU Commissioner Piotr Serfain in Madrid
DESCRIPTION:meets Spanish Minister of Foreign Affairs José Manuel Albares;\nmeets First Vice President María Jesús Montero.
URL:https://europeannewsroom.com/agenda/eu-commissioner-piotr-serfain-in-madrid/
LOCATION:Madrid\, Spain
END:VEVENT
BEGIN:VEVENT
DTSTART;VALUE=DATE:20250428
DTEND;VALUE=DATE:20250429
DTSTAMP:20260421T054326
CREATED:20250502T141714Z
LAST-MODIFIED:20250502T142033Z
UID:1213208-1745798400-1745884799@europeannewsroom.com
SUMMARY:EU Commissioner Apostolos Tzitzikostas in Madrid
DESCRIPTION:meets Minister for Industry Jordi Hereu i Boher;\nmeets Minister for Transport Osca Puente.
URL:https://europeannewsroom.com/agenda/eu-commissioner-apostolos-tzitzikostas-in-madrid/
LOCATION:Madrid\, Spain
END:VEVENT
BEGIN:VEVENT
DTSTART;VALUE=DATE:20250428
DTEND;VALUE=DATE:20250430
DTSTAMP:20260421T054326
CREATED:20250502T140435Z
LAST-MODIFIED:20250502T140435Z
UID:1213140-1745798400-1745971199@europeannewsroom.com
SUMMARY:EU Commissioner Marta Kos in Prague
DESCRIPTION:meets with Martin Dvořák\, European Affairs Minister of Czechia;\nmeets with Jan Lipavský\, Foreign Affairs of Czechia;\nparticipates at the EU Enlargement Conference (april 28).\nmeets Speaker of the Czesh Senate Miloš Vystrčil (april 29).
URL:https://europeannewsroom.com/agenda/eu-commissioner-marta-kos-in-prague/
LOCATION:Prague\, Czech Republic
END:VEVENT
BEGIN:VEVENT
DTSTART;VALUE=DATE:20250428
DTEND;VALUE=DATE:20250429
DTSTAMP:20260421T054326
CREATED:20250425T071300Z
LAST-MODIFIED:20250425T071300Z
UID:1187571-1745798400-1745884799@europeannewsroom.com
SUMMARY:Schengen Senior Officers Meeting
DESCRIPTION:
URL:https://europeannewsroom.com/agenda/schengen-senior-officers-meeting/
LOCATION:Warsaw\, Poland
END:VEVENT
BEGIN:VEVENT
DTSTART;VALUE=DATE:20250427
DTEND;VALUE=DATE:20250430
DTSTAMP:20260421T054326
CREATED:20250502T135348Z
LAST-MODIFIED:20250502T135348Z
UID:1213082-1745712000-1745971199@europeannewsroom.com
SUMMARY:President of the European Council António Costa in Sofia
DESCRIPTION:meets Prime Minister Rosen Zhelyazkov;\nmeets President Rumen Radev.
URL:https://europeannewsroom.com/agenda/president-of-the-european-council-antonio-costa-in-sofia/
LOCATION:Sofia\, Bulgaria
END:VEVENT
END:VCALENDAR