BEGIN:VCALENDAR
VERSION:2.0
PRODID:-//European Newsroom - ECPv6.15.18//NONSGML v1.0//EN
CALSCALE:GREGORIAN
METHOD:PUBLISH
X-WR-CALNAME:European Newsroom
X-ORIGINAL-URL:https://europeannewsroom.com
X-WR-CALDESC:Events for European Newsroom
REFRESH-INTERVAL;VALUE=DURATION:PT1H
X-Robots-Tag:noindex
X-PUBLISHED-TTL:PT1H
BEGIN:VTIMEZONE
TZID:Europe/Berlin
BEGIN:DAYLIGHT
TZOFFSETFROM:+0100
TZOFFSETTO:+0200
TZNAME:CEST
DTSTART:20240331T010000
END:DAYLIGHT
BEGIN:STANDARD
TZOFFSETFROM:+0200
TZOFFSETTO:+0100
TZNAME:CET
DTSTART:20241027T010000
END:STANDARD
BEGIN:DAYLIGHT
TZOFFSETFROM:+0100
TZOFFSETTO:+0200
TZNAME:CEST
DTSTART:20250330T010000
END:DAYLIGHT
BEGIN:STANDARD
TZOFFSETFROM:+0200
TZOFFSETTO:+0100
TZNAME:CET
DTSTART:20251026T010000
END:STANDARD
BEGIN:DAYLIGHT
TZOFFSETFROM:+0100
TZOFFSETTO:+0200
TZNAME:CEST
DTSTART:20260329T010000
END:DAYLIGHT
BEGIN:STANDARD
TZOFFSETFROM:+0200
TZOFFSETTO:+0100
TZNAME:CET
DTSTART:20261025T010000
END:STANDARD
END:VTIMEZONE
BEGIN:VEVENT
DTSTART;TZID=Europe/Berlin:20250526T100000
DTEND;TZID=Europe/Berlin:20250526T100000
DTSTAMP:20260421T000546
CREATED:20250523T114246Z
LAST-MODIFIED:20250523T114246Z
UID:1273810-1748253600-1748253600@europeannewsroom.com
SUMMARY:EU Agriculture and Fisheries Council
DESCRIPTION:agenda\nlivestream
URL:https://europeannewsroom.com/agenda/eu-agriculture-and-fisheries-council-17/
LOCATION:Brussels
END:VEVENT
BEGIN:VEVENT
DTSTART;VALUE=DATE:20250528
DTEND;VALUE=DATE:20250529
DTSTAMP:20260421T000546
CREATED:20250526T140850Z
LAST-MODIFIED:20250526T140850Z
UID:1285611-1748390400-1748476799@europeannewsroom.com
SUMMARY:EU Commission President Ursula von der Leyen receives Spanish Prime Minister Pedro Sánchez
DESCRIPTION:
URL:https://europeannewsroom.com/agenda/eu-commission-president-ursula-von-der-leyen-receives-spanish-prime-minister-pedro-sanchez/
LOCATION:Brussels
END:VEVENT
BEGIN:VEVENT
DTSTART;VALUE=DATE:20250528
DTEND;VALUE=DATE:20250529
DTSTAMP:20260421T000546
CREATED:20250526T141034Z
LAST-MODIFIED:20250526T141034Z
UID:1285641-1748390400-1748476799@europeannewsroom.com
SUMMARY:Western Balkans Ministerial Forum on Creative Economy
DESCRIPTION:video message by EU Commissioner Glenn Micallef
URL:https://europeannewsroom.com/agenda/western-balkans-ministerial-forum-on-creative-economy/
LOCATION:Kotor\, Montenegro
END:VEVENT
BEGIN:VEVENT
DTSTART;VALUE=DATE:20250528
DTEND;VALUE=DATE:20250529
DTSTAMP:20260421T000546
CREATED:20250526T142033Z
LAST-MODIFIED:20250526T142033Z
UID:1285670-1748390400-1748476799@europeannewsroom.com
SUMMARY:College of EU Commissioners
DESCRIPTION:press conference live
URL:https://europeannewsroom.com/agenda/college-of-eu-commissioners-40/
LOCATION:Brussels
END:VEVENT
BEGIN:VEVENT
DTSTART;VALUE=DATE:20250529
DTEND;VALUE=DATE:20250530
DTSTAMP:20260421T000546
CREATED:20250526T135526Z
LAST-MODIFIED:20250526T135526Z
UID:1285580-1748476800-1748563199@europeannewsroom.com
SUMMARY:EU Commissioner Michael McGrath in Poland
DESCRIPTION:delivers opening speech at the International Federation of European law (FIDE) congress;\nmeets Harvard Professor Joseph Weiler.
URL:https://europeannewsroom.com/agenda/eu-commissioner-michael-mcgrath-in-poland/
LOCATION:Katowice\, Poland
END:VEVENT
BEGIN:VEVENT
DTSTART;VALUE=DATE:20250529
DTEND;VALUE=DATE:20250531
DTSTAMP:20260421T000546
CREATED:20250526T135955Z
LAST-MODIFIED:20250526T135955Z
UID:1285588-1748476800-1748649599@europeannewsroom.com
SUMMARY:EU Commissioner Costas Kadis in Athens
DESCRIPTION:delivers a keynote speech at the NatCat Summit 2025;\nmeets with Vasilis Kikilias\, Minister of Maritime Affairs and Insular Policy;\nmeets with Stavros Papastavrou\, Minister for the Environment and Energy (may 29)\nmeets with Prime Minister Kyriakos Mitsotakis;\ndelivers an opening speech at the Maritime Days 2025 in Piraeus (may 30)
URL:https://europeannewsroom.com/agenda/eu-commissioner-costas-kadis-in-athens/
LOCATION:Athens\, Greece
END:VEVENT
BEGIN:VEVENT
DTSTART;VALUE=DATE:20250529
DTEND;VALUE=DATE:20250530
DTSTAMP:20260421T000546
CREATED:20250526T142549Z
LAST-MODIFIED:20250526T142549Z
UID:1285729-1748476800-1748563199@europeannewsroom.com
SUMMARY:EU Commission Vice-President Raffaele Fitto in Italy
DESCRIPTION:speaks at the event EUROPA: Domande aperte per un futuro comune\, at Cattolica University;\nattends the inauguration event of the Deloitte Campus (Milan)
URL:https://europeannewsroom.com/agenda/eu-commission-vice-president-raffaele-fitto-in-italy/
LOCATION:Milan\, Italy
END:VEVENT
BEGIN:VEVENT
DTSTART;TZID=Europe/Berlin:20250529T111500
DTEND;TZID=Europe/Berlin:20250529T111500
DTSTAMP:20260421T000546
CREATED:20250523T114841Z
LAST-MODIFIED:20250523T114841Z
UID:1273815-1748517300-1748517300@europeannewsroom.com
SUMMARY:International Charlemagne Prize of Aachen Award Ceremony
DESCRIPTION:This year’s award winner is EU Commission President Ursula von der Leyen.\nlivestream
URL:https://europeannewsroom.com/agenda/international-charlemagne-prize-of-aachen-award-ceremony/
LOCATION:Aachen\, Germany
END:VEVENT
BEGIN:VEVENT
DTSTART;VALUE=DATE:20250530
DTEND;VALUE=DATE:20250531
DTSTAMP:20260421T000546
CREATED:20250523T115232Z
LAST-MODIFIED:20250523T115232Z
UID:1273909-1748563200-1748649599@europeannewsroom.com
SUMMARY:50th anniversary of the European Space Agency
DESCRIPTION:
URL:https://europeannewsroom.com/agenda/50th-anniversary-of-the-european-space-agency/
LOCATION:Paris\, France
END:VEVENT
BEGIN:VEVENT
DTSTART;VALUE=DATE:20250530
DTEND;VALUE=DATE:20250531
DTSTAMP:20260421T000546
CREATED:20250526T140436Z
LAST-MODIFIED:20250526T140436Z
UID:1285599-1748563200-1748649599@europeannewsroom.com
SUMMARY:EU Commissioner Maroš Šefčovič meets Slovak Prime Minister Robert Fico
DESCRIPTION:
URL:https://europeannewsroom.com/agenda/eu-commissioner-maros-sefcovic-meets-slovak-prime-minister-robert-fico/
LOCATION:Bratislava\, Slovakia (Slovak Republic)
END:VEVENT
BEGIN:VEVENT
DTSTART;VALUE=DATE:20250601
DTEND;VALUE=DATE:20250602
DTSTAMP:20260421T000546
CREATED:20250523T115325Z
LAST-MODIFIED:20250523T115325Z
UID:1273912-1748736000-1748822399@europeannewsroom.com
SUMMARY:Presidential election in Poland (run-off)
DESCRIPTION:
URL:https://europeannewsroom.com/agenda/presidential-election-in-poland-run-off/
LOCATION:Poland
END:VEVENT
BEGIN:VEVENT
DTSTART;VALUE=DATE:20250601
DTEND;VALUE=DATE:20250602
DTSTAMP:20260421T000546
CREATED:20250701T092152Z
LAST-MODIFIED:20250701T092336Z
UID:1377602-1748736000-1748822399@europeannewsroom.com
SUMMARY:EU Commissioners Valdis Dombrovskis and Ekaterina Zaharieva visit Bulgaria
DESCRIPTION:
URL:https://europeannewsroom.com/agenda/eu-commissioners-valdis-dombrovskis-and-ekaterina-zaharieva-will-visit-bulgaria/
LOCATION:Bulgaria
END:VEVENT
BEGIN:VEVENT
DTSTART;VALUE=DATE:20250602
DTEND;VALUE=DATE:20250604
DTSTAMP:20260421T000546
CREATED:20250602T150033Z
LAST-MODIFIED:20250602T150033Z
UID:1300962-1748822400-1748995199@europeannewsroom.com
SUMMARY:EU-US Justice and Home Affairs Ministerial Meeting
DESCRIPTION:
URL:https://europeannewsroom.com/agenda/eu-us-justice-and-home-affairs-ministerial-meeting-2/
LOCATION:Warsaw\, Poland
END:VEVENT
BEGIN:VEVENT
DTSTART;TZID=Europe/Berlin:20250602T090000
DTEND;TZID=Europe/Berlin:20250603T163000
DTSTAMP:20260421T000546
CREATED:20250602T150625Z
LAST-MODIFIED:20250602T150625Z
UID:1300971-1748854800-1748968200@europeannewsroom.com
SUMMARY:Event 'Digital Baltic: Towards common security'
DESCRIPTION:
URL:https://europeannewsroom.com/agenda/event-digital-baltic-towards-common-security/
LOCATION:Gdynia\, Poland
END:VEVENT
BEGIN:VEVENT
DTSTART;TZID=Europe/Berlin:20250602T103000
DTEND;TZID=Europe/Berlin:20250603T160000
DTSTAMP:20260421T000546
CREATED:20250530T085544Z
LAST-MODIFIED:20250530T085544Z
UID:1294889-1748860200-1748966400@europeannewsroom.com
SUMMARY:11th Energy Infrastructure Forum
DESCRIPTION:opening by Danish Minister for Climate\, Energy and Utilities Lars Aagaard and EU Commissioner Dan Jørgensen
URL:https://europeannewsroom.com/agenda/11th-energy-infrastructure-forum/
LOCATION:Copenhagen\, Denmark
END:VEVENT
BEGIN:VEVENT
DTSTART;TZID=Europe/Berlin:20250602T163000
DTEND;TZID=Europe/Berlin:20250602T180000
DTSTAMP:20260421T000546
CREATED:20250530T085347Z
LAST-MODIFIED:20250530T085347Z
UID:1294887-1748881800-1748887200@europeannewsroom.com
SUMMARY:Europa Club Vienna: EU-USA: Make or break? The future of the transatlantic relationship
DESCRIPTION:
URL:https://europeannewsroom.com/agenda/europa-club-vienna-eu-usa-make-or-break-the-future-of-the-transatlantic-relationship/
LOCATION:Vienna\, Austria
END:VEVENT
BEGIN:VEVENT
DTSTART;TZID=Europe/Berlin:20250603T123000
DTEND;TZID=Europe/Berlin:20250603T190000
DTSTAMP:20260421T000546
CREATED:20250602T152344Z
LAST-MODIFIED:20250602T152344Z
UID:1301017-1748953800-1748977200@europeannewsroom.com
SUMMARY:Conference 'Reimigaining European Defence'
DESCRIPTION:
URL:https://europeannewsroom.com/agenda/conference-reimigaining-european-defence/
LOCATION:The Hague\, Netherlands
END:VEVENT
BEGIN:VEVENT
DTSTART;TZID=Europe/Berlin:20250603T180000
DTEND;TZID=Europe/Berlin:20250603T193000
DTSTAMP:20260421T000546
CREATED:20250602T151440Z
LAST-MODIFIED:20250602T151440Z
UID:1301004-1748973600-1748979000@europeannewsroom.com
SUMMARY:Conference 'Social Vulnerability\, Disasters and Climate Change: Women and Indigenous Peoples'
DESCRIPTION:
URL:https://europeannewsroom.com/agenda/conference-social-vulnerability-disasters-and-climate-change-women-and-indigenous-peoples/
LOCATION:Coimbra\, Portugal
END:VEVENT
BEGIN:VEVENT
DTSTART;VALUE=DATE:20250604
DTEND;VALUE=DATE:20250605
DTSTAMP:20260421T000546
CREATED:20250530T085710Z
LAST-MODIFIED:20250530T085727Z
UID:1294891-1748995200-1749081599@europeannewsroom.com
SUMMARY:9th Meeting of the EU - Republic of Moldova Association Council
DESCRIPTION:
URL:https://europeannewsroom.com/agenda/9th-meeting-of-the-eu-republic-of-moldova-association-council/
LOCATION:Brussels
END:VEVENT
BEGIN:VEVENT
DTSTART;VALUE=DATE:20250604
DTEND;VALUE=DATE:20250606
DTSTAMP:20260421T000546
CREATED:20250530T085908Z
LAST-MODIFIED:20250530T085908Z
UID:1294895-1748995200-1749167999@europeannewsroom.com
SUMMARY:European Central Bank Governing Council
DESCRIPTION:press conference live (june 5\, 14:45)
URL:https://europeannewsroom.com/agenda/european-central-bank-governing-council-18/
LOCATION:Frankfurt\, Germany
END:VEVENT
BEGIN:VEVENT
DTSTART;TZID=Europe/Berlin:20250604T093000
DTEND;TZID=Europe/Berlin:20250606T153000
DTSTAMP:20260421T000546
CREATED:20250602T152746Z
LAST-MODIFIED:20250602T152746Z
UID:1301026-1749029400-1749223800@europeannewsroom.com
SUMMARY:Conference 'Europe and mobilities: challenges and opportunities for socio-economic transformations'
DESCRIPTION:
URL:https://europeannewsroom.com/agenda/conference-europe-and-mobilities-challenges-and-opportunities-for-socio-economic-transformations/
LOCATION:Warsaw\, Poland
END:VEVENT
BEGIN:VEVENT
DTSTART;VALUE=DATE:20250605
DTEND;VALUE=DATE:20250606
DTSTAMP:20260421T000546
CREATED:20250602T153340Z
LAST-MODIFIED:20250602T153340Z
UID:1301036-1749081600-1749167999@europeannewsroom.com
SUMMARY:NATO defence ministers meet
DESCRIPTION:
URL:https://europeannewsroom.com/agenda/nato-defence-ministers-meet-3/
LOCATION:Brussels
END:VEVENT
BEGIN:VEVENT
DTSTART;VALUE=DATE:20250605
DTEND;VALUE=DATE:20250607
DTSTAMP:20260421T000546
CREATED:20250602T153804Z
LAST-MODIFIED:20250602T153804Z
UID:1301044-1749081600-1749254399@europeannewsroom.com
SUMMARY:EU Transport\, Telecommunications and Energy Council
DESCRIPTION:EU Transport Council (june 5\, 10:00)\nEU Telecommunications Councl (june 6\, 10:00)\nagenda\nlivestream
URL:https://europeannewsroom.com/agenda/eu-transport-telecommunications-and-energy-council-2/
LOCATION:Luxembourg\, Luxembourg
END:VEVENT
BEGIN:VEVENT
DTSTART;TZID=Europe/Berlin:20250605T090000
DTEND;TZID=Europe/Berlin:20250606T131500
DTSTAMP:20260421T000546
CREATED:20250602T154807Z
LAST-MODIFIED:20250602T154807Z
UID:1301078-1749114000-1749215700@europeannewsroom.com
SUMMARY:EU Industry Days
DESCRIPTION:keynote speeches by EU Commission Vice-President Stéphane Séjourné and EU Commissioner Andrius Kubilius\nprogramme
URL:https://europeannewsroom.com/agenda/eu-industry-days-2/
LOCATION:Rzeszów\, Poland
END:VEVENT
BEGIN:VEVENT
DTSTART;TZID=Europe/Berlin:20250606T080000
DTEND;TZID=Europe/Berlin:20250608T160000
DTSTAMP:20260421T000546
CREATED:20250602T160149Z
LAST-MODIFIED:20250602T160149Z
UID:1301109-1749196800-1749398400@europeannewsroom.com
SUMMARY:European Congress of Youth Councils
DESCRIPTION:video adress by EU Commissioner Glenn Micallef
URL:https://europeannewsroom.com/agenda/european-congress-of-youth-councils/
LOCATION:Chęciny\, Poland
END:VEVENT
BEGIN:VEVENT
DTSTART;VALUE=DATE:20250609
DTEND;VALUE=DATE:20250611
DTSTAMP:20260421T000546
CREATED:20250612T203151Z
LAST-MODIFIED:20250612T203151Z
UID:1327392-1749427200-1749599999@europeannewsroom.com
SUMMARY:EU Commission Vice-President Roxana Mînzatu in the Republic of Moldova
DESCRIPTION:meets Moldovan Prime Minister Dorin Recean;\nmeets Moldovan President Maia Sandu (june 9);\nmeets Moldovan Minister for Economic Development Doina Nistor (june 9-10).
URL:https://europeannewsroom.com/agenda/eu-commission-vice-president-roxana-minzatu-in-the-republic-of-moldova/
LOCATION:Chișinău\, Moldova\, Republic of
END:VEVENT
BEGIN:VEVENT
DTSTART;VALUE=DATE:20250609
DTEND;VALUE=DATE:20250614
DTSTAMP:20260421T000546
CREATED:20250612T203444Z
LAST-MODIFIED:20250612T203444Z
UID:1327402-1749427200-1749859199@europeannewsroom.com
SUMMARY:2025 UN Ocean Conference
DESCRIPTION:EU Commission President Ursula von der Leyen and EU Commissioners Costas Kadis\, Jessica Roswall\, Apostolos Tzitzikostas\, and Dubravka Šuica participate.
URL:https://europeannewsroom.com/agenda/2025-un-ocean-conference/
LOCATION:Nice\, France
END:VEVENT
BEGIN:VEVENT
DTSTART;TZID=Europe/Berlin:20250611T190000
DTEND;TZID=Europe/Berlin:20250611T200000
DTSTAMP:20260421T000546
CREATED:20250606T091334Z
LAST-MODIFIED:20250606T091334Z
UID:1312723-1749668400-1749672000@europeannewsroom.com
SUMMARY:Conference '40 Years of Portugal Conference in the European Union'
DESCRIPTION:
URL:https://europeannewsroom.com/agenda/conference-40-years-of-portugal-conference-in-the-european-union/
LOCATION:Lisbon\, Portugal
END:VEVENT
BEGIN:VEVENT
DTSTART;VALUE=DATE:20250612
DTEND;VALUE=DATE:20250614
DTSTAMP:20260421T000546
CREATED:20250606T091646Z
LAST-MODIFIED:20250606T091646Z
UID:1312748-1749686400-1749859199@europeannewsroom.com
SUMMARY:EU Justice and Home Affairs Council
DESCRIPTION:EU Justice Council (june 12\, 10:00)\nEU Home Affairs Council (june 13\, 08:00)\nagenda\nlivestream
URL:https://europeannewsroom.com/agenda/eu-justice-and-home-affairs-council-8/
LOCATION:Luxembourg\, Luxembourg
END:VEVENT
BEGIN:VEVENT
DTSTART;VALUE=DATE:20250612
DTEND;VALUE=DATE:20250614
DTSTAMP:20260421T000546
CREATED:20250606T091801Z
LAST-MODIFIED:20250606T091801Z
UID:1312751-1749686400-1749859199@europeannewsroom.com
SUMMARY:Forum of European University Alliances
DESCRIPTION:
URL:https://europeannewsroom.com/agenda/forum-of-european-university-alliances/
LOCATION:Wrocław\, Poland
END:VEVENT
END:VCALENDAR