BEGIN:VCALENDAR
VERSION:2.0
PRODID:-//European Newsroom - ECPv6.15.18//NONSGML v1.0//EN
CALSCALE:GREGORIAN
METHOD:PUBLISH
X-ORIGINAL-URL:https://europeannewsroom.com/es/
X-WR-CALDESC:Eventos para European Newsroom
REFRESH-INTERVAL;VALUE=DURATION:PT1H
X-Robots-Tag:noindex
X-PUBLISHED-TTL:PT1H
BEGIN:VTIMEZONE
TZID:Europe/Berlin
BEGIN:DAYLIGHT
TZOFFSETFROM:+0100
TZOFFSETTO:+0200
TZNAME:CEST
DTSTART:20230326T010000
END:DAYLIGHT
BEGIN:STANDARD
TZOFFSETFROM:+0200
TZOFFSETTO:+0100
TZNAME:CET
DTSTART:20231029T010000
END:STANDARD
BEGIN:DAYLIGHT
TZOFFSETFROM:+0100
TZOFFSETTO:+0200
TZNAME:CEST
DTSTART:20240331T010000
END:DAYLIGHT
BEGIN:STANDARD
TZOFFSETFROM:+0200
TZOFFSETTO:+0100
TZNAME:CET
DTSTART:20241027T010000
END:STANDARD
BEGIN:DAYLIGHT
TZOFFSETFROM:+0100
TZOFFSETTO:+0200
TZNAME:CEST
DTSTART:20250330T010000
END:DAYLIGHT
BEGIN:STANDARD
TZOFFSETFROM:+0200
TZOFFSETTO:+0100
TZNAME:CET
DTSTART:20251026T010000
END:STANDARD
END:VTIMEZONE
BEGIN:VEVENT
DTSTART;VALUE=DATE:20240701
DTEND;VALUE=DATE:20240702
DTSTAMP:20260420T110517
CREATED:20240626T120205Z
LAST-MODIFIED:20240626T120205Z
UID:286477-1719792000-1719878399@europeannewsroom.com
SUMMARY:Hungría asume la presidencia rotatoria de la UE
DESCRIPTION:
URL:https://europeannewsroom.com/es/agenda/hungria-asume-la-presidencia-rotatoria-de-la-ue/
LOCATION:Hungría
END:VEVENT
BEGIN:VEVENT
DTSTART;VALUE=DATE:20240701
DTEND;VALUE=DATE:20240703
DTSTAMP:20260420T110517
CREATED:20240630T163246Z
LAST-MODIFIED:20240630T163246Z
UID:290773-1719792000-1719964799@europeannewsroom.com
SUMMARY:Maroš Šefčovič\, Vicepresidente de la Comisión Europea\, en Lisboa
DESCRIPTION:pronuncia un discurso de apertura en el acto Jacques Delors Agora\, Europe’s Next Generation;\nse reúne con Carlos Moedas\, Alcalde de Lisboa;\nse reúne con Paulo Rangel\, Ministro de Asuntos Exteriores de Portugal (1 de julio)\nse reúne con Maria da Graça Carvalho\, Ministra de Energía y Medio Ambiente de Portugal (2 de julio)
URL:https://europeannewsroom.com/es/agenda/maros-sefcovic-vicepresidente-de-la-comision-europea-en-lisboa/
LOCATION:Lisboa\, Portugal
END:VEVENT
BEGIN:VEVENT
DTSTART;VALUE=DATE:20240701
DTEND;VALUE=DATE:20240702
DTSTAMP:20260420T110517
CREATED:20240630T163424Z
LAST-MODIFIED:20240630T163424Z
UID:290777-1719792000-1719878399@europeannewsroom.com
SUMMARY:La Comisaria europea Stella Kyriakides en Atenas
DESCRIPTION:pronuncia un discurso en el primer Foro Griego sobre el Cáncer: Política\, Investigación y Estrategias de Financiación\, organizado por la Federación Helénica del Cáncer (ELLOK).
URL:https://europeannewsroom.com/es/agenda/la-comisaria-europea-stella-kyriakides-en-atenas/
LOCATION:Atenas\, Greece
END:VEVENT
BEGIN:VEVENT
DTSTART;VALUE=DATE:20240701
DTEND;VALUE=DATE:20240705
DTSTAMP:20260420T110517
CREATED:20240630T164532Z
LAST-MODIFIED:20240630T164532Z
UID:290793-1719792000-1720137599@europeannewsroom.com
SUMMARY:Evento del Ágora Jacques Delors "La próxima generación de Europa"
DESCRIPTION:Participan el Vicepresidente de la Comisión de la UE Maroš Šefčovič (1 de julio) y los Comisarios de la UE Elisa Ferreira (2 de julio) y Didier Reynders (4 de julio).
URL:https://europeannewsroom.com/es/agenda/evento-del-agora-jacques-delors-la-proxima-generacion-de-europa/
LOCATION:Lisboa\, Portugal
END:VEVENT
BEGIN:VEVENT
DTSTART;VALUE=DATE:20240701
DTEND;VALUE=DATE:20240702
DTSTAMP:20260420T110517
CREATED:20240715T135310Z
LAST-MODIFIED:20240715T135310Z
UID:312311-1719792000-1719878399@europeannewsroom.com
SUMMARY:Tercera reunión trilateral de ministros de Asuntos Exteriores de la República de Moldavia\, Rumanía y Ucrania
DESCRIPTION:
URL:https://europeannewsroom.com/es/agenda/tercera-reunion-trilateral-de-ministros-de-asuntos-exteriores-de-la-republica-de-moldavia-rumania-y-ucrania/
LOCATION:Chișinău\, Moldova\, Republic of
END:VEVENT
BEGIN:VEVENT
DTSTART;VALUE=DATE:20240702
DTEND;VALUE=DATE:20240704
DTSTAMP:20260420T110517
CREATED:20240630T201116Z
LAST-MODIFIED:20240630T201116Z
UID:290866-1719878400-1720051199@europeannewsroom.com
SUMMARY:La Comisaria europea Ylva Johansson en Lisboa
DESCRIPTION:se reúne con la Sra. Margarida Blasco\, Ministra del Interior de Portugal;\nvisita el laboratorio forense de la Policía Judicial de Portugal\npronuncia un discurso en la ceremonia de adhesión de Bélgica y Alemania al Centro de Análisis y Operaciones Marítimas – Estupefacientes (MAOC-N) (2 de julio)\npronuncia un discurso en la inauguración de la Agencia Antidroga de la Unión Europea; asiste a la firma de un Acuerdo de Trabajo entre la Agencia Antidroga de la UE y Ecuador (3 de julio)
URL:https://europeannewsroom.com/es/agenda/la-comisaria-europea-ylva-johansson-en-lisboa/
LOCATION:Lisboa\, Portugal
END:VEVENT
BEGIN:VEVENT
DTSTART;VALUE=DATE:20240703
DTEND;VALUE=DATE:20240704
DTSTAMP:20260420T110517
CREATED:20240630T201805Z
LAST-MODIFIED:20240630T201805Z
UID:290883-1719964800-1720051199@europeannewsroom.com
SUMMARY:Colegio de Comisarios de la UE
DESCRIPTION:
URL:https://europeannewsroom.com/es/agenda/colegio-de-comisarios-de-la-ue-13/
LOCATION:Bruselas\, Bélgica
END:VEVENT
BEGIN:VEVENT
DTSTART;VALUE=DATE:20240703
DTEND;VALUE=DATE:20240704
DTSTAMP:20260420T110517
CREATED:20240701T094157Z
LAST-MODIFIED:20240701T094157Z
UID:290960-1719964800-1720051199@europeannewsroom.com
SUMMARY:El Alto Representante de la UE\, Josep Borrell\, en Madrid
DESCRIPTION:interviene en las ‘Jornadas de Verano 2024’\, organizadas por el Real Instituto Elcano.
URL:https://europeannewsroom.com/es/agenda/el-alto-representante-de-la-ue-josep-borrell-en-madrid/
LOCATION:Madrid\, Spain
END:VEVENT
BEGIN:VEVENT
DTSTART;VALUE=DATE:20240703
DTEND;VALUE=DATE:20240704
DTSTAMP:20260420T110517
CREATED:20240701T095416Z
LAST-MODIFIED:20240701T095416Z
UID:290977-1719964800-1720051199@europeannewsroom.com
SUMMARY:El Vicepresidente de la Comisión Europea\, Margaritis Schinas\, en Portugal
DESCRIPTION:participa en las jornadas de estudio del Grupo PPE.
URL:https://europeannewsroom.com/es/agenda/el-vicepresidente-de-la-comision-europea-margaritis-schinas-en-portugal/
LOCATION:Cascais\, Portugal
END:VEVENT
BEGIN:VEVENT
DTSTART;VALUE=DATE:20240703
DTEND;VALUE=DATE:20240704
DTSTAMP:20260420T110517
CREATED:20240701T095533Z
LAST-MODIFIED:20240701T095533Z
UID:290981-1719964800-1720051199@europeannewsroom.com
SUMMARY:El Comisario europeo Wopke Hoekstra en Lisboa
DESCRIPTION:se reúne con Maria da Graça Carvalho\, Ministra de Medio Ambiente y Energía de Portugal.
URL:https://europeannewsroom.com/es/agenda/el-comisario-europeo-wopke-hoekstra-en-lisboa/
LOCATION:Lisboa\, Portugal
END:VEVENT
BEGIN:VEVENT
DTSTART;VALUE=DATE:20240703
DTEND;VALUE=DATE:20240704
DTSTAMP:20260420T110517
CREATED:20240701T100415Z
LAST-MODIFIED:20240701T100415Z
UID:290999-1719964800-1720051199@europeannewsroom.com
SUMMARY:Iliana Ivanova\, Comisaria Europea\, transmite un mensaje de vídeo en la ceremonia de entrega de los Premios a la Excelencia de los Centros Comunes de Investigación
DESCRIPTION:
URL:https://europeannewsroom.com/es/agenda/iliana-ivanova-comisaria-europea-transmite-un-mensaje-de-video-en-la-ceremonia-de-entrega-de-los-premios-a-la-excelencia-de-los-centros-comunes-de-investigacion/
LOCATION:Ispra\, Italy
END:VEVENT
BEGIN:VEVENT
DTSTART;VALUE=DATE:20240703
DTEND;VALUE=DATE:20240704
DTSTAMP:20260420T110517
CREATED:20240701T105114Z
LAST-MODIFIED:20240701T105114Z
UID:291101-1719964800-1720051199@europeannewsroom.com
SUMMARY:La Presidenta del Parlamento Europeo\, Roberta Metsola\, en Portugal
DESCRIPTION:se reúne con el Primer Ministro de Portugal\, Luís Montenegro\nparticipa en las Jornadas de Estudio del Grupo PPE.
URL:https://europeannewsroom.com/es/agenda/la-presidenta-del-parlamento-europeo-roberta-metsola-en-portugal/
LOCATION:Portugal
END:VEVENT
BEGIN:VEVENT
DTSTART;VALUE=DATE:20240704
DTEND;VALUE=DATE:20240705
DTSTAMP:20260420T110517
CREATED:20240627T195130Z
LAST-MODIFIED:20240627T195130Z
UID:288302-1720051200-1720137599@europeannewsroom.com
SUMMARY:Fecha límite para la decisión de la UE sobre la imposición de derechos provisionales a los coches eléctricos chinos
DESCRIPTION:
URL:https://europeannewsroom.com/es/agenda/fecha-limite-para-la-decision-de-la-ue-sobre-la-imposicion-de-derechos-provisionales-a-los-coches-electricos-chinos/
LOCATION:Bruselas\, Bélgica
END:VEVENT
BEGIN:VEVENT
DTSTART;VALUE=DATE:20240704
DTEND;VALUE=DATE:20240705
DTSTAMP:20260420T110517
CREATED:20240627T195226Z
LAST-MODIFIED:20240627T195226Z
UID:288306-1720051200-1720137599@europeannewsroom.com
SUMMARY:Fecha límite para que la UE decida sobre la oferta de Lufthansa sobre ITA Airways
DESCRIPTION:
URL:https://europeannewsroom.com/es/agenda/fecha-limite-para-que-la-ue-decida-sobre-la-oferta-de-lufthansa-sobre-ita-airways/
LOCATION:Bruselas\, Bélgica
END:VEVENT
BEGIN:VEVENT
DTSTART;VALUE=DATE:20240704
DTEND;VALUE=DATE:20240705
DTSTAMP:20260420T110517
CREATED:20240701T100548Z
LAST-MODIFIED:20240701T100548Z
UID:291003-1720051200-1720137599@europeannewsroom.com
SUMMARY:La Presidenta de la Comisión Europea\, Ursula von der Leyen\, en Portugal
DESCRIPTION:participa en las jornadas de estudio del Grupo PPE.
URL:https://europeannewsroom.com/es/agenda/la-presidenta-de-la-comision-europea-ursula-von-der-leyen-en-portugal/
LOCATION:Cascais\, Portugal
END:VEVENT
BEGIN:VEVENT
DTSTART;VALUE=DATE:20240704
DTEND;VALUE=DATE:20240705
DTSTAMP:20260420T110517
CREATED:20240701T100938Z
LAST-MODIFIED:20240701T100938Z
UID:291009-1720051200-1720137599@europeannewsroom.com
SUMMARY:La Presidenta de la Comisión Europea\, Ursula von der Leyen\, en Portugal
DESCRIPTION:participa en las jornadas de estudio del Grupo PPE.
URL:https://europeannewsroom.com/es/agenda/la-presidenta-de-la-comision-europea-ursula-von-der-leyen-en-portugal-2/
LOCATION:Cascais\, Portugal
END:VEVENT
BEGIN:VEVENT
DTSTART;VALUE=DATE:20240704
DTEND;VALUE=DATE:20240705
DTSTAMP:20260420T110517
CREATED:20240701T102645Z
LAST-MODIFIED:20240701T102645Z
UID:291029-1720051200-1720137599@europeannewsroom.com
SUMMARY:La Comisaria europea Iliana Ivanova se reúne con la Ministra portuguesa de Medio Ambiente Maria da Graça Carvalho
DESCRIPTION:
URL:https://europeannewsroom.com/es/agenda/la-comisaria-europea-iliana-ivanova-se-reune-con-la-ministra-portuguesa-de-medio-ambiente-maria-da-graca-carvalho/
LOCATION:Cascais\, Portugal
END:VEVENT
BEGIN:VEVENT
DTSTART;VALUE=DATE:20240704
DTEND;VALUE=DATE:20240705
DTSTAMP:20260420T110517
CREATED:20240701T102838Z
LAST-MODIFIED:20240701T103315Z
UID:291034-1720051200-1720137599@europeannewsroom.com
SUMMARY:El Alto Representante de la UE\, Josep Borrell\, en Grecia
DESCRIPTION:visita el Cuartel General de la Operación Aspides de EUNAVFOR.
URL:https://europeannewsroom.com/es/agenda/el-alto-representante-de-la-ue-josep-borrell-en-grecia/
LOCATION:Larissa\, Greece
END:VEVENT
BEGIN:VEVENT
DTSTART;VALUE=DATE:20240704
DTEND;VALUE=DATE:20240705
DTSTAMP:20260420T110517
CREATED:20240701T102941Z
LAST-MODIFIED:20240701T103227Z
UID:291038-1720051200-1720137599@europeannewsroom.com
SUMMARY:Le haut représentant de l'UE Josep Borrell en Grèce
DESCRIPTION:visite le quartier général de l’opération EUNAVFOR Aspides.
URL:https://europeannewsroom.com/es/agenda/le-haut-representant-de-lue-josep-borrell-en-grece/
LOCATION:Larissa\, Greece
END:VEVENT
BEGIN:VEVENT
DTSTART;VALUE=DATE:20240704
DTEND;VALUE=DATE:20240705
DTSTAMP:20260420T110517
CREATED:20240701T103758Z
LAST-MODIFIED:20240701T103758Z
UID:291078-1720051200-1720137599@europeannewsroom.com
SUMMARY:El Vicepresidente de la Comisión Europea Maroš Šefčovič en Bratislava
DESCRIPTION:participa en el acto conmemorativo del Día de San Cirilo y San Metodio en el territorio de la actual Eslovaquia.
URL:https://europeannewsroom.com/es/agenda/el-vicepresidente-de-la-comision-europea-maros-sefcovic-en-bratislava/
LOCATION:Bratislava\, Slovakia (Slovak Republic)
END:VEVENT
BEGIN:VEVENT
DTSTART;VALUE=DATE:20240704
DTEND;VALUE=DATE:20240705
DTSTAMP:20260420T110517
CREATED:20240701T104324Z
LAST-MODIFIED:20240701T104324Z
UID:291083-1720051200-1720137599@europeannewsroom.com
SUMMARY:EU Commissioner Nicolas Schmit in France
DESCRIPTION:participa en el acto organizado por Rencontres Économiques d’Aix-en-Provence: ‘Cultiver la solidarité intergénérationnelle‘ (Cultivar la solidaridad intergeneracional).
URL:https://europeannewsroom.com/es/agenda/eu-commissioner-nicolas-schmit-in-france/
LOCATION:Aix-en-Provence\, France
END:VEVENT
BEGIN:VEVENT
DTSTART;TZID=Europe/Berlin:20240704T120000
DTEND;TZID=Europe/Berlin:20240704T150000
DTSTAMP:20260420T110517
CREATED:20240701T101701Z
LAST-MODIFIED:20240701T101701Z
UID:291013-1720094400-1720105200@europeannewsroom.com
SUMMARY:Reunión anual del Consejo Europeo de Relaciones Exteriores
DESCRIPTION:Participa el Alto Representante de la UE\, Josep Borrell.
URL:https://europeannewsroom.com/es/agenda/reunion-anual-del-consejo-europeo-de-relaciones-exteriores/
LOCATION:Madrid\, Spain
END:VEVENT
BEGIN:VEVENT
DTSTART;VALUE=DATE:20240706
DTEND;VALUE=DATE:20240707
DTSTAMP:20260420T110517
CREATED:20240715T140752Z
LAST-MODIFIED:20240715T140752Z
UID:312327-1720224000-1720310399@europeannewsroom.com
SUMMARY:Internacional Socialista - Reunión de la sección europea
DESCRIPTION:organizada por el Partido Socialdemócrata (PSD).\nAsiste el Presidente del Gobierno español\, Pedro Sánchez.\nmás información
URL:https://europeannewsroom.com/es/agenda/internacional-socialista-reunion-de-la-seccion-europea/
LOCATION:Bucharest\, Romania
END:VEVENT
BEGIN:VEVENT
DTSTART;VALUE=DATE:20240707
DTEND;VALUE=DATE:20240708
DTSTAMP:20260420T110517
CREATED:20240627T195655Z
LAST-MODIFIED:20240627T195655Z
UID:288322-1720310400-1720396799@europeannewsroom.com
SUMMARY:Elecciones generales en Francia (segunda vuelta)
DESCRIPTION:
URL:https://europeannewsroom.com/es/agenda/elecciones-generales-en-francia-segunda-vuelta/
LOCATION:Francia
END:VEVENT
BEGIN:VEVENT
DTSTART;VALUE=DATE:20240708
DTEND;VALUE=DATE:20240710
DTSTAMP:20260420T110517
CREATED:20240705T074211Z
LAST-MODIFIED:20240705T074211Z
UID:297403-1720396800-1720569599@europeannewsroom.com
SUMMARY:Reunión informal de ministros de Competitividad de la UE (Mercado Interior e Industria)
DESCRIPTION:vídeos y retransmisiones en directo
URL:https://europeannewsroom.com/es/agenda/reunion-informal-de-ministros-de-competitividad-de-la-ue-mercado-interior-e-industria/
LOCATION:Budapest
END:VEVENT
BEGIN:VEVENT
DTSTART;VALUE=DATE:20240708
DTEND;VALUE=DATE:20240709
DTSTAMP:20260420T110517
CREATED:20240708T074528Z
LAST-MODIFIED:20240708T074528Z
UID:300222-1720396800-1720483199@europeannewsroom.com
SUMMARY:La Presidenta de la Comisión Europea\, Ursula von der Leyen\, recibe al Primer Ministro holandés\, Dick Schoof
DESCRIPTION:vídeos
URL:https://europeannewsroom.com/es/agenda/la-presidenta-de-la-comision-europea-ursula-von-der-leyen-recibe-al-primer-ministro-holandes-dick-schoof/
LOCATION:Bruselas\, Bélgica
END:VEVENT
BEGIN:VEVENT
DTSTART;VALUE=DATE:20240708
DTEND;VALUE=DATE:20240709
DTSTAMP:20260420T110517
CREATED:20240708T074835Z
LAST-MODIFIED:20240708T074835Z
UID:300226-1720396800-1720483199@europeannewsroom.com
SUMMARY:Diálogo de alto nivel UE-Turquía sobre comercio
DESCRIPTION:vídeos
URL:https://europeannewsroom.com/es/agenda/dialogo-de-alto-nivel-ue-turquia-sobre-comercio/
LOCATION:Bruselas\, Bélgica
END:VEVENT
BEGIN:VEVENT
DTSTART;VALUE=DATE:20240708
DTEND;VALUE=DATE:20240709
DTSTAMP:20260420T110517
CREATED:20240708T075557Z
LAST-MODIFIED:20240708T075557Z
UID:300265-1720396800-1720483199@europeannewsroom.com
SUMMARY:El Vicepresidente de la Comisión Europea Valdis Dombrovskis se reúne con el Ministro de Comercio turco Ömer Bolat
DESCRIPTION:
URL:https://europeannewsroom.com/es/agenda/el-vicepresidente-de-la-comision-europea-valdis-dombrovskis-se-reune-con-el-ministro-de-comercio-turco-omer-bolat/
LOCATION:Bruselas\, Bélgica
END:VEVENT
BEGIN:VEVENT
DTSTART;VALUE=DATE:20240708
DTEND;VALUE=DATE:20240710
DTSTAMP:20260420T110517
CREATED:20240708T080228Z
LAST-MODIFIED:20240708T080228Z
UID:300272-1720396800-1720569599@europeannewsroom.com
SUMMARY:La comisaria europea Stella Kyriakides en Chișinău
DESCRIPTION:se reúne con el Primer Ministro moldavo\, Dorin Recean (8 de julio\, vídeos)\nse reúne con la Sra. Maia Sandu\, Presidenta de Moldavia; se reúne con la Sra. Ala Nemerenco\, Ministra de Sanidad de Moldavia; visita la Unidad de Recepción de Urgencias del Instituto de Medicina de Urgencias; visita el Instituto Oncológico de Moldavia (9 de julio).
URL:https://europeannewsroom.com/es/agenda/la-comisaria-europea-stella-kyriakides-en-chisinau/
LOCATION:Chișinău\, Moldova\, Republic of
END:VEVENT
BEGIN:VEVENT
DTSTART;VALUE=DATE:20240708
DTEND;VALUE=DATE:20240709
DTSTAMP:20260420T110517
CREATED:20240708T081252Z
LAST-MODIFIED:20240708T081252Z
UID:300334-1720396800-1720483199@europeannewsroom.com
SUMMARY:La Comisaria europea Elisa Ferreira en Lisboa
DESCRIPTION:pronuncia un discurso en la Cámara de Comercio e Industria Luso-Española.
URL:https://europeannewsroom.com/es/agenda/la-comisaria-europea-elisa-ferreira-en-lisboa-4/
LOCATION:Lisboa\, Portugal
END:VEVENT
END:VCALENDAR