BEGIN:VCALENDAR
VERSION:2.0
PRODID:-//European Newsroom - ECPv6.15.18//NONSGML v1.0//EN
CALSCALE:GREGORIAN
METHOD:PUBLISH
X-WR-CALNAME:European Newsroom
X-ORIGINAL-URL:https://europeannewsroom.com/es/
X-WR-CALDESC:Eventos para European Newsroom
REFRESH-INTERVAL;VALUE=DURATION:PT1H
X-Robots-Tag:noindex
X-PUBLISHED-TTL:PT1H
BEGIN:VTIMEZONE
TZID:Europe/Berlin
BEGIN:DAYLIGHT
TZOFFSETFROM:+0100
TZOFFSETTO:+0200
TZNAME:CEST
DTSTART:20230326T010000
END:DAYLIGHT
BEGIN:STANDARD
TZOFFSETFROM:+0200
TZOFFSETTO:+0100
TZNAME:CET
DTSTART:20231029T010000
END:STANDARD
BEGIN:DAYLIGHT
TZOFFSETFROM:+0100
TZOFFSETTO:+0200
TZNAME:CEST
DTSTART:20240331T010000
END:DAYLIGHT
BEGIN:STANDARD
TZOFFSETFROM:+0200
TZOFFSETTO:+0100
TZNAME:CET
DTSTART:20241027T010000
END:STANDARD
BEGIN:DAYLIGHT
TZOFFSETFROM:+0100
TZOFFSETTO:+0200
TZNAME:CEST
DTSTART:20250330T010000
END:DAYLIGHT
BEGIN:STANDARD
TZOFFSETFROM:+0200
TZOFFSETTO:+0100
TZNAME:CET
DTSTART:20251026T010000
END:STANDARD
END:VTIMEZONE
BEGIN:VEVENT
DTSTART;VALUE=DATE:20240726
DTEND;VALUE=DATE:20240812
DTSTAMP:20260420T092539
CREATED:20240719T095219Z
LAST-MODIFIED:20240719T095219Z
UID:321648-1721952000-1723420799@europeannewsroom.com
SUMMARY:Juegos Olímpicos de 2024
DESCRIPTION:
URL:https://europeannewsroom.com/es/agenda/juegos-olimpicos-de-2024/
LOCATION:Paris\, France
END:VEVENT
BEGIN:VEVENT
DTSTART;VALUE=DATE:20240819
DTEND;VALUE=DATE:20240820
DTSTAMP:20260420T092539
CREATED:20240809T131122Z
LAST-MODIFIED:20240809T131122Z
UID:356162-1724025600-1724111999@europeannewsroom.com
SUMMARY:Día Mundial de la Asistencia Humanitaria
DESCRIPTION:
URL:https://europeannewsroom.com/es/agenda/dia-mundial-de-la-asistencia-humanitaria/
END:VEVENT
BEGIN:VEVENT
DTSTART;VALUE=DATE:20240822
DTEND;VALUE=DATE:20240823
DTSTAMP:20260420T092539
CREATED:20240809T131718Z
LAST-MODIFIED:20240809T131718Z
UID:356182-1724284800-1724371199@europeannewsroom.com
SUMMARY:Día de Conmemoración de las Víctimas de Actos de Violencia basados en la Religión o las Creencias
DESCRIPTION:
URL:https://europeannewsroom.com/es/agenda/dia-de-conmemoracion-de-las-victimas-de-actos-de-violencia-basados-en-la-religion-o-las-creencias/
LOCATION:Global
END:VEVENT
BEGIN:VEVENT
DTSTART;VALUE=DATE:20240822
DTEND;VALUE=DATE:20240823
DTSTAMP:20260420T092539
CREATED:20240828T144513Z
LAST-MODIFIED:20240828T144513Z
UID:386749-1724284800-1724371199@europeannewsroom.com
SUMMARY:El Primer Ministro rumano\, Marcel Ciolacu\, se reúne con la Presidenta de la Comisión Europea\, Ursula von der Leyen
DESCRIPTION:
URL:https://europeannewsroom.com/es/agenda/el-primer-ministro-rumano-marcel-ciolacu-se-reune-con-la-presidenta-de-la-comision-europea-ursula-von-der-leyen/
LOCATION:Bruselas\, Bélgica
END:VEVENT
BEGIN:VEVENT
DTSTART;VALUE=DATE:20240823
DTEND;VALUE=DATE:20240824
DTSTAMP:20260420T092539
CREATED:20240809T132034Z
LAST-MODIFIED:20240809T132034Z
UID:356208-1724371200-1724457599@europeannewsroom.com
SUMMARY:Día Europeo en Recuerdo de las Víctimas del Estalinismo y el Nazismo
DESCRIPTION:
URL:https://europeannewsroom.com/es/agenda/dia-europeo-en-recuerdo-de-las-victimas-del-estalinismo-y-el-nazismo/
LOCATION:Unión Europea
END:VEVENT
BEGIN:VEVENT
DTSTART;VALUE=DATE:20240826
DTEND;VALUE=DATE:20240830
DTSTAMP:20260420T092539
CREATED:20240831T152501Z
LAST-MODIFIED:20240831T152501Z
UID:393207-1724630400-1724975999@europeannewsroom.com
SUMMARY:La Comisaria europea Elisa Ferreira en Portugal
DESCRIPTION:se reúne con representantes del Gobierno Regional de las Azores (26 de agosto)\nparticipa y pronuncia un discurso en la ceremonia de apertura de la Conferencia ERSA; se reúne con José Gabriel do Álamo de Meneses\, Alcalde de Angra do Heroismo (27 de agosto)\nvisita los proyectos «Porto das Lajes das Flores» y «Poço da Ribeira»; se reúne con organizaciones de la sociedad civil; se reúne con Beto Alexandre Azevedo Vasconcelos\, Alcalde de Lajes das Flores\, y con José Carlos Pimentel Mendes\, Alcalde de Santa Cruz das Flores (28 de agosto)\nvisita los siguientes proyectos: «Mini hidro»\, «Fazenda de Santa Cruz» y guardería y centro de día de «Santa casa da Misericordia do Corvo»; se reúne con D. José Manuel Alves da Silva\, Alcalde de la isla de Corvo; se reúne con organizaciones de la sociedad civil (29 de agosto).
URL:https://europeannewsroom.com/es/agenda/la-comisaria-europea-elisa-ferreira-en-portugal-2/
LOCATION:Azores\, Portugal
END:VEVENT
BEGIN:VEVENT
DTSTART;VALUE=DATE:20240829
DTEND;VALUE=DATE:20240831
DTSTAMP:20260420T092539
CREATED:20240831T151055Z
LAST-MODIFIED:20240831T151055Z
UID:393075-1724889600-1725062399@europeannewsroom.com
SUMMARY:Margrethe Vestager\, Vicepresidenta de la Comisión Europea\, en Copenhague
DESCRIPTION:pronuncia un discurso de apertura y una sesión de preguntas y respuestas en el Ministerio danés de Asuntos Exteriores (29 de agosto)\nparticipa en una reunión con Robert Mærsk Uggla\, de A.P. Møller Holding (30 de agosto).
URL:https://europeannewsroom.com/es/agenda/margrethe-vestager-vicepresidenta-de-la-comision-europea-en-copenhague-3/
LOCATION:Copenhagen\, Denmark
END:VEVENT
BEGIN:VEVENT
DTSTART;VALUE=DATE:20240829
DTEND;VALUE=DATE:20240831
DTSTAMP:20260420T092539
CREATED:20240831T151540Z
LAST-MODIFIED:20240831T151540Z
UID:393161-1724889600-1725062399@europeannewsroom.com
SUMMARY:La Vicepresidenta de la Comisión Europea\, Věra Jourová\, en Praga
DESCRIPTION:interviene en la conferencia «Building an AI Economy» (29 de agosto)\ninterviene en la mesa redonda del Foro GLOBSEC 2024; asiste a la ceremonia de entrega de los premios GLOBSEC 2024 (30 de agosto).
URL:https://europeannewsroom.com/es/agenda/la-vicepresidenta-de-la-comision-europea-vera-jourova-en-praga-2/
LOCATION:Praga\, Czech Republic
END:VEVENT
BEGIN:VEVENT
DTSTART;VALUE=DATE:20240829
DTEND;VALUE=DATE:20240830
DTSTAMP:20260420T092539
CREATED:20240831T152729Z
LAST-MODIFIED:20240831T152729Z
UID:393212-1724889600-1724975999@europeannewsroom.com
SUMMARY:Reunión informal de ministros de Asuntos Exteriores de la UE
DESCRIPTION:
URL:https://europeannewsroom.com/es/agenda/reunion-informal-de-ministros-de-asuntos-exteriores-de-la-ue-2/
LOCATION:Bruselas\, Bélgica
END:VEVENT
BEGIN:VEVENT
DTSTART;VALUE=DATE:20240830
DTEND;VALUE=DATE:20240902
DTSTAMP:20260420T092539
CREATED:20240831T151807Z
LAST-MODIFIED:20240831T151807Z
UID:393188-1724976000-1725235199@europeannewsroom.com
SUMMARY:Foro GLOBSEC 2024
DESCRIPTION:La Presidenta de la Comisión Europea\, Ursula von der Leyen\, recibe el Premio Transatlántico Checo y Eslovaco (30 de agosto)\nParticipación de Věra Jourová\, Vicepresidenta de la Comisión Europea (30 de agosto)\nagenda (en inlgès)
URL:https://europeannewsroom.com/es/agenda/foro-globsec-2024/
LOCATION:Praga\, Czech Republic
END:VEVENT
BEGIN:VEVENT
DTSTART;VALUE=DATE:20240830
DTEND;VALUE=DATE:20240831
DTSTAMP:20260420T092539
CREATED:20240831T153156Z
LAST-MODIFIED:20240831T153156Z
UID:393228-1724976000-1725062399@europeannewsroom.com
SUMMARY:Reunión informal de ministros de Defensa de la UE
DESCRIPTION:
URL:https://europeannewsroom.com/es/agenda/reunion-informal-de-ministros-de-defensa-de-la-ue/
LOCATION:Bruselas\, Bélgica
END:VEVENT
END:VCALENDAR