BEGIN:VCALENDAR
VERSION:2.0
PRODID:-//European Newsroom - ECPv6.15.18//NONSGML v1.0//EN
CALSCALE:GREGORIAN
METHOD:PUBLISH
X-WR-CALNAME:European Newsroom
X-ORIGINAL-URL:https://europeannewsroom.com/es/
X-WR-CALDESC:Eventos para European Newsroom
REFRESH-INTERVAL;VALUE=DURATION:PT1H
X-Robots-Tag:noindex
X-PUBLISHED-TTL:PT1H
BEGIN:VTIMEZONE
TZID:Europe/Berlin
BEGIN:DAYLIGHT
TZOFFSETFROM:+0100
TZOFFSETTO:+0200
TZNAME:CEST
DTSTART:20240331T010000
END:DAYLIGHT
BEGIN:STANDARD
TZOFFSETFROM:+0200
TZOFFSETTO:+0100
TZNAME:CET
DTSTART:20241027T010000
END:STANDARD
BEGIN:DAYLIGHT
TZOFFSETFROM:+0100
TZOFFSETTO:+0200
TZNAME:CEST
DTSTART:20250330T010000
END:DAYLIGHT
BEGIN:STANDARD
TZOFFSETFROM:+0200
TZOFFSETTO:+0100
TZNAME:CET
DTSTART:20251026T010000
END:STANDARD
BEGIN:DAYLIGHT
TZOFFSETFROM:+0100
TZOFFSETTO:+0200
TZNAME:CEST
DTSTART:20260329T010000
END:DAYLIGHT
BEGIN:STANDARD
TZOFFSETFROM:+0200
TZOFFSETTO:+0100
TZNAME:CET
DTSTART:20261025T010000
END:STANDARD
END:VTIMEZONE
BEGIN:VEVENT
DTSTART;VALUE=DATE:20250106
DTEND;VALUE=DATE:20250107
DTSTAMP:20260420T021856
CREATED:20250105T141712Z
LAST-MODIFIED:20250105T141921Z
UID:805962-1736121600-1736207999@europeannewsroom.com
SUMMARY:Wopke Hoekstra\, Comisario de la UE\, mantiene una videoconferencia con el Ministro rumano de Energía\, Sebastian Ioan Burduja
DESCRIPTION:
URL:https://europeannewsroom.com/es/agenda/wopke-hoekstra-comisario-de-la-ue-mantiene-una-videoconferencia-con-el-ministro-rumano-de-energia-sebastian-ioan-burduja/
LOCATION:ONLINE
END:VEVENT
BEGIN:VEVENT
DTSTART;VALUE=DATE:20250107
DTEND;VALUE=DATE:20250108
DTSTAMP:20260420T021856
CREATED:20250105T141533Z
LAST-MODIFIED:20250105T141533Z
UID:805958-1736208000-1736294399@europeannewsroom.com
SUMMARY:La Comisaria europea Maria Luís Albuquerque en Lisboa
DESCRIPTION:participa en un debate en el Seminario Diplomático organizado por el Ministerio de Asuntos Exteriores portugués.
URL:https://europeannewsroom.com/es/agenda/la-comisaria-europea-maria-luis-albuquerque-en-lisboa/
LOCATION:Lisboa\, Portugal
END:VEVENT
BEGIN:VEVENT
DTSTART;VALUE=DATE:20250108
DTEND;VALUE=DATE:20250109
DTSTAMP:20260420T021856
CREATED:20250105T142311Z
LAST-MODIFIED:20250105T142311Z
UID:805980-1736294400-1736380799@europeannewsroom.com
SUMMARY:Roxana Mînzatu\, Vicepresidenta de la Comisión Europea\, recibe a una delegación de la Confederación Europea de Sindicatos
DESCRIPTION:
URL:https://europeannewsroom.com/es/agenda/roxana-minzatu-vicepresidenta-de-la-comision-europea-recibe-a-una-delegacion-de-la-confederacion-europea-de-sindicatos/
LOCATION:Bruselas\, Bélgica
END:VEVENT
BEGIN:VEVENT
DTSTART;VALUE=DATE:20250109
DTEND;VALUE=DATE:20250111
DTSTAMP:20260420T021856
CREATED:20250105T143131Z
LAST-MODIFIED:20250105T143131Z
UID:805994-1736380800-1736553599@europeannewsroom.com
SUMMARY:Visita a Polonia del Colegio de Comisarios de la UE
DESCRIPTION:incluye una cena ofrecida por el Primer Ministro polaco Donald Tusk (9 de enero).
URL:https://europeannewsroom.com/es/agenda/visita-a-polonia-del-colegio-de-comisarios-de-la-ue/
LOCATION:Gdańsk\, Poland
END:VEVENT
BEGIN:VEVENT
DTSTART;VALUE=DATE:20250109
DTEND;VALUE=DATE:20250113
DTSTAMP:20260420T021856
CREATED:20250105T143339Z
LAST-MODIFIED:20250105T143339Z
UID:805998-1736380800-1736726399@europeannewsroom.com
SUMMARY:El Presidente de EE.UU.\, Joe Biden\, visita Italia
DESCRIPTION:
URL:https://europeannewsroom.com/es/agenda/el-presidente-de-ee-uu-joe-biden-visita-italia/
LOCATION:Roma\, Italy
END:VEVENT
BEGIN:VEVENT
DTSTART;VALUE=DATE:20250113
DTEND;VALUE=DATE:20250114
DTSTAMP:20260420T021856
CREATED:20250113T162912Z
LAST-MODIFIED:20250113T162912Z
UID:831700-1736726400-1736812799@europeannewsroom.com
SUMMARY:La Alta Representante de la UE\, Kaja Kallas\, recibe al Canciller austriaco\, Alexander Schallenberg
DESCRIPTION:
URL:https://europeannewsroom.com/es/agenda/la-alta-representante-de-la-ue-kaja-kallas-recibe-al-canciller-austriaco-alexander-schallenberg/
LOCATION:Bruselas\, Bélgica
END:VEVENT
BEGIN:VEVENT
DTSTART;VALUE=DATE:20250113
DTEND;VALUE=DATE:20250114
DTSTAMP:20260420T021856
CREATED:20250113T163350Z
LAST-MODIFIED:20250113T163350Z
UID:831711-1736726400-1736812799@europeannewsroom.com
SUMMARY:La Comisaria europea Marta Kos recibe al Ministro belga de Asuntos Exteriores Bernard Quintin
DESCRIPTION:
URL:https://europeannewsroom.com/es/agenda/la-comisaria-europea-marta-kos-recibe-al-ministro-belga-de-asuntos-exteriores-bernard-quintin/
LOCATION:Bruselas\, Bélgica
END:VEVENT
BEGIN:VEVENT
DTSTART;VALUE=DATE:20250113
DTEND;VALUE=DATE:20250114
DTSTAMP:20260420T021856
CREATED:20250113T163521Z
LAST-MODIFIED:20250113T163539Z
UID:831715-1736726400-1736812799@europeannewsroom.com
SUMMARY:Christoph Hansen\, Comisario de la UE\, en Luxemburgo
DESCRIPTION:se reúne con la Sra. Nadia Calviño\, Presidenta del Banco Europeo de Inversiones;\nse reúne con Martine Hansen\, Ministra de Agricultura\, Alimentación y Viticultura\, y con Christian Hahn\, Presidente de la Cámara de Agricultura.
URL:https://europeannewsroom.com/es/agenda/christoph-hansen-comisario-de-la-ue-en-luxemburgo/
LOCATION:Luxemburgo\, Luxembourg
END:VEVENT
BEGIN:VEVENT
DTSTART;TZID=Europe/Berlin:20250113T150000
DTEND;TZID=Europe/Berlin:20250116T123000
DTSTAMP:20260420T021856
CREATED:20250313T094222Z
LAST-MODIFIED:20250313T094222Z
UID:1033245-1736780400-1737030600@europeannewsroom.com
SUMMARY:Reunión de las comisiones del Parlamento Europeo
DESCRIPTION:Comisión de Medio Ambiente\, Salud Pública y Seguridad Alimentaria\n\nproyecto de orden del día (13 de enero)\nlivestream (13 de enero\, 15:00-17:15)\nlivestream (16 de enero\, 09:00-12:30)\n\n\nComisión de Asuntos Exteriores\n\nproyecto de orden del día (13 de enero)\nlivestream (13 de enero\, 16:00-17:30)\nlivestream (14 de enero\, 10:30-12:30)\n\n\nComisión de Empleo y Asuntos Sociales\n\nproyecto de orden del día (13 de enero)\nlivestream (13 de enero\, 17:00-18:30)\nproyecto de orden del día (16 de enero)\nlivestream (16 de enero\, 10:00-12:30)\n\n\nComisión de Presupuestos\n\nproyecto de orden del día\nlivestream (16 de enero\, 09:00-12:30)\n\n\nComisión de Asuntos Económicos y Monetarios\n\nproyecto de orden del día\nlivestream (16 de enero\, 09:00-12:00)\n\n\nPara más información sobre las reuniones de otras comisiones\, consulte el calendario.
URL:https://europeannewsroom.com/es/agenda/reunion-de-las-comisiones-del-parlamento-europeo-3/
LOCATION:Parlamento Europeo Bruselas\, Belgium
END:VEVENT
BEGIN:VEVENT
DTSTART;VALUE=DATE:20250114
DTEND;VALUE=DATE:20250115
DTSTAMP:20260420T021856
CREATED:20250113T164831Z
LAST-MODIFIED:20250113T164831Z
UID:831846-1736812800-1736899199@europeannewsroom.com
SUMMARY:Cumbre de la OTAN sobre el Mar Báltico
DESCRIPTION:organizada por el Presidente finlandés Alexander Stubb y la Primera Ministra estonia Kristen Michal\nParticipan el Secretario General de la OTAN\, Mark Rutte\, la Vicepresidenta de la Comisión Europea\, Henna Virkkunen\, y varios representantes de Estados europeos.\nmás información\ngrabaciones de vídeo
URL:https://europeannewsroom.com/es/agenda/cumbre-de-la-otan-sobre-el-mar-baltico/
LOCATION:Helsinki
END:VEVENT
BEGIN:VEVENT
DTSTART;VALUE=DATE:20250114
DTEND;VALUE=DATE:20250115
DTSTAMP:20260420T021856
CREATED:20250113T164947Z
LAST-MODIFIED:20250113T164947Z
UID:831850-1736812800-1736899199@europeannewsroom.com
SUMMARY:Gala inaugural de la Presidencia polaca del Consejo de la UE
DESCRIPTION:Participa la Comisaria de la UE Marta Kos.
URL:https://europeannewsroom.com/es/agenda/gala-inaugural-de-la-presidencia-polaca-del-consejo-de-la-ue/
LOCATION:Bruselas\, Bélgica
END:VEVENT
BEGIN:VEVENT
DTSTART;VALUE=DATE:20250114
DTEND;VALUE=DATE:20250115
DTSTAMP:20260420T021856
CREATED:20250113T165529Z
LAST-MODIFIED:20250113T165529Z
UID:831866-1736812800-1736899199@europeannewsroom.com
SUMMARY:Glenn Micallef\, Comisario europeo\, recibe a Marta Cienkowska\, Viceministra polaca de Cultura y Patrimonio Nacional
DESCRIPTION:
URL:https://europeannewsroom.com/es/agenda/glenn-micallef-comisario-europeo-recibe-a-marta-cienkowska-viceministra-polaca-de-cultura-y-patrimonio-nacional/
LOCATION:Bruselas\, Bélgica
END:VEVENT
BEGIN:VEVENT
DTSTART;TZID=Europe/Berlin:20250114T140000
DTEND;TZID=Europe/Berlin:20250114T150000
DTSTAMP:20260420T021856
CREATED:20250110T083437Z
LAST-MODIFIED:20250110T083437Z
UID:823539-1736863200-1736866800@europeannewsroom.com
SUMMARY:Delegación del Parlamento Europeo en la Comisión Parlamentaria de Estabilización y Asociación UE-Serbia
DESCRIPTION:agenda
URL:https://europeannewsroom.com/es/agenda/delegacion-del-parlamento-europeo-en-la-comision-parlamentaria-de-estabilizacion-y-asociacion-ue-serbia/
LOCATION:Parlamento Europeo Bruselas\, Belgium
END:VEVENT
BEGIN:VEVENT
DTSTART;VALUE=DATE:20250115
DTEND;VALUE=DATE:20250116
DTSTAMP:20260420T021856
CREATED:20250113T165708Z
LAST-MODIFIED:20250113T165708Z
UID:831870-1736899200-1736985599@europeannewsroom.com
SUMMARY:Colegio de Comisarios de la UE
DESCRIPTION:rueda de prensa en directo
URL:https://europeannewsroom.com/es/agenda/colegio-de-comisarios-de-la-ue-23/
LOCATION:Bruselas\, Bélgica
END:VEVENT
BEGIN:VEVENT
DTSTART;VALUE=DATE:20250115
DTEND;VALUE=DATE:20250116
DTSTAMP:20260420T021856
CREATED:20250113T170205Z
LAST-MODIFIED:20250113T170205Z
UID:831886-1736899200-1736985599@europeannewsroom.com
SUMMARY:La Vicepresidenta de la Comisión Europea\, Roxana Mînzatu\, recibe al Ministro español de Derechos Sociales\, Pablo Bustindyu
DESCRIPTION:
URL:https://europeannewsroom.com/es/agenda/la-vicepresidenta-de-la-comision-europea-roxana-minzatu-recibe-al-ministro-espanol-de-derechos-sociales-pablo-bustindyu/
LOCATION:Bruselas\, Bélgica
END:VEVENT
BEGIN:VEVENT
DTSTART;VALUE=DATE:20250115
DTEND;VALUE=DATE:20250116
DTSTAMP:20260420T021856
CREATED:20250113T170327Z
LAST-MODIFIED:20250113T170327Z
UID:831891-1736899200-1736985599@europeannewsroom.com
SUMMARY:Wopke Hoekstra\, Comisario de la UE\, recibe a Mona Keijzer\, Viceprimera Ministra neerlandesa
DESCRIPTION:
URL:https://europeannewsroom.com/es/agenda/wopke-hoekstra-comisario-de-la-ue-recibe-a-mona-keijzer-viceprimera-ministra-neerlandesa/
LOCATION:Bruselas\, Bélgica
END:VEVENT
BEGIN:VEVENT
DTSTART;VALUE=DATE:20250115
DTEND;VALUE=DATE:20250116
DTSTAMP:20260420T021856
CREATED:20250113T170733Z
LAST-MODIFIED:20250113T170733Z
UID:831930-1736899200-1736985599@europeannewsroom.com
SUMMARY:La Comisaria Europea Marta Kos recibe a la Presidenta del Banco Europeo de Inversiones Nadia Calviño
DESCRIPTION:
URL:https://europeannewsroom.com/es/agenda/la-comisaria-europea-marta-kos-recibe-a-la-presidenta-del-banco-europeo-de-inversiones-nadia-calvino/
LOCATION:Bruselas\, Bélgica
END:VEVENT
BEGIN:VEVENT
DTSTART;VALUE=DATE:20250115
DTEND;VALUE=DATE:20250117
DTSTAMP:20260420T021856
CREATED:20250113T171133Z
LAST-MODIFIED:20250113T171133Z
UID:831934-1736899200-1737071999@europeannewsroom.com
SUMMARY:El Comisario europeo Michael McGrath en los Países Bajos
DESCRIPTION:visita la sede de la Agencia de la Unión Europea para la Cooperación Policial (Europol);\nparticipa en una cena de trabajo con Michael Schmid\, Presidente de la Agencia de Cooperación en materia de Justicia Penal de la Unión Europea (Eurojust) (15 de enero);\nvisita la sede de la Agencia de Cooperación en materia de Justicia Penal de la Unión Europea (Eurojust);\nvisita la Corte Penal Internacional (CPI) y se reúne con el Vicepresidente Primero de la CPI\, Rosario Salvatore Aitala;\nse reúne con D. Markiyan Kliuchkovskyi\, Director Ejecutivo del Registro de Daños de Ucrania\nse reúne con D. Teun Struycken\, Ministro de Protección Jurídica de los Países Bajos (16 de enero).
URL:https://europeannewsroom.com/es/agenda/el-comisario-europeo-michael-mcgrath-en-los-paises-bajos/
LOCATION:La Haya\, Netherlands
END:VEVENT
BEGIN:VEVENT
DTSTART;TZID=Europe/Berlin:20250115T153000
DTEND;TZID=Europe/Berlin:20250115T153000
DTSTAMP:20260420T021856
CREATED:20250110T083213Z
LAST-MODIFIED:20250110T083213Z
UID:823537-1736955000-1736955000@europeannewsroom.com
SUMMARY:Delegación del Parlamento Europeo en la Comisión Parlamentaria de Estabilización y Asociación UE-Montenegro
DESCRIPTION:
URL:https://europeannewsroom.com/es/agenda/delegacion-del-parlamento-europeo-en-la-comision-parlamentaria-de-estabilizacion-y-asociacion-ue-montenegro/
LOCATION:Parlamento Europeo Bruselas\, Belgium
END:VEVENT
BEGIN:VEVENT
DTSTART;VALUE=DATE:20250116
DTEND;VALUE=DATE:20250118
DTSTAMP:20260420T021856
CREATED:20250110T082821Z
LAST-MODIFIED:20250110T082821Z
UID:823526-1736985600-1737158399@europeannewsroom.com
SUMMARY:Reunión de Directores Generales de Asuntos Europeos de la UE
DESCRIPTION:
URL:https://europeannewsroom.com/es/agenda/reunion-de-directores-generales-de-asuntos-europeos-de-la-ue/
LOCATION:Varsovia\, Poland
END:VEVENT
BEGIN:VEVENT
DTSTART;VALUE=DATE:20250116
DTEND;VALUE=DATE:20250117
DTSTAMP:20260420T021856
CREATED:20250115T162400Z
LAST-MODIFIED:20250115T162400Z
UID:842042-1736985600-1737071999@europeannewsroom.com
SUMMARY:Maroš Šefčovič\, Comisario de la UE\, recibe a Rasmus Stoklund\, Ministro danés de Hacienda
DESCRIPTION:
URL:https://europeannewsroom.com/es/agenda/maros-sefcovic-comisario-de-la-ue-recibe-a-rasmus-stoklund-ministro-danes-de-hacienda/
LOCATION:Bruselas\, Bélgica
END:VEVENT
BEGIN:VEVENT
DTSTART;VALUE=DATE:20250116
DTEND;VALUE=DATE:20250118
DTSTAMP:20260420T021856
CREATED:20250115T163508Z
LAST-MODIFIED:20250115T163508Z
UID:842085-1736985600-1737158399@europeannewsroom.com
SUMMARY:El Comisario europeo Jozef Síkela en París
DESCRIPTION:se reúne con Thani Mohamed-Soilihi\, Secretario de Estado para la Francofonía y las Asociaciones Internacionales de Francia\nse reúne con Laurent Saint-Martin\, Ministro Delegado de Comercio Exterior y Nacionales Franceses en el Extranjero de Francia;\nasiste a la cena organizada por Emmanuel Macron\, Presidente de Francia\, en el Palacio del Elíseo (16 de enero)
URL:https://europeannewsroom.com/es/agenda/el-comisario-europeo-jozef-sikela-en-paris/
LOCATION:Paris\, France
END:VEVENT
BEGIN:VEVENT
DTSTART;VALUE=DATE:20250116
DTEND;VALUE=DATE:20250117
DTSTAMP:20260420T021856
CREATED:20250115T164136Z
LAST-MODIFIED:20250115T164136Z
UID:842147-1736985600-1737071999@europeannewsroom.com
SUMMARY:La Comisaria de la UE Jessika Roswall recibe al Presidente de Eurochambers Vladimír Dlouhý y al Director General de Eurochambers Ben Butters
DESCRIPTION:
URL:https://europeannewsroom.com/es/agenda/la-comisaria-de-la-ue-jessika-roswall-recibe-al-presidente-de-eurochambers-vladimir-dlouhy-y-al-director-general-de-eurochambers-ben-butters/
LOCATION:Bruselas\, Bélgica
END:VEVENT
BEGIN:VEVENT
DTSTART;VALUE=DATE:20250116
DTEND;VALUE=DATE:20250117
DTSTAMP:20260420T021856
CREATED:20250115T164255Z
LAST-MODIFIED:20250115T164255Z
UID:842151-1736985600-1737071999@europeannewsroom.com
SUMMARY:Piotr Serfain\, Comisario europeo\, recibe a Marie Bjerre\, Ministra danesa de Asuntos Europeos
DESCRIPTION:
URL:https://europeannewsroom.com/es/agenda/piotr-serfain-comisario-europeo-recibe-a-marie-bjerre-ministra-danesa-de-asuntos-europeos/
LOCATION:Bruselas\, Bélgica
END:VEVENT
BEGIN:VEVENT
DTSTART;VALUE=DATE:20250116
DTEND;VALUE=DATE:20250118
DTSTAMP:20260420T021856
CREATED:20250115T165711Z
LAST-MODIFIED:20250115T165711Z
UID:842283-1736985600-1737158399@europeannewsroom.com
SUMMARY:Dan Jørgensen\, Comisario de la UE\, en Copenhague
DESCRIPTION:se reúne con Lars Sandahl Sørensen\, Presidente de la Confederación de la Industria Danesa (Dansk Industri);\nse reúne con Martin Lidegaard\, líder del Partido Social Liberal (16 de enero) ;\nse reúne con Magnus Heunicke\, Ministro de Medio Ambiente e Igualdad de Género (17 de enero).
URL:https://europeannewsroom.com/es/agenda/dan-jorgensen-comisario-de-la-ue-en-copenhague/
LOCATION:Copenhague\, Denmark
END:VEVENT
BEGIN:VEVENT
DTSTART;VALUE=DATE:20250116
DTEND;VALUE=DATE:20250117
DTSTAMP:20260420T021856
CREATED:20250115T172744Z
LAST-MODIFIED:20250115T172953Z
UID:842375-1736985600-1737071999@europeannewsroom.com
SUMMARY:El Presidente del Consejo Europeo\, António Costa\, se reúne con el Primer Ministro de la Autoridad Palestina\, Mohammad Mustafa
DESCRIPTION:grabaciones de vídeo
URL:https://europeannewsroom.com/es/agenda/el-presidente-del-consejo-europeo-antonio-costa-se-reune-con-el-primer-ministro-de-la-autoridad-palestina-mohammad-mustafa/
LOCATION:Bruselas\, Bélgica
END:VEVENT
BEGIN:VEVENT
DTSTART;VALUE=DATE:20250116
DTEND;VALUE=DATE:20250118
DTSTAMP:20260420T021856
CREATED:20250115T175449Z
LAST-MODIFIED:20250115T175449Z
UID:842397-1736985600-1737158399@europeannewsroom.com
SUMMARY:La Comisaria de la UE Marta Kos en Montenegro
DESCRIPTION:16 de enero en Podgorica: \n\nse reúne con el Presidente montenegrino Jakov Milatović;\nse reúne con el Primer Ministro montenegrino Milojko Spajić (seguida de una rueda de prensa conjunta\, 16:00 en directo);\nse reúne con el Presidente del Parlamento montenegrino Andrija Mandić;\nse dirige al Parlamento montenegrino (17:30 en directo).\n\n17 de enero \n\nasiste a un desayuno con la sociedad civil y mujeres poderosas/influyentes;\nse reúne con ReSPA – Escuela Regional de Administración Pública (en Podgorica);\nasiste a la presentación de un proyecto de seguridad marítima recientemente finalizado (en Dobra Voda).
URL:https://europeannewsroom.com/es/agenda/la-comisaria-de-la-ue-marta-kos-en-montenegro/
LOCATION:Montenegro
END:VEVENT
BEGIN:VEVENT
DTSTART;TZID=Europe/Berlin:20250116T130000
DTEND;TZID=Europe/Berlin:20250116T140000
DTSTAMP:20260420T021856
CREATED:20250115T162306Z
LAST-MODIFIED:20250115T162306Z
UID:842038-1737032400-1737036000@europeannewsroom.com
SUMMARY:Evento de Bruegel "Clean Industrial Deal: una conversación con la EVP Teresa Ribera"
DESCRIPTION:livestream disponible
URL:https://europeannewsroom.com/es/agenda/evento-de-bruegel-clean-industrial-deal-una-conversacion-con-la-evp-teresa-ribera/
LOCATION:Bruselas\, Bélgica
END:VEVENT
BEGIN:VEVENT
DTSTART;VALUE=DATE:20250117
DTEND;VALUE=DATE:20250118
DTSTAMP:20260420T021856
CREATED:20250115T165853Z
LAST-MODIFIED:20250115T165853Z
UID:842287-1737072000-1737158399@europeannewsroom.com
SUMMARY:La Alta Representante de la UE\, Kaja Kallas\, recibe al Primer Ministro de la Autoridad Palestina\, Mohammad Mustafa
DESCRIPTION:
URL:https://europeannewsroom.com/es/agenda/la-alta-representante-de-la-ue-kaja-kallas-recibe-al-primer-ministro-de-la-autoridad-palestina-mohammad-mustafa/
LOCATION:Bruselas\, Bélgica
END:VEVENT
BEGIN:VEVENT
DTSTART;VALUE=DATE:20250117
DTEND;VALUE=DATE:20250118
DTSTAMP:20260420T021856
CREATED:20250115T170648Z
LAST-MODIFIED:20250115T170648Z
UID:842303-1737072000-1737158399@europeannewsroom.com
SUMMARY:La Comisaria europea Ekaterina Zaharieva en Sofía
DESCRIPTION:participa en la ceremonia de entrega de los «Oscar académicos búlgaros» a las mejores universidades\, organizada por el diario «24 Chasa».
URL:https://europeannewsroom.com/es/agenda/la-comisaria-europea-ekaterina-zaharieva-en-sofia/
LOCATION:Sofia\, Bulgaria
END:VEVENT
END:VCALENDAR