BEGIN:VCALENDAR
VERSION:2.0
PRODID:-//European Newsroom - ECPv6.15.18//NONSGML v1.0//EN
CALSCALE:GREGORIAN
METHOD:PUBLISH
X-ORIGINAL-URL:https://europeannewsroom.com/es/
X-WR-CALDESC:Eventos para European Newsroom
REFRESH-INTERVAL;VALUE=DURATION:PT1H
X-Robots-Tag:noindex
X-PUBLISHED-TTL:PT1H
BEGIN:VTIMEZONE
TZID:Europe/Berlin
BEGIN:DAYLIGHT
TZOFFSETFROM:+0100
TZOFFSETTO:+0200
TZNAME:CEST
DTSTART:20240331T010000
END:DAYLIGHT
BEGIN:STANDARD
TZOFFSETFROM:+0200
TZOFFSETTO:+0100
TZNAME:CET
DTSTART:20241027T010000
END:STANDARD
BEGIN:DAYLIGHT
TZOFFSETFROM:+0100
TZOFFSETTO:+0200
TZNAME:CEST
DTSTART:20250330T010000
END:DAYLIGHT
BEGIN:STANDARD
TZOFFSETFROM:+0200
TZOFFSETTO:+0100
TZNAME:CET
DTSTART:20251026T010000
END:STANDARD
BEGIN:DAYLIGHT
TZOFFSETFROM:+0100
TZOFFSETTO:+0200
TZNAME:CEST
DTSTART:20260329T010000
END:DAYLIGHT
BEGIN:STANDARD
TZOFFSETFROM:+0200
TZOFFSETTO:+0100
TZNAME:CET
DTSTART:20261025T010000
END:STANDARD
END:VTIMEZONE
BEGIN:VEVENT
DTSTART;VALUE=DATE:20250203
DTEND;VALUE=DATE:20250204
DTSTAMP:20260420T003932
CREATED:20250203T202711Z
LAST-MODIFIED:20250203T202711Z
UID:906466-1738540800-1738627199@europeannewsroom.com
SUMMARY:Dan Jørgensen\, Comisario de la UE\, recibe al Primer Ministro eslovaco\, Robert Fico
DESCRIPTION:
URL:https://europeannewsroom.com/es/agenda/dan-jorgensen-comisario-de-la-ue-recibe-al-primer-ministro-eslovaco-robert-fico/
LOCATION:Bruselas\, Bélgica
END:VEVENT
BEGIN:VEVENT
DTSTART;VALUE=DATE:20250203
DTEND;VALUE=DATE:20250204
DTSTAMP:20260420T003932
CREATED:20250203T202803Z
LAST-MODIFIED:20250203T202803Z
UID:906470-1738540800-1738627199@europeannewsroom.com
SUMMARY:El Comisario de la UE Michael McGrath se reúne con la Jefa Adjunta de la Oficina Presidencial ucraniana Iryna Mudra
DESCRIPTION:
URL:https://europeannewsroom.com/es/agenda/el-comisario-de-la-ue-michael-mcgrath-se-reune-con-la-jefa-adjunta-de-la-oficina-presidencial-ucraniana-iryna-mudra/
LOCATION:Bruselas\, Bélgica
END:VEVENT
BEGIN:VEVENT
DTSTART;VALUE=DATE:20250203
DTEND;VALUE=DATE:20250208
DTSTAMP:20260420T003932
CREATED:20250203T203722Z
LAST-MODIFIED:20250203T203722Z
UID:906488-1738540800-1738972799@europeannewsroom.com
SUMMARY:Conferencia de Embajadores de la UE 2025
DESCRIPTION:discursos de la Alta Representante de la UE\, Kaja Kallas (3 de febrero\, 09:00)\, la Presidenta del Parlamento Europeo\, Roberta Metsola (4 de febrero\, 09:30)\, la Presidenta de la Comisión Europea\, Ursula von der Leyen (4 de febrero\, 11:30) y el Presidente del Consejo Europeo\, António Costa (4 de febrero\, 14:00)\nretransmisión en directo de los discursos\nmás información
URL:https://europeannewsroom.com/es/agenda/conferencia-de-embajadores-de-la-ue-2025/
LOCATION:Bruselas\, Bélgica
END:VEVENT
BEGIN:VEVENT
DTSTART;VALUE=DATE:20250203
DTEND;VALUE=DATE:20250204
DTSTAMP:20260420T003932
CREATED:20250210T144629Z
LAST-MODIFIED:20250210T144629Z
UID:938213-1738540800-1738627199@europeannewsroom.com
SUMMARY:Wopke Hoekstra\, Comisario europeo\, recibe a Agnès Pannier-Runacher\, Ministra francesa de Transición Ecológica
DESCRIPTION:
URL:https://europeannewsroom.com/es/agenda/wopke-hoekstra-comisario-europeo-recibe-a-agnes-pannier-runacher-ministra-francesa-de-transicion-ecologica-2/
LOCATION:Bruselas\, Bélgica
END:VEVENT
BEGIN:VEVENT
DTSTART;VALUE=DATE:20250203
DTEND;VALUE=DATE:20250205
DTSTAMP:20260420T003932
CREATED:20250210T162346Z
LAST-MODIFIED:20250210T162346Z
UID:938940-1738540800-1738713599@europeannewsroom.com
SUMMARY:Roxana Mînzatu\, Vicepresidenta de la Comisión Europea\, visita Bucarest
DESCRIPTION:
URL:https://europeannewsroom.com/es/agenda/roxana-minzatu-vicepresidenta-de-la-comision-europea-visita-bucarest/
LOCATION:Bucarest\, Romania
END:VEVENT
BEGIN:VEVENT
DTSTART;TZID=Europe/Berlin:20250203T093000
DTEND;TZID=Europe/Berlin:20250203T190000
DTSTAMP:20260420T003932
CREATED:20250210T105833Z
LAST-MODIFIED:20250210T105833Z
UID:937857-1738575000-1738609200@europeannewsroom.com
SUMMARY:Sesión de reflexión informal de los dirigentes de la UE
DESCRIPTION:más información\nretransmisión en directo
URL:https://europeannewsroom.com/es/agenda/sesion-de-reflexion-informal-de-los-dirigentes-de-la-ue/
LOCATION:Bruselas\, Bélgica
END:VEVENT
BEGIN:VEVENT
DTSTART;TZID=Europe/Berlin:20250203T094500
DTEND;TZID=Europe/Berlin:20250203T120000
DTSTAMP:20260420T003932
CREATED:20250210T144536Z
LAST-MODIFIED:20250210T144536Z
UID:938209-1738575900-1738584000@europeannewsroom.com
SUMMARY:Colegio de Europa Diálogo de alto nivel "Comercio y seguridad económica de la UE: ¿qué está en juego para los jóvenes europeos?"
DESCRIPTION:con el Vicepresidente de la Comisión de la UE Maroš Šefčovič.
URL:https://europeannewsroom.com/es/agenda/colegio-de-europa-dialogo-de-alto-nivel-comercio-y-seguridad-economica-de-la-ue-que-esta-en-juego-para-los-jovenes-europeos-2/
LOCATION:Varsovia\, Poland
END:VEVENT
BEGIN:VEVENT
DTSTART;VALUE=DATE:20250204
DTEND;VALUE=DATE:20250205
DTSTAMP:20260420T003932
CREATED:20250204T145932Z
LAST-MODIFIED:20250204T145932Z
UID:912121-1738627200-1738713599@europeannewsroom.com
SUMMARY:La Comisaria de la UE Jessika Roswall recibe al Secretario de Estado del Primer Ministro sueco Christian Danielsson
DESCRIPTION:
URL:https://europeannewsroom.com/es/agenda/la-comisaria-de-la-ue-jessika-roswall-recibe-al-secretario-de-estado-del-primer-ministro-sueco-christian-danielsson/
LOCATION:Bruselas\, Bélgica
END:VEVENT
BEGIN:VEVENT
DTSTART;VALUE=DATE:20250204
DTEND;VALUE=DATE:20250205
DTSTAMP:20260420T003932
CREATED:20250204T150108Z
LAST-MODIFIED:20250204T150108Z
UID:912126-1738627200-1738713599@europeannewsroom.com
SUMMARY:Dan Jørgensen\, Comisario europeo\, recibe a Sebastian Burduja\, Ministro rumano de Energía
DESCRIPTION:
URL:https://europeannewsroom.com/es/agenda/dan-jorgensen-comisario-europeo-recibe-a-sebastian-burduja-ministro-rumano-de-energia/
LOCATION:Bruselas\, Bélgica
END:VEVENT
BEGIN:VEVENT
DTSTART;VALUE=DATE:20250204
DTEND;VALUE=DATE:20250205
DTSTAMP:20260420T003932
CREATED:20250204T150617Z
LAST-MODIFIED:20250204T150617Z
UID:912166-1738627200-1738713599@europeannewsroom.com
SUMMARY:El Comisario europeo Wopke Hoekstra se reúne con el Ministro-Presidente de Baden-Württemberg (Alemania) Winfried Kretschmann
DESCRIPTION:
URL:https://europeannewsroom.com/es/agenda/el-comisario-europeo-wopke-hoekstra-se-reune-con-el-ministro-presidente-de-baden-wurttemberg-alemania-winfried-kretschmann/
LOCATION:Bruselas\, Bélgica
END:VEVENT
BEGIN:VEVENT
DTSTART;TZID=Europe/Berlin:20250204T150000
DTEND;TZID=Europe/Berlin:20250204T170000
DTSTAMP:20260420T003932
CREATED:20250204T150805Z
LAST-MODIFIED:20250204T150805Z
UID:912168-1738681200-1738688400@europeannewsroom.com
SUMMARY:Diálogo sobre política de juventud con el Comisario europeo Olivér Várhelyi
DESCRIPTION:
URL:https://europeannewsroom.com/es/agenda/dialogo-sobre-politica-de-juventud-con-el-comisario-europeo-oliver-varhelyi/
LOCATION:Bruselas\, Bélgica
END:VEVENT
BEGIN:VEVENT
DTSTART;VALUE=DATE:20250205
DTEND;VALUE=DATE:20250206
DTSTAMP:20260420T003932
CREATED:20250210T145724Z
LAST-MODIFIED:20250210T145724Z
UID:938297-1738713600-1738799999@europeannewsroom.com
SUMMARY:Colegio de Comisarios de la UE
DESCRIPTION:rueda de prensa en directo
URL:https://europeannewsroom.com/es/agenda/colegio-de-comisarios-de-la-ue-25/
LOCATION:Bruselas\, Bélgica
END:VEVENT
BEGIN:VEVENT
DTSTART;VALUE=DATE:20250205
DTEND;VALUE=DATE:20250206
DTSTAMP:20260420T003932
CREATED:20250210T150217Z
LAST-MODIFIED:20250210T150217Z
UID:938314-1738713600-1738799999@europeannewsroom.com
SUMMARY:El Vicepresidente de la Comisión Europea recibe al Ministro-Presidente de Baja Sajonia (Alemania)\, Stephan Weil
DESCRIPTION:
URL:https://europeannewsroom.com/es/agenda/el-vicepresidente-de-la-comision-europea-recibe-al-ministro-presidente-de-baja-sajonia-alemania-stephan-weil/
LOCATION:Bruselas\, Bélgica
END:VEVENT
BEGIN:VEVENT
DTSTART;VALUE=DATE:20250205
DTEND;VALUE=DATE:20250206
DTSTAMP:20260420T003932
CREATED:20250210T151224Z
LAST-MODIFIED:20250210T151243Z
UID:938319-1738713600-1738799999@europeannewsroom.com
SUMMARY:El Vicepresidente de la Comisión Europea\, Stéphane Séjourné\, recibe al Presidente del Consejo Regional de Normandía\, Hervé Morin
DESCRIPTION:
URL:https://europeannewsroom.com/es/agenda/eu-commission-vice-president-stephane-sejourne-receives-president-of-the-regional-council-of-normandy-herve-morin/
LOCATION:Bruselas\, Bélgica
END:VEVENT
BEGIN:VEVENT
DTSTART;VALUE=DATE:20250205
DTEND;VALUE=DATE:20250206
DTSTAMP:20260420T003932
CREATED:20250210T151936Z
LAST-MODIFIED:20250210T151936Z
UID:938476-1738713600-1738799999@europeannewsroom.com
SUMMARY:El Comisario de la UE Olivér Várhelyi recibe al Alto Representante para Bosnia y Herzegovina Christian Schmidt
DESCRIPTION:
URL:https://europeannewsroom.com/es/agenda/el-comisario-de-la-ue-oliver-varhelyi-recibe-al-alto-representante-para-bosnia-y-herzegovina-christian-schmidt/
LOCATION:Bruselas\, Bélgica
END:VEVENT
BEGIN:VEVENT
DTSTART;VALUE=DATE:20250205
DTEND;VALUE=DATE:20250206
DTSTAMP:20260420T003932
CREATED:20250210T153323Z
LAST-MODIFIED:20250210T153323Z
UID:938480-1738713600-1738799999@europeannewsroom.com
SUMMARY:Wopke Hoekstra\, Comisario de la UE\, recibe a Zsolt Szabó\, Ministro neerlandés de Digitalización
DESCRIPTION:
URL:https://europeannewsroom.com/es/agenda/wopke-hoekstra-comisario-de-la-ue-recibe-a-zsolt-szabo-ministro-neerlandes-de-digitalizacion/
LOCATION:Bruselas\, Bélgica
END:VEVENT
BEGIN:VEVENT
DTSTART;VALUE=DATE:20250205
DTEND;VALUE=DATE:20250206
DTSTAMP:20260420T003932
CREATED:20250210T154402Z
LAST-MODIFIED:20250210T154402Z
UID:938556-1738713600-1738799999@europeannewsroom.com
SUMMARY:Foro Internacional de Política Energética del Financial Times
DESCRIPTION:Discurso del Comisario Dan Jørgensen
URL:https://europeannewsroom.com/es/agenda/foro-internacional-de-politica-energetica-del-financial-times/
LOCATION:Bruselas\, Bélgica
END:VEVENT
BEGIN:VEVENT
DTSTART;VALUE=DATE:20250205
DTEND;VALUE=DATE:20250206
DTSTAMP:20260420T003932
CREATED:20250210T154451Z
LAST-MODIFIED:20250210T154451Z
UID:938558-1738713600-1738799999@europeannewsroom.com
SUMMARY:Glenn Micallef\, Comisario europeo\, recibe a Sira Rego\, Ministra española de Juventud
DESCRIPTION:
URL:https://europeannewsroom.com/es/agenda/glenn-micallef-comisario-europeo-recibe-a-sira-rego-ministra-espanola-de-juventud/
LOCATION:Bruselas\, Bélgica
END:VEVENT
BEGIN:VEVENT
DTSTART;TZID=Europe/Berlin:20250205T093000
DTEND;TZID=Europe/Berlin:20250205T161000
DTSTAMP:20260420T003932
CREATED:20250210T153914Z
LAST-MODIFIED:20250210T153914Z
UID:938521-1738747800-1738771800@europeannewsroom.com
SUMMARY:Conferencia 2025 de la Autoridad Europea de Valores y Mercados "Modelar el futuro de los mercados de capitales de la UE"
DESCRIPTION:Discurso inaugural de la Comisaria europea Maria Luís Albuquerque.
URL:https://europeannewsroom.com/es/agenda/conferencia-2025-de-la-autoridad-europea-de-valores-y-mercados-modelar-el-futuro-de-los-mercados-de-capitales-de-la-ue/
LOCATION:Paris\, France
END:VEVENT
BEGIN:VEVENT
DTSTART;TZID=Europe/Berlin:20250205T100000
DTEND;TZID=Europe/Berlin:20250205T170000
DTSTAMP:20260420T003932
CREATED:20250210T110147Z
LAST-MODIFIED:20250210T110147Z
UID:937859-1738749600-1738774800@europeannewsroom.com
SUMMARY:Taller nacional sobre los derechos de los pacientes en la UE
DESCRIPTION:agenda
URL:https://europeannewsroom.com/es/agenda/taller-nacional-sobre-los-derechos-de-los-pacientes-en-la-ue/
LOCATION:Oradea\, Romania
END:VEVENT
BEGIN:VEVENT
DTSTART;VALUE=DATE:20250206
DTEND;VALUE=DATE:20250208
DTSTAMP:20260420T003932
CREATED:20250210T155211Z
LAST-MODIFIED:20250210T155211Z
UID:938600-1738800000-1738972799@europeannewsroom.com
SUMMARY:Visita del Colegio de Comisarios de la UE a Polonia
DESCRIPTION:grabaciones de vídeo
URL:https://europeannewsroom.com/es/agenda/visita-del-colegio-de-comisarios-de-la-ue-a-polonia/
LOCATION:Gdańsk\, Poland
END:VEVENT
BEGIN:VEVENT
DTSTART;VALUE=DATE:20250206
DTEND;VALUE=DATE:20250207
DTSTAMP:20260420T003932
CREATED:20250210T155449Z
LAST-MODIFIED:20250210T155449Z
UID:938628-1738800000-1738886399@europeannewsroom.com
SUMMARY:Stéphane Séjourné\, Vicepresidente de la Comisión Europea\, visita el Grupo Industrial Báltico
DESCRIPTION:junto con el Ministro de Hacienda polaco\, Andrzej Jan Domański.
URL:https://europeannewsroom.com/es/agenda/stephane-sejourne-vicepresidente-de-la-comision-europea-visita-el-grupo-industrial-baltico/
LOCATION:Gdańsk\, Poland
END:VEVENT
BEGIN:VEVENT
DTSTART;VALUE=DATE:20250206
DTEND;VALUE=DATE:20250207
DTSTAMP:20260420T003932
CREATED:20250210T160342Z
LAST-MODIFIED:20250210T160342Z
UID:938691-1738800000-1738886399@europeannewsroom.com
SUMMARY:La Alta Representante de la UE\, Kaja Kallas\, recibe al Secretario General de la OTAN\, Mark Rutte
DESCRIPTION:
URL:https://europeannewsroom.com/es/agenda/la-alta-representante-de-la-ue-kaja-kallas-recibe-al-secretario-general-de-la-otan-mark-rutte/
LOCATION:Bruselas\, Bélgica
END:VEVENT
BEGIN:VEVENT
DTSTART;VALUE=DATE:20250206
DTEND;VALUE=DATE:20250207
DTSTAMP:20260420T003932
CREATED:20250210T161344Z
LAST-MODIFIED:20250210T161344Z
UID:938825-1738800000-1738886399@europeannewsroom.com
SUMMARY:La Comisaria de la UE Jessika Roswall recibe al Ministro de Medio Ambiente de Flandes Jo Brouns
DESCRIPTION:
URL:https://europeannewsroom.com/es/agenda/la-comisaria-de-la-ue-jessika-roswall-recibe-al-ministro-de-medio-ambiente-de-flandes-jo-brouns/
LOCATION:Bruselas\, Bélgica
END:VEVENT
BEGIN:VEVENT
DTSTART;TZID=Europe/Berlin:20250206T124500
DTEND;TZID=Europe/Berlin:20250206T144500
DTSTAMP:20260420T003932
CREATED:20250210T160540Z
LAST-MODIFIED:20250210T160540Z
UID:938695-1738845900-1738853100@europeannewsroom.com
SUMMARY:Diálogo sobre política de juventud con el Comisario europeo Wopke Hoekstra
DESCRIPTION:Título del evento: «Clima\, Net Zero\, Crecimiento Limpio y Fiscalidad»\ntransmisión en directo disponible
URL:https://europeannewsroom.com/es/agenda/dialogo-sobre-politica-de-juventud-con-el-comisario-europeo-wopke-hoekstra/
LOCATION:Bruselas\, Bélgica
END:VEVENT
BEGIN:VEVENT
DTSTART;VALUE=DATE:20250207
DTEND;VALUE=DATE:20250209
DTSTAMP:20260420T003932
CREATED:20250210T163009Z
LAST-MODIFIED:20250210T163009Z
UID:939022-1738886400-1739059199@europeannewsroom.com
SUMMARY:Diálogo sobre política de juventud con los Comisarios de la UE Marta Kos y Glenn Micallef
DESCRIPTION:más información
URL:https://europeannewsroom.com/es/agenda/dialogo-sobre-politica-de-juventud-con-los-comisarios-de-la-ue-marta-kos-y-glenn-micallef-2/
LOCATION:Nova Gorica\, Slovenia
END:VEVENT
BEGIN:VEVENT
DTSTART;VALUE=DATE:20250208
DTEND;VALUE=DATE:20250209
DTSTAMP:20260420T003932
CREATED:20250210T161656Z
LAST-MODIFIED:20250210T161907Z
UID:938852-1738972800-1739059199@europeannewsroom.com
SUMMARY:Inauguración de la Capital Europea de la Cultura 2025
DESCRIPTION:discursos de apertura de los Presidentes esloveno e italiano\, Nataša Pirc Musar y Sergio Mattarella\nParticipa el Comisario de la UE Glenn Micallef (Nova Gorica).\nmás información
URL:https://europeannewsroom.com/es/agenda/inauguracion-de-la-capital-europea-de-la-cultura-2025/
LOCATION:Gorizia (Italy) / Nova Gorica (Slovenia)
END:VEVENT
BEGIN:VEVENT
DTSTART;VALUE=DATE:20250209
DTEND;VALUE=DATE:20250210
DTSTAMP:20260420T003932
CREATED:20250210T110222Z
LAST-MODIFIED:20250210T110222Z
UID:937861-1739059200-1739145599@europeannewsroom.com
SUMMARY:Elecciones parlamentarias en Kosovo
DESCRIPTION:
URL:https://europeannewsroom.com/es/agenda/elecciones-parlamentarias-en-kosovo/
LOCATION:Kosovo
END:VEVENT
BEGIN:VEVENT
DTSTART;VALUE=DATE:20250210
DTEND;VALUE=DATE:20250212
DTSTAMP:20260420T003932
CREATED:20250211T095016Z
LAST-MODIFIED:20250211T095016Z
UID:943230-1739145600-1739318399@europeannewsroom.com
SUMMARY:Cumbre de Acción sobre Inteligencia Artificial
DESCRIPTION:Participan Ursula von der Leyen\, Presidenta de la Comisión Europea\, y Henna Virkunnen y Stephané Séjourné\, Vicepresidentes de la Comisión Europea.\ngrabaciones de vídeo
URL:https://europeannewsroom.com/es/agenda/cumbre-de-accion-sobre-inteligencia-artificial/
LOCATION:Paris\, France
END:VEVENT
BEGIN:VEVENT
DTSTART;VALUE=DATE:20250210
DTEND;VALUE=DATE:20250212
DTSTAMP:20260420T003932
CREATED:20250211T095902Z
LAST-MODIFIED:20250211T095902Z
UID:943545-1739145600-1739318399@europeannewsroom.com
SUMMARY:La Vicepresidenta de la Comisión Europea\, Henna Virkunnen\, en París
DESCRIPTION:se reúne con D. Emmanuel Macron\, Presidente de Francia\, y con dirigentes y directores generales\nse reúne con D. Jean-Noël Barrot\, Ministro de Europa y Asuntos Exteriores de Francia\nse reúne con Luc Frieden\, Primer Ministro de Luxemburgo\, y con Stéphanie Obertin\, Ministra de Digitalización de Luxemburgo (11 de febrero)\nse reúne con François Bayrou\, Primer Ministro de Francia (12 de febrero).
URL:https://europeannewsroom.com/es/agenda/la-vicepresidenta-de-la-comision-europea-henna-virkunnen-en-paris/
LOCATION:Paris\, France
END:VEVENT
END:VCALENDAR