BEGIN:VCALENDAR
VERSION:2.0
PRODID:-//European Newsroom - ECPv6.15.18//NONSGML v1.0//EN
CALSCALE:GREGORIAN
METHOD:PUBLISH
X-ORIGINAL-URL:https://europeannewsroom.com/es/
X-WR-CALDESC:Eventos para European Newsroom
REFRESH-INTERVAL;VALUE=DURATION:PT1H
X-Robots-Tag:noindex
X-PUBLISHED-TTL:PT1H
BEGIN:VTIMEZONE
TZID:Europe/Berlin
BEGIN:DAYLIGHT
TZOFFSETFROM:+0100
TZOFFSETTO:+0200
TZNAME:CEST
DTSTART:20240331T010000
END:DAYLIGHT
BEGIN:STANDARD
TZOFFSETFROM:+0200
TZOFFSETTO:+0100
TZNAME:CET
DTSTART:20241027T010000
END:STANDARD
BEGIN:DAYLIGHT
TZOFFSETFROM:+0100
TZOFFSETTO:+0200
TZNAME:CEST
DTSTART:20250330T010000
END:DAYLIGHT
BEGIN:STANDARD
TZOFFSETFROM:+0200
TZOFFSETTO:+0100
TZNAME:CET
DTSTART:20251026T010000
END:STANDARD
BEGIN:DAYLIGHT
TZOFFSETFROM:+0100
TZOFFSETTO:+0200
TZNAME:CEST
DTSTART:20260329T010000
END:DAYLIGHT
BEGIN:STANDARD
TZOFFSETFROM:+0200
TZOFFSETTO:+0100
TZNAME:CET
DTSTART:20261025T010000
END:STANDARD
END:VTIMEZONE
BEGIN:VEVENT
DTSTART;VALUE=DATE:20250501
DTEND;VALUE=DATE:20250503
DTSTAMP:20260419T202216
CREATED:20250502T134205Z
LAST-MODIFIED:20250502T134205Z
UID:1213017-1746057600-1746230399@europeannewsroom.com
SUMMARY:Dan Jørgensen\, Comisario de la UE\, en Dinamarca
DESCRIPTION:visita la planta de biogás Nature Energy Nordfyn junto con Jeppe Bruus\, Ministro del Tripartito Verde (Bogense\, 1 de mayo);\nasiste al seguimiento de las Recomendaciones de Odense en Oden (Odense\, 2 de mayo).
URL:https://europeannewsroom.com/es/agenda/dan-jorgensen-comisario-de-la-ue-en-dinamarca/
LOCATION:Dinamarca
END:VEVENT
BEGIN:VEVENT
DTSTART;VALUE=DATE:20250503
DTEND;VALUE=DATE:20250504
DTSTAMP:20260419T202216
CREATED:20250429T144658Z
LAST-MODIFIED:20250429T144658Z
UID:1201685-1746230400-1746316799@europeannewsroom.com
SUMMARY:Día Mundial de la Libertad de Prensa
DESCRIPTION:
URL:https://europeannewsroom.com/es/agenda/dia-mundial-de-la-libertad-de-prensa-2/
LOCATION:Mundial
END:VEVENT
BEGIN:VEVENT
DTSTART;VALUE=DATE:20250505
DTEND;VALUE=DATE:20250508
DTSTAMP:20260419T202216
CREATED:20250502T122950Z
LAST-MODIFIED:20250502T122950Z
UID:1211829-1746403200-1746662399@europeannewsroom.com
SUMMARY:Conferencia de alto nivel sobre la política de materias primas de la UE
DESCRIPTION:
URL:https://europeannewsroom.com/es/agenda/conferencia-de-alto-nivel-sobre-la-politica-de-materias-primas-de-la-ue/
LOCATION:Cracovia\, Poland
END:VEVENT
BEGIN:VEVENT
DTSTART;VALUE=DATE:20250505
DTEND;VALUE=DATE:20250507
DTSTAMP:20260419T202216
CREATED:20250515T150826Z
LAST-MODIFIED:20250515T150826Z
UID:1253918-1746403200-1746575999@europeannewsroom.com
SUMMARY:La Presidenta de la Comisión Europea\, Ursula von der Leyen\, recibe a los Presidentes de los Grupos Políticos del Parlamento Europeo
DESCRIPTION:recibe a Manfred Weber\, Iratxe García-Pérez y Valérie Hayer\, Presidentes de los Grupos del Partido Popular Europeo\, la Alianza Progresista de Socialistas y Demócratas y Renovar Europa (5 de mayo);\nrecibe a Terry Reintke y Bas Eickhout\, Copresidentes del Grupo de los Verdes/ALE en el Parlamento Europeo (6 de mayo).
URL:https://europeannewsroom.com/es/agenda/la-presidenta-de-la-comision-europea-ursula-von-der-leyen-recibe-a-los-presidentes-de-los-grupos-politicos-del-parlamento-europeo-3/
LOCATION:Estrasburgo\, France
END:VEVENT
BEGIN:VEVENT
DTSTART;VALUE=DATE:20250505
DTEND;VALUE=DATE:20250510
DTSTAMP:20260419T202216
CREATED:20250515T151841Z
LAST-MODIFIED:20250515T151841Z
UID:1253943-1746403200-1746835199@europeannewsroom.com
SUMMARY:Apostolos Tzitzikostas\, Comisario de la UE en Grecia
DESCRIPTION:pronuncia un discurso con motivo del Día de Europa (Rodas\, 9 de mayo);\nse reúne con Nikolaos Asvestis\, Alcalde de Kastellorizo (Kastellorizo\, 9 de mayo);\nse reúne con Giorgios Chatzimarkos\, Gobernador Regional del Egeo Meridional (Rodas\, 8 de mayo);\npronuncia un discurso en la conferencia de la ESPO (Salónica\, 8 de mayo);\nse reúne con Stavros Arnaoutakis\, Gobernador Regional de Creta (Heraklion\, 6 de mayo).
URL:https://europeannewsroom.com/es/agenda/apostolos-tzitzikostas-comisario-de-la-ue-en-grecia/
LOCATION:Grecia
END:VEVENT
BEGIN:VEVENT
DTSTART;VALUE=DATE:20250505
DTEND;VALUE=DATE:20250507
DTSTAMP:20260419T202216
CREATED:20250515T152056Z
LAST-MODIFIED:20250515T152056Z
UID:1253947-1746403200-1746575999@europeannewsroom.com
SUMMARY:El Comisario europeo Josef Síkela en Madrid
DESCRIPTION:se reúne con el Presidente del Gobierno español\, Pedro Sánchez (5 de mayo);\nse reúne con el ministro español de Asuntos Exteriores\, José Manuel Albares\, (6 de mayo).
URL:https://europeannewsroom.com/es/agenda/el-comisario-europeo-josef-sikela-en-madrid/
LOCATION:Madrid\, Spain
END:VEVENT
BEGIN:VEVENT
DTSTART;VALUE=DATE:20250505
DTEND;VALUE=DATE:20250506
DTSTAMP:20260419T202216
CREATED:20250515T152416Z
LAST-MODIFIED:20250515T152416Z
UID:1253961-1746403200-1746489599@europeannewsroom.com
SUMMARY:La Presidenta de la Comisión Europea\, Úrsula Ursula\, se reúne con el Presidente francés Emmanuel Macron
DESCRIPTION:
URL:https://europeannewsroom.com/es/agenda/la-presidenta-de-la-comision-europea-ursula-ursula-se-reune-con-el-presidente-frances-emmanuel-macron/
LOCATION:Paris\, France
END:VEVENT
BEGIN:VEVENT
DTSTART;TZID=Europe/Berlin:20250505T170000
DTEND;TZID=Europe/Berlin:20250508T160000
DTSTAMP:20260419T202216
CREATED:20250502T123415Z
LAST-MODIFIED:20250502T123415Z
UID:1211879-1746464400-1746720000@europeannewsroom.com
SUMMARY:Sesión plenaria del Parlamento Europeo
DESCRIPTION:agenda\nlivestream\n\n5 de mayo\, 17:00 – 22:00\n6 de mayo\, 09:00 – 22:00\n7 de mayo\, 09.00 – 22:00\n8 de mayo\, 09:00 – 16:00
URL:https://europeannewsroom.com/es/agenda/sesion-plenaria-del-parlamento-europeo-14/
LOCATION:Parlamento Europeo Estrasburgo\, France
END:VEVENT
BEGIN:VEVENT
DTSTART;VALUE=DATE:20250507
DTEND;VALUE=DATE:20250509
DTSTAMP:20260419T202216
CREATED:20250502T124035Z
LAST-MODIFIED:20250502T124035Z
UID:1212466-1746576000-1746748799@europeannewsroom.com
SUMMARY:Reunión informal de Ministros de Asuntos Exteriores de la UE - Gymnich
DESCRIPTION:livestream
URL:https://europeannewsroom.com/es/agenda/reunion-informal-de-ministros-de-asuntos-exteriores-de-la-ue-gymnich/
LOCATION:Varsovia\, Poland
END:VEVENT
BEGIN:VEVENT
DTSTART;VALUE=DATE:20250507
DTEND;VALUE=DATE:20250508
DTSTAMP:20260419T202216
CREATED:20250515T145409Z
LAST-MODIFIED:20250515T145409Z
UID:1253875-1746576000-1746662399@europeannewsroom.com
SUMMARY:El Comisario europeo Glenn Micallef en Madrid
DESCRIPTION:pronuncia un discurso en la sesión plenaria de clausura del Foro Global de la Universidad Europea de Ciencias Sociales;\nse reúne con la Ministra española de Juventud\, Sira Abed Rego;\nvisita la Escuela de Cinematografía y del Audiovisual de Madrid.
URL:https://europeannewsroom.com/es/agenda/el-comisario-europeo-glenn-micallef-en-madrid/
LOCATION:Madrid\, Spain
END:VEVENT
BEGIN:VEVENT
DTSTART;VALUE=DATE:20250507
DTEND;VALUE=DATE:20250508
DTSTAMP:20260419T202216
CREATED:20250515T145650Z
LAST-MODIFIED:20250515T145713Z
UID:1253891-1746576000-1746662399@europeannewsroom.com
SUMMARY:Wopke Hoekstra\, Comisario europeo\, se reúne con Lars Aagaard\, Ministro danés del Clima
DESCRIPTION:
URL:https://europeannewsroom.com/es/agenda/wopke-hoekstra-comisario-europeo-se-reune-con-lars-aagaard-ministro-danes-del-clima/
LOCATION:Copenhague\, Denmark
END:VEVENT
BEGIN:VEVENT
DTSTART;VALUE=DATE:20250507
DTEND;VALUE=DATE:20250508
DTSTAMP:20260419T202216
CREATED:20250515T150046Z
LAST-MODIFIED:20250515T150046Z
UID:1253900-1746576000-1746662399@europeannewsroom.com
SUMMARY:Conferencia Ministerial de Copenhague sobre el Clima 2025
DESCRIPTION:participa el Comisario de la UE Wopke Hoekstra;\nmás información (en danés)
URL:https://europeannewsroom.com/es/agenda/conferencia-ministerial-de-copenhague-sobre-el-clima-2025/
LOCATION:Copenhague\, Denmark
END:VEVENT
BEGIN:VEVENT
DTSTART;VALUE=DATE:20250507
DTEND;VALUE=DATE:20250508
DTSTAMP:20260419T202216
CREATED:20250515T150136Z
LAST-MODIFIED:20250602T161555Z
UID:1253905-1746576000-1746662399@europeannewsroom.com
SUMMARY:La Alta Representante de la UE\, Kaja Kallas\, se reúne con el Ministro polaco de Asuntos Exteriores\, Radosław Sikorski
DESCRIPTION:
URL:https://europeannewsroom.com/es/agenda/la-alta-representante-de-la-ue-kaja-kallas-se-reune-con-el-ministro-polaco-de-asuntos-exteriores-radoslaw-sikorski/
LOCATION:Varsovia\, Poland
END:VEVENT
BEGIN:VEVENT
DTSTART;VALUE=DATE:20250508
DTEND;VALUE=DATE:20250509
DTSTAMP:20260419T202216
CREATED:20250502T124135Z
LAST-MODIFIED:20250502T124135Z
UID:1212515-1746662400-1746748799@europeannewsroom.com
SUMMARY:80 aniversario del final de la Segunda Guerra Mundial en Europa
DESCRIPTION:
URL:https://europeannewsroom.com/es/agenda/80-aniversario-del-final-de-la-segunda-guerra-mundial-en-europa/
LOCATION:Europa
END:VEVENT
BEGIN:VEVENT
DTSTART;VALUE=DATE:20250508
DTEND;VALUE=DATE:20250512
DTSTAMP:20260419T202216
CREATED:20250515T135830Z
LAST-MODIFIED:20250515T135830Z
UID:1253751-1746662400-1747007999@europeannewsroom.com
SUMMARY:El Comisario europeo Magnus Brunner en Austria
DESCRIPTION:participa en un diálogo con jóvenes en la ORF de Vorarlberg (Vorarlberg\, 8 de mayo);\npronuncia un discurso sobre Europa en el Consejo Nacional de Europa (Viena\, 9 de mayo);\nparticipa en un diálogo de jóvenes en la Casa de Europa (Viena\, 9 de mayo);\nse reúne con el ministro austriaco de Economía\, Wolfgang Hattmannsdorfer (Viena\, 10 de mayo);\nparticipa en la ceremonia de liberación de Mauthausen (Mauthausen\, 11 de mayo).
URL:https://europeannewsroom.com/es/agenda/el-comisario-europeo-magnus-brunner-en-austria/
LOCATION:Austria
END:VEVENT
BEGIN:VEVENT
DTSTART;VALUE=DATE:20250508
DTEND;VALUE=DATE:20250510
DTSTAMP:20260419T202216
CREATED:20250515T143341Z
LAST-MODIFIED:20250515T143341Z
UID:1253834-1746662400-1746835199@europeannewsroom.com
SUMMARY:La Comisaria de la UE\, Dubravka Šuica\, en Zagreb
DESCRIPTION:se reúne con representantes del Banco Europeo de Inversiones y de las principales instituciones económicas y financieras croatas e internacionales en la Representación de la Comisión Europea (8 de mayo)\nparticipa en las celebraciones del Día Europeo en la Casa de Europa (9 de mayo)
URL:https://europeannewsroom.com/es/agenda/la-comisaria-de-la-ue-dubravka-suica-en-zagreb/
LOCATION:Zagreb\, Croatie (Nom local : Hrvatska)
END:VEVENT
BEGIN:VEVENT
DTSTART;VALUE=DATE:20250508
DTEND;VALUE=DATE:20250510
DTSTAMP:20260419T202216
CREATED:20250515T143520Z
LAST-MODIFIED:20250515T143520Z
UID:1253838-1746662400-1746835199@europeannewsroom.com
SUMMARY:Roxana Mînzatu\, Vicepresidenta de la Comisión Europea\, en Bucarest
DESCRIPTION:visita el Centro Europeo de Competencia en Ciberseguridad;\nse reúne con estudiantes rumanos con motivo del Día de Europa;\nvisita la Agencia Nacional Rumana de Programas Comunitarios en los Ámbitos de la Educación y la Formación Profesional.
URL:https://europeannewsroom.com/es/agenda/roxana-minzatu-vicepresidenta-de-la-comision-europea-en-bucarest/
LOCATION:Bucharest\, Romania
END:VEVENT
BEGIN:VEVENT
DTSTART;VALUE=DATE:20250508
DTEND;VALUE=DATE:20250510
DTSTAMP:20260419T202216
CREATED:20250515T144142Z
LAST-MODIFIED:20250515T144142Z
UID:1253853-1746662400-1746835199@europeannewsroom.com
SUMMARY:La Vicepresidenta de la Comisión Europea\, Roxana Mînzatu\, en España
DESCRIPTION:se reúne con el Presidente de Cataluña\, Salvador Illa;\nrecibe un premio a la integración europea en nombre del programa ERASMUS (Barcelona\, 7 de mayo);\nse reúne con la Ministra española de Empleo\, Yolanda Díaz Pérez;\nse reúne con el Presidente del Gobierno español\, Pedro Sánchez;\nse reúne con la Vicepresidenta del Gobierno español\, Yolanda Díaz (Madrid\, 8 de mayo).
URL:https://europeannewsroom.com/es/agenda/la-vicepresidenta-de-la-comision-europea-roxana-minzatu-en-espana/
LOCATION:España
END:VEVENT
BEGIN:VEVENT
DTSTART;VALUE=DATE:20250508
DTEND;VALUE=DATE:20250510
DTSTAMP:20260419T202216
CREATED:20250515T144306Z
LAST-MODIFIED:20250515T144306Z
UID:1253858-1746662400-1746835199@europeannewsroom.com
SUMMARY:Raffaele Fitto\, Vicepresidente de la Comisión Europea\, en España
DESCRIPTION:se reúne con la Ministra española de Hacienda\, María Jesús Montero\nse reúne con la Presidenta de la Comunidad de Madrid\, Isabel Díaz-Ayuso (Madrid\, 7 de mayo)\nse reúne con la Alcaldesa de Valencia\, María José Catalá\nse reúne con el Presidente de la Generalitat Valenciana\, Carlos Mazón (Valencia\, 8 de mayo).
URL:https://europeannewsroom.com/es/agenda/raffaele-fitto-vicepresidente-de-la-comision-europea-en-espana/
LOCATION:España
END:VEVENT
BEGIN:VEVENT
DTSTART;VALUE=DATE:20250508
DTEND;VALUE=DATE:20250510
DTSTAMP:20260419T202216
CREATED:20250515T145105Z
LAST-MODIFIED:20250515T145105Z
UID:1253872-1746662400-1746835199@europeannewsroom.com
SUMMARY:Foro de Seguridad de Kiev
DESCRIPTION:mensaje en vídeo de Henna Virkunnen\, Vicepresidenta de la Comisión Europea (8 de mayo);\nmás información.
URL:https://europeannewsroom.com/es/agenda/foro-de-seguridad-de-kiev/
LOCATION:Kiev\, Ukraine
END:VEVENT
BEGIN:VEVENT
DTSTART;VALUE=DATE:20250509
DTEND;VALUE=DATE:20250510
DTSTAMP:20260419T202216
CREATED:20250502T130157Z
LAST-MODIFIED:20250502T130157Z
UID:1212946-1746748800-1746835199@europeannewsroom.com
SUMMARY:Día de Europa
DESCRIPTION:
URL:https://europeannewsroom.com/es/agenda/dia-de-europa/
LOCATION:Unión Europea
END:VEVENT
BEGIN:VEVENT
DTSTART;VALUE=DATE:20250509
DTEND;VALUE=DATE:20250512
DTSTAMP:20260419T202216
CREATED:20250515T140444Z
LAST-MODIFIED:20250515T140444Z
UID:1253755-1746748800-1747007999@europeannewsroom.com
SUMMARY:La Comisaria de la UE Marta Kos en la República de Moldavia
DESCRIPTION:se reúne con la Presidenta moldava Maia Sandu (9 de mayo\, Chișinău);\nse reúne con alcaldes de la región Norte (Bălți\, 10 de mayo);\nse reúne con alcaldes de la región;\nse reúne con la juventud y la sociedad civil (Comrat\, 11 de mayo).
URL:https://europeannewsroom.com/es/agenda/la-comisaria-de-la-ue-marta-kos-en-la-republica-de-moldavia/
LOCATION:República de Moldavia
END:VEVENT
BEGIN:VEVENT
DTSTART;VALUE=DATE:20250509
DTEND;VALUE=DATE:20250510
DTSTAMP:20260419T202216
CREATED:20250515T141941Z
LAST-MODIFIED:20250515T141941Z
UID:1253799-1746748800-1746835199@europeannewsroom.com
SUMMARY:El Comisario europeo Piotr Serafin en Polonia
DESCRIPTION:se reúne con el Ministro polaco de Asuntos Europeos\, Adam Szłapka;\nSe reúne con el Ministro polaco de Agricultura\, Czesław Siekierski;\nvisita el Centro de Supercomputación y Redes de Poznan.
URL:https://europeannewsroom.com/es/agenda/el-comisario-europeo-piotr-serafin-en-polonia/
LOCATION:Poznan\, Pologne
END:VEVENT
BEGIN:VEVENT
DTSTART;VALUE=DATE:20250509
DTEND;VALUE=DATE:20250510
DTSTAMP:20260419T202216
CREATED:20250515T142754Z
LAST-MODIFIED:20250515T142754Z
UID:1253815-1746748800-1746835199@europeannewsroom.com
SUMMARY:La Presidenta de la Comisión Europea\, Ursula von der Leyen\, visita la casa Schuman
DESCRIPTION:con motivo del 75 aniversario de la declaración Schuman;\njunto con el Primer Ministro de Luxemburgo Frieden\, el Presidente del Parlamento Europeo Metsola y el Presidente del Consejo Europeo Costa.
URL:https://europeannewsroom.com/es/agenda/la-presidenta-de-la-comision-europea-ursula-von-der-leyen-visita-la-casa-schuman/
LOCATION:Luxemburgo\, Luxembourg
END:VEVENT
BEGIN:VEVENT
DTSTART;VALUE=DATE:20250509
DTEND;VALUE=DATE:20250510
DTSTAMP:20260419T202216
CREATED:20250515T142956Z
LAST-MODIFIED:20250515T142956Z
UID:1253820-1746748800-1746835199@europeannewsroom.com
SUMMARY:Dan Jørgensen\, Comisario de la UE\, pronuncia el discurso inaugural del Día de Europa en la Universidad de Copenhague
DESCRIPTION:
URL:https://europeannewsroom.com/es/agenda/dan-jorgensen-comisario-de-la-ue-pronuncia-el-discurso-inaugural-del-dia-de-europa-en-la-universidad-de-copenhague/
LOCATION:Copenhague\, Denmark
END:VEVENT
BEGIN:VEVENT
DTSTART;VALUE=DATE:20250509
DTEND;VALUE=DATE:20250510
DTSTAMP:20260419T202216
CREATED:20250515T151022Z
LAST-MODIFIED:20250515T151210Z
UID:1253923-1746748800-1746835199@europeannewsroom.com
SUMMARY:La Presidenta de la Comisión Europea Ursula von der Leyen recibe al Canciller Federal alemán Friedrich Merz
DESCRIPTION:
URL:https://europeannewsroom.com/es/agenda/la-presidenta-von-der-leyen-recibe-al-canciller-federal-aleman-friedrich-merz/
LOCATION:Bruselas\, Bélgica
END:VEVENT
BEGIN:VEVENT
DTSTART;VALUE=DATE:20250511
DTEND;VALUE=DATE:20250512
DTSTAMP:20260419T202216
CREATED:20250515T141724Z
LAST-MODIFIED:20250515T141724Z
UID:1253794-1746921600-1747007999@europeannewsroom.com
SUMMARY:La Vicepresidenta de la Comisión Europea\, Teresa Ribera\, en Praga
DESCRIPTION:visita Chequia para una misión institucional en el marco de las actividades de acercamiento a los Estados miembros.
URL:https://europeannewsroom.com/es/agenda/la-vicepresidenta-de-la-comision-europea-teresa-ribera-en-praga/
LOCATION:Praga\, Czech Republic
END:VEVENT
BEGIN:VEVENT
DTSTART;VALUE=DATE:20250511
DTEND;VALUE=DATE:20250513
DTSTAMP:20260419T202216
CREATED:20250521T140101Z
LAST-MODIFIED:20250521T140101Z
UID:1268266-1746921600-1747094399@europeannewsroom.com
SUMMARY:Conferencia de Presidentes de los Parlamentos de la Unión Europea
DESCRIPTION:programa
URL:https://europeannewsroom.com/es/agenda/conferencia-de-presidentes-de-los-parlamentos-de-la-union-europea/
LOCATION:Budapest
END:VEVENT
BEGIN:VEVENT
DTSTART;VALUE=DATE:20250512
DTEND;VALUE=DATE:20250514
DTSTAMP:20260419T202216
CREATED:20250513T134913Z
LAST-MODIFIED:20250513T134913Z
UID:1248728-1747008000-1747180799@europeannewsroom.com
SUMMARY:Reunión informal de ministros de Energía de la UE
DESCRIPTION:livestream (13 de mayo)
URL:https://europeannewsroom.com/es/agenda/reunion-informal-de-ministros-de-energia-de-la-ue-2/
LOCATION:Varsovia\, Poland
END:VEVENT
BEGIN:VEVENT
DTSTART;VALUE=DATE:20250512
DTEND;VALUE=DATE:20250514
DTSTAMP:20260419T202216
CREATED:20250521T142700Z
LAST-MODIFIED:20250521T142700Z
UID:1268348-1747008000-1747180799@europeannewsroom.com
SUMMARY:Consejo de Educación\, Juventud\, Cultura y Deporte de la UE
DESCRIPTION:
URL:https://europeannewsroom.com/es/agenda/consejo-de-educacion-juventud-cultura-y-deporte-de-la-ue-3/
LOCATION:Bruselas\, Bélgica
END:VEVENT
END:VCALENDAR