BEGIN:VCALENDAR
VERSION:2.0
PRODID:-//European Newsroom - ECPv6.15.18//NONSGML v1.0//EN
CALSCALE:GREGORIAN
METHOD:PUBLISH
X-ORIGINAL-URL:https://europeannewsroom.com/fr/
X-WR-CALDESC:Évènements pour European Newsroom
REFRESH-INTERVAL;VALUE=DURATION:PT1H
X-Robots-Tag:noindex
X-PUBLISHED-TTL:PT1H
BEGIN:VTIMEZONE
TZID:Europe/Berlin
BEGIN:DAYLIGHT
TZOFFSETFROM:+0100
TZOFFSETTO:+0200
TZNAME:CEST
DTSTART:20250330T010000
END:DAYLIGHT
BEGIN:STANDARD
TZOFFSETFROM:+0200
TZOFFSETTO:+0100
TZNAME:CET
DTSTART:20251026T010000
END:STANDARD
BEGIN:DAYLIGHT
TZOFFSETFROM:+0100
TZOFFSETTO:+0200
TZNAME:CEST
DTSTART:20260329T010000
END:DAYLIGHT
BEGIN:STANDARD
TZOFFSETFROM:+0200
TZOFFSETTO:+0100
TZNAME:CET
DTSTART:20261025T010000
END:STANDARD
BEGIN:DAYLIGHT
TZOFFSETFROM:+0100
TZOFFSETTO:+0200
TZNAME:CEST
DTSTART:20270328T010000
END:DAYLIGHT
BEGIN:STANDARD
TZOFFSETFROM:+0200
TZOFFSETTO:+0100
TZNAME:CET
DTSTART:20271031T010000
END:STANDARD
END:VTIMEZONE
BEGIN:VEVENT
DTSTART;VALUE=DATE:20260112
DTEND;VALUE=DATE:20260113
DTSTAMP:20260423T105059
CREATED:20260123T074544Z
LAST-MODIFIED:20260123T074544Z
UID:2067751-1768176000-1768262399@europeannewsroom.com
SUMMARY:Réunion des directeurs généraux chargés des affaires européennes
DESCRIPTION:
URL:https://europeannewsroom.com/fr/agenda/reunion-des-directeurs-generaux-charges-des-affaires-europeennes/
LOCATION:Pafos\, Cyprus
END:VEVENT
BEGIN:VEVENT
DTSTART;TZID=Europe/Berlin:20260114T200000
DTEND;TZID=Europe/Berlin:20260114T220000
DTSTAMP:20260423T105059
CREATED:20260123T074806Z
LAST-MODIFIED:20260123T074806Z
UID:2067758-1768420800-1768428000@europeannewsroom.com
SUMMARY:Événement « L'Europe locale : la démocratie à l'ère numérique »
DESCRIPTION:
URL:https://europeannewsroom.com/fr/agenda/evenement-leurope-locale-la-democratie-a-lere-numerique/
LOCATION:Amsterdam\, Netherlands
END:VEVENT
BEGIN:VEVENT
DTSTART;VALUE=DATE:20260115
DTEND;VALUE=DATE:20260117
DTSTAMP:20260423T105059
CREATED:20260123T075053Z
LAST-MODIFIED:20260123T075053Z
UID:2067764-1768435200-1768607999@europeannewsroom.com
SUMMARY:Visite du collège des commissaires européens à Chypre
DESCRIPTION:diffusion en direct
URL:https://europeannewsroom.com/fr/agenda/visite-du-college-des-commissaires-europeens-a-chypre/
LOCATION:Lemesos\, Cyprus
END:VEVENT
BEGIN:VEVENT
DTSTART;TZID=Europe/Berlin:20260115T090000
DTEND;TZID=Europe/Berlin:20260115T130000
DTSTAMP:20260423T105059
CREATED:20260123T075428Z
LAST-MODIFIED:20260123T075428Z
UID:2067772-1768467600-1768482000@europeannewsroom.com
SUMMARY:Réunions des commissions du Parlement européen
DESCRIPTION:diffusion en direct;\nConsultez le calendrier pour plus de détails
URL:https://europeannewsroom.com/fr/agenda/reunions-des-commissions-du-parlement-europeen-2/
LOCATION:Bruxelles\, Belgique
END:VEVENT
BEGIN:VEVENT
DTSTART;TZID=Europe/Berlin:20260115T123000
DTEND;TZID=Europe/Berlin:20260115T133000
DTSTAMP:20260423T105059
CREATED:20260123T075647Z
LAST-MODIFIED:20260123T075647Z
UID:2067777-1768480200-1768483800@europeannewsroom.com
SUMMARY:Événement « Quelle est la situation actuelle des droits des consommateurs pour les personnes handicapées ? »
DESCRIPTION:
URL:https://europeannewsroom.com/fr/agenda/evenement-quelle-est-la-situation-actuelle-des-droits-des-consommateurs-pour-les-personnes-handicapees/
LOCATION:Luxembourg\, Luxembourg
END:VEVENT
BEGIN:VEVENT
DTSTART;VALUE=DATE:20260117
DTEND;VALUE=DATE:20260118
DTSTAMP:20260423T105059
CREATED:20260123T075946Z
LAST-MODIFIED:20260123T075946Z
UID:2067783-1768608000-1768694399@europeannewsroom.com
SUMMARY:Cérémonie de signature UE-Mercosur
DESCRIPTION:plus d’informations\ndiffusion en direct
URL:https://europeannewsroom.com/fr/agenda/ceremonie-de-signature-ue-mercosur/
LOCATION:Asunción\, Paraguay
END:VEVENT
BEGIN:VEVENT
DTSTART;VALUE=DATE:20260119
DTEND;VALUE=DATE:20260124
DTSTAMP:20260423T105059
CREATED:20260123T080140Z
LAST-MODIFIED:20260123T080140Z
UID:2067789-1768780800-1769212799@europeannewsroom.com
SUMMARY:Forum économique mondial
DESCRIPTION:programme
URL:https://europeannewsroom.com/fr/agenda/forum-economique-mondial/
LOCATION:Davos\, Switzerland
END:VEVENT
BEGIN:VEVENT
DTSTART;TZID=Europe/Berlin:20260119T170000
DTEND;TZID=Europe/Berlin:20260122T160000
DTSTAMP:20260423T105059
CREATED:20260123T080403Z
LAST-MODIFIED:20260123T080403Z
UID:2067794-1768842000-1769097600@europeannewsroom.com
SUMMARY:Session plénière du Parlement européen
DESCRIPTION:ordre du jour\ndiffusion en direct
URL:https://europeannewsroom.com/fr/agenda/session-pleniere-du-parlement-europeen-29/
LOCATION:Strasbourg\, France
END:VEVENT
BEGIN:VEVENT
DTSTART;TZID=Europe/Berlin:20260120T100000
DTEND;TZID=Europe/Berlin:20260120T100000
DTSTAMP:20260423T105059
CREATED:20260123T080659Z
LAST-MODIFIED:20260123T080659Z
UID:2067801-1768903200-1768903200@europeannewsroom.com
SUMMARY:Conseil des affaires économiques et financières de l'UE
DESCRIPTION:ordre du jour\ndiffusion en direct
URL:https://europeannewsroom.com/fr/agenda/conseil-des-affaires-economiques-et-financieres-de-lue-11/
LOCATION:Bruxelles\, Belgique
END:VEVENT
BEGIN:VEVENT
DTSTART;VALUE=DATE:20260121
DTEND;VALUE=DATE:20260124
DTSTAMP:20260423T105059
CREATED:20260123T080909Z
LAST-MODIFIED:20260123T080909Z
UID:2067807-1768953600-1769212799@europeannewsroom.com
SUMMARY:Réunion informelle des ministres de la Justice et des Affaires intérieures de l'UE
DESCRIPTION:diffusion en direct
URL:https://europeannewsroom.com/fr/agenda/reunion-informelle-des-ministres-de-la-justice-et-des-affaires-interieures-de-lue-5/
LOCATION:Lefkosia\, Cyprus
END:VEVENT
BEGIN:VEVENT
DTSTART;VALUE=DATE:20260126
DTEND;VALUE=DATE:20260128
DTSTAMP:20260423T105059
CREATED:20260129T082338Z
LAST-MODIFIED:20260129T082338Z
UID:2091435-1769385600-1769558399@europeannewsroom.com
SUMMARY:Conférence de haut niveau sur la santé
DESCRIPTION:
URL:https://europeannewsroom.com/fr/agenda/conference-de-haut-niveau-sur-la-sante/
LOCATION:Lefkosia\, Cyprus
END:VEVENT
BEGIN:VEVENT
DTSTART;TZID=Europe/Berlin:20260126T100000
DTEND;TZID=Europe/Berlin:20260126T100000
DTSTAMP:20260423T105059
CREATED:20260129T082614Z
LAST-MODIFIED:20260129T082614Z
UID:2091440-1769421600-1769421600@europeannewsroom.com
SUMMARY:Conseil Agriculture et Pêche de l'UE
DESCRIPTION:ordre du jour\ndiffusion en direct
URL:https://europeannewsroom.com/fr/agenda/conseil-agriculture-et-peche-de-lue-11/
LOCATION:Bruxelles\, Belgique
END:VEVENT
BEGIN:VEVENT
DTSTART;VALUE=DATE:20260127
DTEND;VALUE=DATE:20260128
DTSTAMP:20260423T105059
CREATED:20260129T082915Z
LAST-MODIFIED:20260129T082915Z
UID:2091447-1769472000-1769558399@europeannewsroom.com
SUMMARY:Sommet UE-Inde
DESCRIPTION:La présidente de la Commission européenne\, Ursula von der Leyen\, et le président du Conseil européen\, António Costa\, y participent ;\ndiffusion en direct.
URL:https://europeannewsroom.com/fr/agenda/sommet-ue-inde/
LOCATION:New Dehli\, India
END:VEVENT
BEGIN:VEVENT
DTSTART;VALUE=DATE:20260127
DTEND;VALUE=DATE:20260128
DTSTAMP:20260423T105059
CREATED:20260129T083310Z
LAST-MODIFIED:20260129T083310Z
UID:2091453-1769472000-1769558399@europeannewsroom.com
SUMMARY:Journée internationale dédiée à la mémoire de l'Holocauste
DESCRIPTION:marquée par une cérémonie solennelle au Parlement européen à Bruxelles (12h00 – 13h00 en direct)\,\nplus d’informations.
URL:https://europeannewsroom.com/fr/agenda/journee-internationale-dediee-a-la-memoire-de-lholocauste/
LOCATION:Global
END:VEVENT
BEGIN:VEVENT
DTSTART;TZID=Europe/Berlin:20260129T103000
DTEND;TZID=Europe/Berlin:20260129T103000
DTSTAMP:20260423T105059
CREATED:20260129T083629Z
LAST-MODIFIED:20260129T083629Z
UID:2091483-1769682600-1769682600@europeannewsroom.com
SUMMARY:Conseil des affaires étrangères de l'UE
DESCRIPTION:ordre du jour\ndiffusion en direct
URL:https://europeannewsroom.com/fr/agenda/conseil-des-affaires-etrangeres-de-lue-22/
LOCATION:Bruxelles\, Belgique
END:VEVENT
END:VCALENDAR